Workbook

Sheet فروردین
B1: فعاليت هاي اجرايي مراكزبهداشتي ودرماني ............. در زمينه غربالگري و شناسايي موارد آلوده به شپش سال
A2: ردیف | B2: فـــــــــــعـــــــالـــــیـــــت مـــــــرکــــــز
D3: تعداد افراد | E3: تعداد افراد | F3: زن | J3: مرد | N3: جمع کل | O3: محل سكونت | R3: نوع شپش | U3: سابقه آلودگي | Y3: نوع درمان
D4: معاينه شده | E4: آلوده | F4: زير 6 سال | G4: 6تا 12 سال | H4: 13تا18سال | I4: بالايي 18 سال | J4: زير 6 سال | K4: 6تا 12 سال | L4: 13تا18سال | M4: بالايي 18 سال | O4: روستا | P4: شهر | Q4: جمع کل | R4: سر | S4: تن | T4: عانه | U4: جمع کل | V4: دارد | W4: ندارد | X4: جمع کل | Y4: شامپو پرمترین | Z4: لوسیون دایمتیکون | AA4: کرم پرمترین | AB4: لوسیون لیندان | AC4: اسپری درمین
A5: 1 | B5: خانه بهداشت | C5: ایرانی | N5: =F5+G5+H5+I5+J5+K5+L5+M5 -> 0 | Q5: =O5+P5 -> 0 | U5: =R5+S5+T5 -> 0 | X5: =V5+W5 -> 0
C6: افاغنه | N6: =F6+G6+H6+I6+J6+K6+L6+M6 -> 0 | Q6: =O6+P6 -> 0 | U6: =R6+S6+T6 -> 0 | X6: =V6+W6 -> 0
A7: 2 | B7: خانه بهداشت | C7: ایرانی | N7: =F7+G7+H7+I7+J7+K7+L7+M7 -> 0 | Q7: =O7+P7 -> 0 | U7: =R7+S7+T7 -> 0 | X7: =V7+W7 -> 0
C8: افاغنه | N8: =F8+G8+H8+I8+J8+K8+L8+M8 -> 0 | Q8: =O8+P8 -> 0 | U8: =R8+S8+T8 -> 0 | X8: =V8+W8 -> 0
A9: 3 | B9: خانه بهداشت | C9: ایرانی | N9: =F9+G9+H9+I9+J9+K9+L9+M9 -> 0 | Q9: =O9+P9 -> 0 | U9: =R9+S9+T9 -> 0 | X9: =V9+W9 -> 0
C10: افاغنه | N10: =F10+G10+H10+I10+J10+K10+L10+M10 -> 0 | Q10: =O10+P10 -> 0 | U10: =R10+S10+T10 -> 0 | X10: =V10+W10 -> 0
A11: 4 | B11: خانه بهداشت | C11: ایرانی | N11: =F11+G11+H11+I11+J11+K11+L11+M11 -> 0 | Q11: =O11+P11 -> 0 | U11: =R11+S11+T11 -> 0 | X11: =V11+W11 -> 0
C12: افاغنه | N12: =F12+G12+H12+I12+J12+K12+L12+M12 -> 0 | Q12: =O12+P12 -> 0 | U12: =R12+S12+T12 -> 0 | X12: =V12+W12 -> 0
A13: 5 | B13: خانه بهداشت | C13: ایرانی | N13: =F13+G13+H13+I13+J13+K13+L13+M13 -> 0 | Q13: =O13+P13 -> 0 | U13: =R13+S13+T13 -> 0 | X13: =V13+W13 -> 0
C14: افاغنه | N14: =F14+G14+H14+I14+J14+K14+L14+M14 -> 0 | Q14: =O14+P14 -> 0 | U14: =R14+S14+T14 -> 0 | X14: =V14+W14 -> 0
A15: 6 | B15: جمع کل | C15: ایرانی | D15: =D5+D7+D9+D11+D13 -> 0 | E15: =E5+E7+E9+E11+E13 -> 0 | F15: =F5+F7+F9+F11+F13 -> 0 | G15: =G5+G7+G9+G11+G13 -> 0 | H15: =H5+H7+H9+H11+H13 -> 0 | I15: =I5+I7+I9+I11+I13 -> 0 | J15: =J5+J7+J9+J11+J13 -> 0 | K15: =K5+K7+K9+K11+K13 -> 0 | ... AC15: =AC5+AC7+AC9+AC11+AC13 -> 0
C16: افاغنه | D16: =D6+D8+D10+D12+D14 -> 0 | E16: =E6+E8+E10+E12+E14 -> 0 | F16: =F6+F8+F10+F12+F14 -> 0 | G16: =G6+G8+G10+G12+G14 -> 0 | H16: =H6+H8+H10+H12+H14 -> 0 | I16: =I6+I8+I10+I12+I14 -> 0 | J16: =J6+J8+J10+J12+J14 -> 0 | K16: =K6+K8+K10+K12+K14 -> 0 | ... AC16: =AC6+AC8+AC10+AC12+AC14 -> 0

Sheet اردیبهشت
B1: فعاليت هاي اجرايي مراكزبهداشتي ودرماني ............. در زمينه غربالگري و شناسايي موارد آلوده به شپش سال
A2: ردیف | B2: فـــــــــــعـــــــالـــــیـــــت مـــــــرکــــــز
D3: تعداد افراد | E3: تعداد افراد | F3: زن | J3: مرد | N3: جمع کل | O3: محل سكونت | R3: نوع شپش | U3: سابقه آلودگي | Y3: نوع درمان
D4: معاينه شده | E4: آلوده | F4: زير 6 سال | G4: 6تا 12 سال | H4: 13تا18سال | I4: بالايي 18 سال | J4: زير 6 سال | K4: 6تا 12 سال | L4: 13تا18سال | M4: بالايي 18 سال | O4: روستا | P4: شهر | Q4: جمع کل | R4: سر | S4: تن | T4: عانه | U4: جمع کل | V4: دارد | W4: ندارد | X4: جمع کل | Y4: شامپو پرمترین | Z4: لوسیون دایمتیکون | AA4: کرم پرمترین | AB4: لوسیون لیندان | AC4: اسپری درمین
A5: 1 | B5: خانه بهداشت | C5: ایرانی | N5: =F5+G5+H5+I5+J5+K5+L5+M5 -> 0 | Q5: =O5+P5 -> 0 | U5: =R5+S5+T5 -> 0 | X5: =V5+W5 -> 0
C6: افاغنه | N6: =F6+G6+H6+I6+J6+K6+L6+M6 -> 0 | Q6: =O6+P6 -> 0 | U6: =R6+S6+T6 -> 0 | X6: =V6+W6 -> 0
A7: 2 | B7: خانه بهداشت | C7: ایرانی | N7: =F7+G7+H7+I7+J7+K7+L7+M7 -> 0 | Q7: =O7+P7 -> 0 | U7: =R7+S7+T7 -> 0 | X7: =V7+W7 -> 0
C8: افاغنه | N8: =F8+G8+H8+I8+J8+K8+L8+M8 -> 0 | Q8: =O8+P8 -> 0 | U8: =R8+S8+T8 -> 0 | X8: =V8+W8 -> 0
A9: 3 | B9: خانه بهداشت | C9: ایرانی | N9: =F9+G9+H9+I9+J9+K9+L9+M9 -> 0 | Q9: =O9+P9 -> 0 | U9: =R9+S9+T9 -> 0 | X9: =V9+W9 -> 0
C10: افاغنه | N10: =F10+G10+H10+I10+J10+K10+L10+M10 -> 0 | Q10: =O10+P10 -> 0 | U10: =R10+S10+T10 -> 0 | X10: =V10+W10 -> 0
A11: 4 | B11: خانه بهداشت | C11: ایرانی | N11: =F11+G11+H11+I11+J11+K11+L11+M11 -> 0 | Q11: =O11+P11 -> 0 | U11: =R11+S11+T11 -> 0 | X11: =V11+W11 -> 0
C12: افاغنه | N12: =F12+G12+H12+I12+J12+K12+L12+M12 -> 0 | Q12: =O12+P12 -> 0 | U12: =R12+S12+T12 -> 0 | X12: =V12+W12 -> 0
A13: 5 | B13: خانه بهداشت | C13: ایرانی | N13: =F13+G13+H13+I13+J13+K13+L13+M13 -> 0 | Q13: =O13+P13 -> 0 | U13: =R13+S13+T13 -> 0 | X13: =V13+W13 -> 0
C14: افاغنه | N14: =F14+G14+H14+I14+J14+K14+L14+M14 -> 0 | Q14: =O14+P14 -> 0 | U14: =R14+S14+T14 -> 0 | X14: =V14+W14 -> 0
A15: 6 | B15: جمع کل | C15: ایرانی | D15: =D5+D7+D9+D11+D13 -> 0 | E15: =E5+E7+E9+E11+E13 -> 0 | F15: =F5+F7+F9+F11+F13 -> 0 | G15: =G5+G7+G9+G11+G13 -> 0 | H15: =H5+H7+H9+H11+H13 -> 0 | I15: =I5+I7+I9+I11+I13 -> 0 | J15: =J5+J7+J9+J11+J13 -> 0 | K15: =K5+K7+K9+K11+K13 -> 0 | ... AC15: =AC5+AC7+AC9+AC11+AC13 -> 0
C16: افاغنه | D16: =D6+D8+D10+D12+D14 -> 0 | E16: =E6+E8+E10+E12+E14 -> 0 | F16: =F6+F8+F10+F12+F14 -> 0 | G16: =G6+G8+G10+G12+G14 -> 0 | H16: =H6+H8+H10+H12+H14 -> 0 | I16: =I6+I8+I10+I12+I14 -> 0 | J16: =J6+J8+J10+J12+J14 -> 0 | K16: =K6+K8+K10+K12+K14 -> 0 | ... AC16: =AC6+AC8+AC10+AC12+AC14 -> 0

Sheet خرداد
B1: فعاليت هاي اجرايي مراكزبهداشتي ودرماني ............. در زمينه غربالگري و شناسايي موارد آلوده به شپش سال
A2: ردیف | B2: فـــــــــــعـــــــالـــــیـــــت مـــــــرکــــــز
D3: تعداد افراد | E3: تعداد افراد | F3: زن | J3: مرد | N3: جمع کل | O3: محل سكونت | R3: نوع شپش | U3: سابقه آلودگي | Y3: نوع درمان
D4: معاينه شده | E4: آلوده | F4: زير 6 سال | G4: 6تا 12 سال | H4: 13تا18سال | I4: بالايي 18 سال | J4: زير 6 سال | K4: 6تا 12 سال | L4: 13تا18سال | M4: بالايي 18 سال | O4: روستا | P4: شهر | Q4: جمع کل | R4: سر | S4: تن | T4: عانه | U4: جمع کل | V4: دارد | W4: ندارد | X4: جمع کل | Y4: شامپو پرمترین | Z4: لوسیون دایمتیکون | AA4: کرم پرمترین | AB4: لوسیون لیندان | AC4: اسپری درمین
A5: 1 | B5: خانه بهداشت | C5: ایرانی | N5: =F5+G5+H5+I5+J5+K5+L5+M5 -> 0 | Q5: =O5+P5 -> 0 | U5: =R5+S5+T5 -> 0 | X5: =V5+W5 -> 0
C6: افاغنه | N6: =F6+G6+H6+I6+J6+K6+L6+M6 -> 0 | Q6: =O6+P6 -> 0 | U6: =R6+S6+T6 -> 0 | X6: =V6+W6 -> 0
A7: 2 | B7: خانه بهداشت | C7: ایرانی | N7: =F7+G7+H7+I7+J7+K7+L7+M7 -> 0 | Q7: =O7+P7 -> 0 | U7: =R7+S7+T7 -> 0 | X7: =V7+W7 -> 0
C8: افاغنه | N8: =F8+G8+H8+I8+J8+K8+L8+M8 -> 0 | Q8: =O8+P8 -> 0 | U8: =R8+S8+T8 -> 0 | X8: =V8+W8 -> 0
A9: 3 | B9: خانه بهداشت | C9: ایرانی | N9: =F9+G9+H9+I9+J9+K9+L9+M9 -> 0 | Q9: =O9+P9 -> 0 | U9: =R9+S9+T9 -> 0 | X9: =V9+W9 -> 0
C10: افاغنه | N10: =F10+G10+H10+I10+J10+K10+L10+M10 -> 0 | Q10: =O10+P10 -> 0 | U10: =R10+S10+T10 -> 0 | X10: =V10+W10 -> 0
A11: 4 | B11: خانه بهداشت | C11: ایرانی | N11: =F11+G11+H11+I11+J11+K11+L11+M11 -> 0 | Q11: =O11+P11 -> 0 | U11: =R11+S11+T11 -> 0 | X11: =V11+W11 -> 0
C12: افاغنه | N12: =F12+G12+H12+I12+J12+K12+L12+M12 -> 0 | Q12: =O12+P12 -> 0 | U12: =R12+S12+T12 -> 0 | X12: =V12+W12 -> 0
A13: 5 | B13: خانه بهداشت | C13: ایرانی | N13: =F13+G13+H13+I13+J13+K13+L13+M13 -> 0 | Q13: =O13+P13 -> 0 | U13: =R13+S13+T13 -> 0 | X13: =V13+W13 -> 0
C14: افاغنه | N14: =F14+G14+H14+I14+J14+K14+L14+M14 -> 0 | Q14: =O14+P14 -> 0 | U14: =R14+S14+T14 -> 0 | X14: =V14+W14 -> 0
A15: 6 | B15: جمع کل | C15: ایرانی | D15: =D5+D7+D9+D11+D13 -> 0 | E15: =E5+E7+E9+E11+E13 -> 0 | F15: =F5+F7+F9+F11+F13 -> 0 | G15: =G5+G7+G9+G11+G13 -> 0 | H15: =H5+H7+H9+H11+H13 -> 0 | I15: =I5+I7+I9+I11+I13 -> 0 | J15: =J5+J7+J9+J11+J13 -> 0 | K15: =K5+K7+K9+K11+K13 -> 0 | ... AC15: =AC5+AC7+AC9+AC11+AC13 -> 0
C16: افاغنه | D16: =D6+D8+D10+D12+D14 -> 0 | E16: =E6+E8+E10+E12+E14 -> 0 | F16: =F6+F8+F10+F12+F14 -> 0 | G16: =G6+G8+G10+G12+G14 -> 0 | H16: =H6+H8+H10+H12+H14 -> 0 | I16: =I6+I8+I10+I12+I14 -> 0 | J16: =J6+J8+J10+J12+J14 -> 0 | K16: =K6+K8+K10+K12+K14 -> 0 | ... AC16: =AC6+AC8+AC10+AC12+AC14 -> 0

Sheet سه ماهه اول
B1: فعاليت هاي اجرايي مراكزبهداشتي ودرماني ............. در زمينه غربالگري و شناسايي موارد آلوده به شپش سال
A2: ردیف | B2: فـــــــــــعـــــــالـــــیـــــت مـــــــرکــــــز
D3: تعداد افراد | E3: تعداد افراد | F3: زن | J3: مرد | N3: جمع کل | O3: محل سكونت | R3: نوع شپش | U3: سابقه آلودگي | Y3: نوع درمان
D4: معاينه شده | E4: آلوده | F4: زير 6 سال | G4: 6تا 12 سال | H4: 13تا18سال | I4: بالايي 18 سال | J4: زير 6 سال | K4: 6تا 12 سال | L4: 13تا18سال | M4: بالايي 18 سال | O4: روستا | P4: شهر | Q4: جمع کل | R4: سر | S4: تن | T4: عانه | U4: جمع کل | V4: دارد | W4: ندارد | X4: جمع کل | Y4: شامپو پرمترین | Z4: لوسیون دایمتیکون | AA4: کرم پرمترین | AB4: لوسیون لیندان | AC4: اسپری درمین
A5: 1 | B5: خانه بهداشت | C5: ایرانی | D5: =خرداد!D5+اردیبهشت!D5+فروردین!D5 -> 0 | E5: =خرداد!E5+اردیبهشت!E5+فروردین!E5 -> 0 | F5: =خرداد!F5+اردیبهشت!F5+فروردین!F5 -> 0 | G5: =خرداد!G5+اردیبهشت!G5+فروردین!G5 -> 0 | H5: =خرداد!H5+اردیبهشت!H5+فروردین!H5 -> 0 | I5: =خرداد!I5+اردیبهشت!I5+فروردین!I5 -> 0 | J5: =خرداد!J5+اردیبهشت!J5+فروردین!J5 -> 0 | K5: =خرداد!K5+اردیبهشت!K5+فروردین!K5 -> 0 | ... M5: =خرداد!M5+اردیبهشت!M5+فروردین!M5 -> 0 | N5: =F5+G5+H5+I5+J5+K5+L5+M5 -> 0 | O5: =خرداد!O5+اردیبهشت!O5+فروردین!O5 -> 0 | P5: =خرداد!P5+اردیبهشت!P5+فروردین!P5 -> 0 | Q5: =O5+P5 -> 0 | R5: =خرداد!R5+اردیبهشت!R5+فروردین!R5 -> 0 | S5: =خرداد!S5+اردیبهشت!S5+فروردین!S5 -> 0 | T5: =خرداد!T5+اردیبهشت!T5+فروردین!T5 -> 0 | U5: =R5+S5+T5 -> 0 | V5: =خرداد!V5+اردیبهشت!V5+فروردین!V5 -> 0 | W5: =خرداد!W5+اردیبهشت!W5+فروردین!W5 -> 0 | X5: =V5+W5 -> 0 | Y5: =خرداد!Y5+اردیبهشت!Y5+فروردین!Y5 -> 0 | Z5: =خرداد!Z5+اردیبهشت!Z5+فروردین!Z5 -> 0 | AA5: =خرداد!AA5+اردیبهشت!AA5+فروردین!AA5 -> 0 | AB5: =خرداد!AB5+اردیبهشت!AB5+فروردین!AB5 -> 0 | AC5: =خرداد!AC5+اردیبهشت!AC5+فروردین!AC5 -> 0
C6: افاغنه | D6: =خرداد!D6+اردیبهشت!D6+فروردین!D6 -> 0 | E6: =خرداد!E6+اردیبهشت!E6+فروردین!E6 -> 0 | F6: =خرداد!F6+اردیبهشت!F6+فروردین!F6 -> 0 | G6: =خرداد!G6+اردیبهشت!G6+فروردین!G6 -> 0 | H6: =خرداد!H6+اردیبهشت!H6+فروردین!H6 -> 0 | I6: =خرداد!I6+اردیبهشت!I6+فروردین!I6 -> 0 | J6: =خرداد!J6+اردیبهشت!J6+فروردین!J6 -> 0 | K6: =خرداد!K6+اردیبهشت!K6+فروردین!K6 -> 0 | ... M6: =خرداد!M6+اردیبهشت!M6+فروردین!M6 -> 0 | N6: =F6+G6+H6+I6+J6+K6+L6+M6 -> 0 | O6: =خرداد!O6+اردیبهشت!O6+فروردین!O6 -> 0 | P6: =خرداد!P6+اردیبهشت!P6+فروردین!P6 -> 0 | Q6: =O6+P6 -> 0 | R6: =خرداد!R6+اردیبهشت!R6+فروردین!R6 -> 0 | S6: =خرداد!S6+اردیبهشت!S6+فروردین!S6 -> 0 | T6: =خرداد!T6+اردیبهشت!T6+فروردین!T6 -> 0 | U6: =R6+S6+T6 -> 0 | V6: =خرداد!V6+اردیبهشت!V6+فروردین!V6 -> 0 | W6: =خرداد!W6+اردیبهشت!W6+فروردین!W6 -> 0 | X6: =V6+W6 -> 0 | Y6: =خرداد!Y6+اردیبهشت!Y6+فروردین!Y6 -> 0 | Z6: =خرداد!Z6+اردیبهشت!Z6+فروردین!Z6 -> 0 | AA6: =خرداد!AA6+اردیبهشت!AA6+فروردین!AA6 -> 0 | AB6: =خرداد!AB6+اردیبهشت!AB6+فروردین!AB6 -> 0 | AC6: =خرداد!AC6+اردیبهشت!AC6+فروردین!AC6 -> 0
A7: 2 | B7: خانه بهداشت | C7: ایرانی | D7: =خرداد!D7+اردیبهشت!D7+فروردین!D7 -> 0 | E7: =خرداد!E7+اردیبهشت!E7+فروردین!E7 -> 0 | F7: =خرداد!F7+اردیبهشت!F7+فروردین!F7 -> 0 | G7: =خرداد!G7+اردیبهشت!G7+فروردین!G7 -> 0 | H7: =خرداد!H7+اردیبهشت!H7+فروردین!H7 -> 0 | I7: =خرداد!I7+اردیبهشت!I7+فروردین!I7 -> 0 | J7: =خرداد!J7+اردیبهشت!J7+فروردین!J7 -> 0 | K7: =خرداد!K7+اردیبهشت!K7+فروردین!K7 -> 0 | ... M7: =خرداد!M7+اردیبهشت!M7+فروردین!M7 -> 0 | N7: =F7+G7+H7+I7+J7+K7+L7+M7 -> 0 | O7: =خرداد!O7+اردیبهشت!O7+فروردین!O7 -> 0 | P7: =خرداد!P7+اردیبهشت!P7+فروردین!P7 -> 0 | Q7: =O7+P7 -> 0 | R7: =خرداد!R7+اردیبهشت!R7+فروردین!R7 -> 0 | S7: =خرداد!S7+اردیبهشت!S7+فروردین!S7 -> 0 | T7: =خرداد!T7+اردیبهشت!T7+فروردین!T7 -> 0 | U7: =R7+S7+T7 -> 0 | V7: =خرداد!V7+اردیبهشت!V7+فروردین!V7 -> 0 | W7: =خرداد!W7+اردیبهشت!W7+فروردین!W7 -> 0 | X7: =V7+W7 -> 0 | Y7: =خرداد!Y7+اردیبهشت!Y7+فروردین!Y7 -> 0 | Z7: =خرداد!Z7+اردیبهشت!Z7+فروردین!Z7 -> 0 | AA7: =خرداد!AA7+اردیبهشت!AA7+فروردین!AA7 -> 0 | AB7: =خرداد!AB7+اردیبهشت!AB7+فروردین!AB7 -> 0 | AC7: =خرداد!AC7+اردیبهشت!AC7+فروردین!AC7 -> 0
C8: افاغنه | D8: =خرداد!D8+اردیبهشت!D8+فروردین!D8 -> 0 | E8: =خرداد!E8+اردیبهشت!E8+فروردین!E8 -> 0 | F8: =خرداد!F8+اردیبهشت!F8+فروردین!F8 -> 0 | G8: =خرداد!G8+اردیبهشت!G8+فروردین!G8 -> 0 | H8: =خرداد!H8+اردیبهشت!H8+فروردین!H8 -> 0 | I8: =خرداد!I8+اردیبهشت!I8+فروردین!I8 -> 0 | J8: =خرداد!J8+اردیبهشت!J8+فروردین!J8 -> 0 | K8: =خرداد!K8+اردیبهشت!K8+فروردین!K8 -> 0 | ... M8: =خرداد!M8+اردیبهشت!M8+فروردین!M8 -> 0 | N8: =F8+G8+H8+I8+J8+K8+L8+M8 -> 0 | O8: =خرداد!O8+اردیبهشت!O8+فروردین!O8 -> 0 | P8: =خرداد!P8+اردیبهشت!P8+فروردین!P8 -> 0 | Q8: =O8+P8 -> 0 | R8: =خرداد!R8+اردیبهشت!R8+فروردین!R8 -> 0 | S8: =خرداد!S8+اردیبهشت!S8+فروردین!S8 -> 0 | T8: =خرداد!T8+اردیبهشت!T8+فروردین!T8 -> 0 | U8: =R8+S8+T8 -> 0 | V8: =خرداد!V8+اردیبهشت!V8+فروردین!V8 -> 0 | W8: =خرداد!W8+اردیبهشت!W8+فروردین!W8 -> 0 | X8: =V8+W8 -> 0 | Y8: =خرداد!Y8+اردیبهشت!Y8+فروردین!Y8 -> 0 | Z8: =خرداد!Z8+اردیبهشت!Z8+فروردین!Z8 -> 0 | AA8: =خرداد!AA8+اردیبهشت!AA8+فروردین!AA8 -> 0 | AB8: =خرداد!AB8+اردیبهشت!AB8+فروردین!AB8 -> 0 | AC8: =خرداد!AC8+اردیبهشت!AC8+فروردین!AC8 -> 0
A9: 3 | B9: خانه بهداشت | C9: ایرانی | D9: =خرداد!D9+اردیبهشت!D9+فروردین!D9 -> 0 | E9: =خرداد!E9+اردیبهشت!E9+فروردین!E9 -> 0 | F9: =خرداد!F9+اردیبهشت!F9+فروردین!F9 -> 0 | G9: =خرداد!G9+اردیبهشت!G9+فروردین!G9 -> 0 | H9: =خرداد!H9+اردیبهشت!H9+فروردین!H9 -> 0 | I9: =خرداد!I9+اردیبهشت!I9+فروردین!I9 -> 0 | J9: =خرداد!J9+اردیبهشت!J9+فروردین!J9 -> 0 | K9: =خرداد!K9+اردیبهشت!K9+فروردین!K9 -> 0 | ... M9: =خرداد!M9+اردیبهشت!M9+فروردین!M9 -> 0 | N9: =F9+G9+H9+I9+J9+K9+L9+M9 -> 0 | O9: =خرداد!O9+اردیبهشت!O9+فروردین!O9 -> 0 | P9: =خرداد!P9+اردیبهشت!P9+فروردین!P9 -> 0 | Q9: =O9+P9 -> 0 | R9: =خرداد!R9+اردیبهشت!R9+فروردین!R9 -> 0 | S9: =خرداد!S9+اردیبهشت!S9+فروردین!S9 -> 0 | T9: =خرداد!T9+اردیبهشت!T9+فروردین!T9 -> 0 | U9: =R9+S9+T9 -> 0 | V9: =خرداد!V9+اردیبهشت!V9+فروردین!V9 -> 0 | W9: =خرداد!W9+اردیبهشت!W9+فروردین!W9 -> 0 | X9: =V9+W9 -> 0 | Y9: =خرداد!Y9+اردیبهشت!Y9+فروردین!Y9 -> 0 | Z9: =خرداد!Z9+اردیبهشت!Z9+فروردین!Z9 -> 0 | AA9: =خرداد!AA9+اردیبهشت!AA9+فروردین!AA9 -> 0 | AB9: =خرداد!AB9+اردیبهشت!AB9+فروردین!AB9 -> 0 | AC9: =خرداد!AC9+اردیبهشت!AC9+فروردین!AC9 -> 0
C10: افاغنه | D10: =خرداد!D10+اردیبهشت!D10+فروردین!D10 -> 0 | E10: =خرداد!E10+اردیبهشت!E10+فروردین!E10 -> 0 | F10: =خرداد!F10+اردیبهشت!F10+فروردین!F10 -> 0 | G10: =خرداد!G10+اردیبهشت!G10+فروردین!G10 -> 0 | H10: =خرداد!H10+اردیبهشت!H10+فروردین!H10 -> 0 | I10: =خرداد!I10+اردیبهشت!I10+فروردین!I10 -> 0 | J10: =خرداد!J10+اردیبهشت!J10+فروردین!J10 -> 0 | K10: =خرداد!K10+اردیبهشت!K10+فروردین!K10 -> 0 | ... M10: =خرداد!M10+اردیبهشت!M10+فروردین!M10 -> 0 | N10: =F10+G10+H10+I10+J10+K10+L10+M10 -> 0 | O10: =خرداد!O10+اردیبهشت!O10+فروردین!O10 -> 0 | P10: =خرداد!P10+اردیبهشت!P10+فروردین!P10 -> 0 | Q10: =O10+P10 -> 0 | R10: =خرداد!R10+اردیبهشت!R10+فروردین!R10 -> 0 | S10: =خرداد!S10+اردیبهشت!S10+فروردین!S10 -> 0 | T10: =خرداد!T10+اردیبهشت!T10+فروردین!T10 -> 0 | U10: =R10+S10+T10 -> 0 | V10: =خرداد!V10+اردیبهشت!V10+فروردین!V10 -> 0 | W10: =خرداد!W10+اردیبهشت!W10+فروردین!W10 -> 0 | X10: =V10+W10 -> 0 | Y10: =خرداد!Y10+اردیبهشت!Y10+فروردین!Y10 -> 0 | Z10: =خرداد!Z10+اردیبهشت!Z10+فروردین!Z10 -> 0 | AA10: =خرداد!AA10+اردیبهشت!AA10+فروردین!AA10 -> 0 | AB10: =خرداد!AB10+اردیبهشت!AB10+فروردین!AB10 -> 0 | AC10: =خرداد!AC10+اردیبهشت!AC10+فروردین!AC10 -> 0
A11: 4 | B11: خانه بهداشت | C11: ایرانی | D11: =خرداد!D11+اردیبهشت!D11+فروردین!D11 -> 0 | E11: =خرداد!E11+اردیبهشت!E11+فروردین!E11 -> 0 | F11: =خرداد!F11+اردیبهشت!F11+فروردین!F11 -> 0 | G11: =خرداد!G11+اردیبهشت!G11+فروردین!G11 -> 0 | H11: =خرداد!H11+اردیبهشت!H11+فروردین!H11 -> 0 | I11: =خرداد!I11+اردیبهشت!I11+فروردین!I11 -> 0 | J11: =خرداد!J11+اردیبهشت!J11+فروردین!J11 -> 0 | K11: =خرداد!K11+اردیبهشت!K11+فروردین!K11 -> 0 | ... M11: =خرداد!M11+اردیبهشت!M11+فروردین!M11 -> 0 | N11: =F11+G11+H11+I11+J11+K11+L11+M11 -> 0 | O11: =خرداد!O11+اردیبهشت!O11+فروردین!O11 -> 0 | P11: =خرداد!P11+اردیبهشت!P11+فروردین!P11 -> 0 | Q11: =O11+P11 -> 0 | R11: =خرداد!R11+اردیبهشت!R11+فروردین!R11 -> 0 | S11: =خرداد!S11+اردیبهشت!S11+فروردین!S11 -> 0 | T11: =خرداد!T11+اردیبهشت!T11+فروردین!T11 -> 0 | U11: =R11+S11+T11 -> 0 | V11: =خرداد!V11+اردیبهشت!V11+فروردین!V11 -> 0 | W11: =خرداد!W11+اردیبهشت!W11+فروردین!W11 -> 0 | X11: =V11+W11 -> 0 | Y11: =خرداد!Y11+اردیبهشت!Y11+فروردین!Y11 -> 0 | Z11: =خرداد!Z11+اردیبهشت!Z11+فروردین!Z11 -> 0 | AA11: =خرداد!AA11+اردیبهشت!AA11+فروردین!AA11 -> 0 | AB11: =خرداد!AB11+اردیبهشت!AB11+فروردین!AB11 -> 0 | AC11: =خرداد!AC11+اردیبهشت!AC11+فروردین!AC11 -> 0
C12: افاغنه | D12: =خرداد!D12+اردیبهشت!D12+فروردین!D12 -> 0 | E12: =خرداد!E12+اردیبهشت!E12+فروردین!E12 -> 0 | F12: =خرداد!F12+اردیبهشت!F12+فروردین!F12 -> 0 | G12: =خرداد!G12+اردیبهشت!G12+فروردین!G12 -> 0 | H12: =خرداد!H12+اردیبهشت!H12+فروردین!H12 -> 0 | I12: =خرداد!I12+اردیبهشت!I12+فروردین!I12 -> 0 | J12: =خرداد!J12+اردیبهشت!J12+فروردین!J12 -> 0 | K12: =خرداد!K12+اردیبهشت!K12+فروردین!K12 -> 0 | ... M12: =خرداد!M12+اردیبهشت!M12+فروردین!M12 -> 0 | N12: =F12+G12+H12+I12+J12+K12+L12+M12 -> 0 | O12: =خرداد!O12+اردیبهشت!O12+فروردین!O12 -> 0 | P12: =خرداد!P12+اردیبهشت!P12+فروردین!P12 -> 0 | Q12: =O12+P12 -> 0 | R12: =خرداد!R12+اردیبهشت!R12+فروردین!R12 -> 0 | S12: =خرداد!S12+اردیبهشت!S12+فروردین!S12 -> 0 | T12: =خرداد!T12+اردیبهشت!T12+فروردین!T12 -> 0 | U12: =R12+S12+T12 -> 0 | V12: =خرداد!V12+اردیبهشت!V12+فروردین!V12 -> 0 | W12: =خرداد!W12+اردیبهشت!W12+فروردین!W12 -> 0 | X12: =V12+W12 -> 0 | Y12: =خرداد!Y12+اردیبهشت!Y12+فروردین!Y12 -> 0 | Z12: =خرداد!Z12+اردیبهشت!Z12+فروردین!Z12 -> 0 | AA12: =خرداد!AA12+اردیبهشت!AA12+فروردین!AA12 -> 0 | AB12: =خرداد!AB12+اردیبهشت!AB12+فروردین!AB12 -> 0 | AC12: =خرداد!AC12+اردیبهشت!AC12+فروردین!AC12 -> 0
A13: 5 | B13: خانه بهداشت | C13: ایرانی | D13: =خرداد!D13+اردیبهشت!D13+فروردین!D13 -> 0 | E13: =خرداد!E13+اردیبهشت!E13+فروردین!E13 -> 0 | F13: =خرداد!F13+اردیبهشت!F13+فروردین!F13 -> 0 | G13: =خرداد!G13+اردیبهشت!G13+فروردین!G13 -> 0 | H13: =خرداد!H13+اردیبهشت!H13+فروردین!H13 -> 0 | I13: =خرداد!I13+اردیبهشت!I13+فروردین!I13 -> 0 | J13: =خرداد!J13+اردیبهشت!J13+فروردین!J13 -> 0 | K13: =خرداد!K13+اردیبهشت!K13+فروردین!K13 -> 0 | ... M13: =خرداد!M13+اردیبهشت!M13+فروردین!M13 -> 0 | N13: =F13+G13+H13+I13+J13+K13+L13+M13 -> 0 | O13: =خرداد!O13+اردیبهشت!O13+فروردین!O13 -> 0 | P13: =خرداد!P13+اردیبهشت!P13+فروردین!P13 -> 0 | Q13: =O13+P13 -> 0 | R13: =خرداد!R13+اردیبهشت!R13+فروردین!R13 -> 0 | S13: =خرداد!S13+اردیبهشت!S13+فروردین!S13 -> 0 | T13: =خرداد!T13+اردیبهشت!T13+فروردین!T13 -> 0 | U13: =R13+S13+T13 -> 0 | V13: =خرداد!V13+اردیبهشت!V13+فروردین!V13 -> 0 | W13: =خرداد!W13+اردیبهشت!W13+فروردین!W13 -> 0 | X13: =V13+W13 -> 0 | Y13: =خرداد!Y13+اردیبهشت!Y13+فروردین!Y13 -> 0 | Z13: =خرداد!Z13+اردیبهشت!Z13+فروردین!Z13 -> 0 | AA13: =خرداد!AA13+اردیبهشت!AA13+فروردین!AA13 -> 0 | AB13: =خرداد!AB13+اردیبهشت!AB13+فروردین!AB13 -> 0 | AC13: =خرداد!AC13+اردیبهشت!AC13+فروردین!AC13 -> 0
C14: افاغنه | D14: =خرداد!D14+اردیبهشت!D14+فروردین!D14 -> 0 | E14: =خرداد!E14+اردیبهشت!E14+فروردین!E14 -> 0 | F14: =خرداد!F14+اردیبهشت!F14+فروردین!F14 -> 0 | G14: =خرداد!G14+اردیبهشت!G14+فروردین!G14 -> 0 | H14: =خرداد!H14+اردیبهشت!H14+فروردین!H14 -> 0 | I14: =خرداد!I14+اردیبهشت!I14+فروردین!I14 -> 0 | J14: =خرداد!J14+اردیبهشت!J14+فروردین!J14 -> 0 | K14: =خرداد!K14+اردیبهشت!K14+فروردین!K14 -> 0 | ... M14: =خرداد!M14+اردیبهشت!M14+فروردین!M14 -> 0 | N14: =F14+G14+H14+I14+J14+K14+L14+M14 -> 0 | O14: =خرداد!O14+اردیبهشت!O14+فروردین!O14 -> 0 | P14: =خرداد!P14+اردیبهشت!P14+فروردین!P14 -> 0 | Q14: =O14+P14 -> 0 | R14: =خرداد!R14+اردیبهشت!R14+فروردین!R14 -> 0 | S14: =خرداد!S14+اردیبهشت!S14+فروردین!S14 -> 0 | T14: =خرداد!T14+اردیبهشت!T14+فروردین!T14 -> 0 | U14: =R14+S14+T14 -> 0 | V14: =خرداد!V14+اردیبهشت!V14+فروردین!V14 -> 0 | W14: =خرداد!W14+اردیبهشت!W14+فروردین!W14 -> 0 | X14: =V14+W14 -> 0 | Y14: =خرداد!Y14+اردیبهشت!Y14+فروردین!Y14 -> 0 | Z14: =خرداد!Z14+اردیبهشت!Z14+فروردین!Z14 -> 0 | AA14: =خرداد!AA14+اردیبهشت!AA14+فروردین!AA14 -> 0 | AB14: =خرداد!AB14+اردیبهشت!AB14+فروردین!AB14 -> 0 | AC14: =خرداد!AC14+اردیبهشت!AC14+فروردین!AC14 -> 0
A15: 6 | B15: جمع کل | C15: ایرانی | D15: =D5+D7+D9+D11+D13 -> 0 | E15: =E5+E7+E9+E11+E13 -> 0 | F15: =F5+F7+F9+F11+F13 -> 0 | G15: =G5+G7+G9+G11+G13 -> 0 | H15: =H5+H7+H9+H11+H13 -> 0 | I15: =I5+I7+I9+I11+I13 -> 0 | J15: =J5+J7+J9+J11+J13 -> 0 | K15: =K5+K7+K9+K11+K13 -> 0 | ... AC15: =AC5+AC7+AC9+AC11+AC13 -> 0
C16: افاغنه | D16: =D6+D8+D10+D12+D14 -> 0 | E16: =E6+E8+E10+E12+E14 -> 0 | F16: =F6+F8+F10+F12+F14 -> 0 | G16: =G6+G8+G10+G12+G14 -> 0 | H16: =H6+H8+H10+H12+H14 -> 0 | I16: =I6+I8+I10+I12+I14 -> 0 | J16: =J6+J8+J10+J12+J14 -> 0 | K16: =K6+K8+K10+K12+K14 -> 0 | ... AC16: =AC6+AC8+AC10+AC12+AC14 -> 0

Sheet تیر
B1: فعاليت هاي اجرايي مراكزبهداشتي ودرماني ............. در زمينه غربالگري و شناسايي موارد آلوده به شپش سال
A2: ردیف | B2: فـــــــــــعـــــــالـــــیـــــت مـــــــرکــــــز
D3: تعداد افراد | E3: تعداد افراد | F3: زن | J3: مرد | N3: جمع کل | O3: محل سكونت | R3: نوع شپش | U3: سابقه آلودگي | Y3: نوع درمان
D4: معاينه شده | E4: آلوده | F4: زير 6 سال | G4: 6تا 12 سال | H4: 13تا18سال | I4: بالايي 18 سال | J4: زير 6 سال | K4: 6تا 12 سال | L4: 13تا18سال | M4: بالايي 18 سال | O4: روستا | P4: شهر | Q4: جمع کل | R4: سر | S4: تن | T4: عانه | U4: جمع کل | V4: دارد | W4: ندارد | X4: جمع کل | Y4: شامپو پرمترین | Z4: لوسیون دایمتیکون | AA4: کرم پرمترین | AB4: لوسیون لیندان | AC4: اسپری درمین
A5: 1 | B5: خانه بهداشت | C5: ایرانی | N5: =F5+G5+H5+I5+J5+K5+L5+M5 -> 0 | Q5: =O5+P5 -> 0 | U5: =R5+S5+T5 -> 0 | X5: =V5+W5 -> 0
C6: افاغنه | N6: =F6+G6+H6+I6+J6+K6+L6+M6 -> 0 | Q6: =O6+P6 -> 0 | U6: =R6+S6+T6 -> 0 | X6: =V6+W6 -> 0
A7: 2 | B7: خانه بهداشت | C7: ایرانی | N7: =F7+G7+H7+I7+J7+K7+L7+M7 -> 0 | Q7: =O7+P7 -> 0 | U7: =R7+S7+T7 -> 0 | X7: =V7+W7 -> 0
C8: افاغنه | N8: =F8+G8+H8+I8+J8+K8+L8+M8 -> 0 | Q8: =O8+P8 -> 0 | U8: =R8+S8+T8 -> 0 | X8: =V8+W8 -> 0
A9: 3 | B9: خانه بهداشت | C9: ایرانی | N9: =F9+G9+H9+I9+J9+K9+L9+M9 -> 0 | Q9: =O9+P9 -> 0 | U9: =R9+S9+T9 -> 0 | X9: =V9+W9 -> 0
C10: افاغنه | N10: =F10+G10+H10+I10+J10+K10+L10+M10 -> 0 | Q10: =O10+P10 -> 0 | U10: =R10+S10+T10 -> 0 | X10: =V10+W10 -> 0
A11: 4 | B11: خانه بهداشت | C11: ایرانی | N11: =F11+G11+H11+I11+J11+K11+L11+M11 -> 0 | Q11: =O11+P11 -> 0 | U11: =R11+S11+T11 -> 0 | X11: =V11+W11 -> 0
C12: افاغنه | N12: =F12+G12+H12+I12+J12+K12+L12+M12 -> 0 | Q12: =O12+P12 -> 0 | U12: =R12+S12+T12 -> 0 | X12: =V12+W12 -> 0
A13: 5 | B13: خانه بهداشت | C13: ایرانی | N13: =F13+G13+H13+I13+J13+K13+L13+M13 -> 0 | Q13: =O13+P13 -> 0 | U13: =R13+S13+T13 -> 0 | X13: =V13+W13 -> 0
C14: افاغنه | N14: =F14+G14+H14+I14+J14+K14+L14+M14 -> 0 | Q14: =O14+P14 -> 0 | U14: =R14+S14+T14 -> 0 | X14: =V14+W14 -> 0
A15: 6 | B15: جمع کل | C15: ایرانی | D15: =D5+D7+D9+D11+D13 -> 0 | E15: =E5+E7+E9+E11+E13 -> 0 | F15: =F5+F7+F9+F11+F13 -> 0 | G15: =G5+G7+G9+G11+G13 -> 0 | H15: =H5+H7+H9+H11+H13 -> 0 | I15: =I5+I7+I9+I11+I13 -> 0 | J15: =J5+J7+J9+J11+J13 -> 0 | K15: =K5+K7+K9+K11+K13 -> 0 | ... AC15: =AC5+AC7+AC9+AC11+AC13 -> 0
C16: افاغنه | D16: =D6+D8+D10+D12+D14 -> 0 | E16: =E6+E8+E10+E12+E14 -> 0 | F16: =F6+F8+F10+F12+F14 -> 0 | G16: =G6+G8+G10+G12+G14 -> 0 | H16: =H6+H8+H10+H12+H14 -> 0 | I16: =I6+I8+I10+I12+I14 -> 0 | J16: =J6+J8+J10+J12+J14 -> 0 | K16: =K6+K8+K10+K12+K14 -> 0 | ... AC16: =AC6+AC8+AC10+AC12+AC14 -> 0

Sheet مرداد
B1: فعاليت هاي اجرايي مراكزبهداشتي ودرماني ............. در زمينه غربالگري و شناسايي موارد آلوده به شپش سال
A2: ردیف | B2: فـــــــــــعـــــــالـــــیـــــت مـــــــرکــــــز
D3: تعداد افراد | E3: تعداد افراد | F3: زن | J3: مرد | N3: جمع کل | O3: محل سكونت | R3: نوع شپش | U3: سابقه آلودگي | Y3: نوع درمان
D4: معاينه شده | E4: آلوده | F4: زير 6 سال | G4: 6تا 12 سال | H4: 13تا18سال | I4: بالايي 18 سال | J4: زير 6 سال | K4: 6تا 12 سال | L4: 13تا18سال | M4: بالايي 18 سال | O4: روستا | P4: شهر | Q4: جمع کل | R4: سر | S4: تن | T4: عانه | U4: جمع کل | V4: دارد | W4: ندارد | X4: جمع کل | Y4: شامپو پرمترین | Z4: لوسیون دایمتیکون | AA4: کرم پرمترین | AB4: لوسیون لیندان | AC4: اسپری درمین
A5: 1 | B5: خانه بهداشت | C5: ایرانی | N5: =F5+G5+H5+I5+J5+K5+L5+M5 -> 0 | Q5: =O5+P5 -> 0 | U5: =R5+S5+T5 -> 0 | X5: =V5+W5 -> 0
C6: افاغنه | N6: =F6+G6+H6+I6+J6+K6+L6+M6 -> 0 | Q6: =O6+P6 -> 0 | U6: =R6+S6+T6 -> 0 | X6: =V6+W6 -> 0
A7: 2 | B7: خانه بهداشت | C7: ایرانی | N7: =F7+G7+H7+I7+J7+K7+L7+M7 -> 0 | Q7: =O7+P7 -> 0 | U7: =R7+S7+T7 -> 0 | X7: =V7+W7 -> 0
C8: افاغنه | N8: =F8+G8+H8+I8+J8+K8+L8+M8 -> 0 | Q8: =O8+P8 -> 0 | U8: =R8+S8+T8 -> 0 | X8: =V8+W8 -> 0
A9: 3 | B9: خانه بهداشت | C9: ایرانی | N9: =F9+G9+H9+I9+J9+K9+L9+M9 -> 0 | Q9: =O9+P9 -> 0 | U9: =R9+S9+T9 -> 0 | X9: =V9+W9 -> 0
C10: افاغنه | N10: =F10+G10+H10+I10+J10+K10+L10+M10 -> 0 | Q10: =O10+P10 -> 0 | U10: =R10+S10+T10 -> 0 | X10: =V10+W10 -> 0
A11: 4 | B11: خانه بهداشت | C11: ایرانی | N11: =F11+G11+H11+I11+J11+K11+L11+M11 -> 0 | Q11: =O11+P11 -> 0 | U11: =R11+S11+T11 -> 0 | X11: =V11+W11 -> 0
C12: افاغنه | N12: =F12+G12+H12+I12+J12+K12+L12+M12 -> 0 | Q12: =O12+P12 -> 0 | U12: =R12+S12+T12 -> 0 | X12: =V12+W12 -> 0
A13: 5 | B13: خانه بهداشت | C13: ایرانی | N13: =F13+G13+H13+I13+J13+K13+L13+M13 -> 0 | Q13: =O13+P13 -> 0 | U13: =R13+S13+T13 -> 0 | X13: =V13+W13 -> 0
C14: افاغنه | N14: =F14+G14+H14+I14+J14+K14+L14+M14 -> 0 | Q14: =O14+P14 -> 0 | U14: =R14+S14+T14 -> 0 | X14: =V14+W14 -> 0
A15: 6 | B15: جمع کل | C15: ایرانی | D15: =D5+D7+D9+D11+D13 -> 0 | E15: =E5+E7+E9+E11+E13 -> 0 | F15: =F5+F7+F9+F11+F13 -> 0 | G15: =G5+G7+G9+G11+G13 -> 0 | H15: =H5+H7+H9+H11+H13 -> 0 | I15: =I5+I7+I9+I11+I13 -> 0 | J15: =J5+J7+J9+J11+J13 -> 0 | K15: =K5+K7+K9+K11+K13 -> 0 | ... AC15: =AC5+AC7+AC9+AC11+AC13 -> 0
C16: افاغنه | D16: =D6+D8+D10+D12+D14 -> 0 | E16: =E6+E8+E10+E12+E14 -> 0 | F16: =F6+F8+F10+F12+F14 -> 0 | G16: =G6+G8+G10+G12+G14 -> 0 | H16: =H6+H8+H10+H12+H14 -> 0 | I16: =I6+I8+I10+I12+I14 -> 0 | J16: =J6+J8+J10+J12+J14 -> 0 | K16: =K6+K8+K10+K12+K14 -> 0 | ... AC16: =AC6+AC8+AC10+AC12+AC14 -> 0

Sheet شهریور
B1: فعاليت هاي اجرايي مراكزبهداشتي ودرماني ............. در زمينه غربالگري و شناسايي موارد آلوده به شپش سال
A2: ردیف | B2: فـــــــــــعـــــــالـــــیـــــت مـــــــرکــــــز
D3: تعداد افراد | E3: تعداد افراد | F3: زن | J3: مرد | N3: جمع کل | O3: محل سكونت | R3: نوع شپش | U3: سابقه آلودگي | Y3: نوع درمان
D4: معاينه شده | E4: آلوده | F4: زير 6 سال | G4: 6تا 12 سال | H4: 13تا18سال | I4: بالايي 18 سال | J4: زير 6 سال | K4: 6تا 12 سال | L4: 13تا18سال | M4: بالايي 18 سال | O4: روستا | P4: شهر | Q4: جمع کل | R4: سر | S4: تن | T4: عانه | U4: جمع کل | V4: دارد | W4: ندارد | X4: جمع کل | Y4: شامپو پرمترین | Z4: لوسیون دایمتیکون | AA4: کرم پرمترین | AB4: لوسیون لیندان | AC4: اسپری درمین
A5: 1 | B5: خانه بهداشت | C5: ایرانی | N5: =F5+G5+H5+I5+J5+K5+L5+M5 -> 0 | Q5: =O5+P5 -> 0 | U5: =R5+S5+T5 -> 0 | X5: =V5+W5 -> 0
C6: افاغنه | N6: =F6+G6+H6+I6+J6+K6+L6+M6 -> 0 | Q6: =O6+P6 -> 0 | U6: =R6+S6+T6 -> 0 | X6: =V6+W6 -> 0
A7: 2 | B7: خانه بهداشت | C7: ایرانی | N7: =F7+G7+H7+I7+J7+K7+L7+M7 -> 0 | Q7: =O7+P7 -> 0 | U7: =R7+S7+T7 -> 0 | X7: =V7+W7 -> 0
C8: افاغنه | N8: =F8+G8+H8+I8+J8+K8+L8+M8 -> 0 | Q8: =O8+P8 -> 0 | U8: =R8+S8+T8 -> 0 | X8: =V8+W8 -> 0
A9: 3 | B9: خانه بهداشت | C9: ایرانی | N9: =F9+G9+H9+I9+J9+K9+L9+M9 -> 0 | Q9: =O9+P9 -> 0 | U9: =R9+S9+T9 -> 0 | X9: =V9+W9 -> 0
C10: افاغنه | N10: =F10+G10+H10+I10+J10+K10+L10+M10 -> 0 | Q10: =O10+P10 -> 0 | U10: =R10+S10+T10 -> 0 | X10: =V10+W10 -> 0
A11: 4 | B11: خانه بهداشت | C11: ایرانی | N11: =F11+G11+H11+I11+J11+K11+L11+M11 -> 0 | Q11: =O11+P11 -> 0 | U11: =R11+S11+T11 -> 0 | X11: =V11+W11 -> 0
C12: افاغنه | N12: =F12+G12+H12+I12+J12+K12+L12+M12 -> 0 | Q12: =O12+P12 -> 0 | U12: =R12+S12+T12 -> 0 | X12: =V12+W12 -> 0
A13: 5 | B13: خانه بهداشت | C13: ایرانی | N13: =F13+G13+H13+I13+J13+K13+L13+M13 -> 0 | Q13: =O13+P13 -> 0 | U13: =R13+S13+T13 -> 0 | X13: =V13+W13 -> 0
C14: افاغنه | N14: =F14+G14+H14+I14+J14+K14+L14+M14 -> 0 | Q14: =O14+P14 -> 0 | U14: =R14+S14+T14 -> 0 | X14: =V14+W14 -> 0
A15: 6 | B15: جمع کل | C15: ایرانی | D15: =D5+D7+D9+D11+D13 -> 0 | E15: =E5+E7+E9+E11+E13 -> 0 | F15: =F5+F7+F9+F11+F13 -> 0 | G15: =G5+G7+G9+G11+G13 -> 0 | H15: =H5+H7+H9+H11+H13 -> 0 | I15: =I5+I7+I9+I11+I13 -> 0 | J15: =J5+J7+J9+J11+J13 -> 0 | K15: =K5+K7+K9+K11+K13 -> 0 | ... AC15: =AC5+AC7+AC9+AC11+AC13 -> 0
C16: افاغنه | D16: =D6+D8+D10+D12+D14 -> 0 | E16: =E6+E8+E10+E12+E14 -> 0 | F16: =F6+F8+F10+F12+F14 -> 0 | G16: =G6+G8+G10+G12+G14 -> 0 | H16: =H6+H8+H10+H12+H14 -> 0 | I16: =I6+I8+I10+I12+I14 -> 0 | J16: =J6+J8+J10+J12+J14 -> 0 | K16: =K6+K8+K10+K12+K14 -> 0 | ... AC16: =AC6+AC8+AC10+AC12+AC14 -> 0

Sheet سه ماهه دوم
B1: فعاليت هاي اجرايي مراكزبهداشتي ودرماني ............. در زمينه غربالگري و شناسايي موارد آلوده به شپش سال
A2: ردیف | B2: فـــــــــــعـــــــالـــــیـــــت مـــــــرکــــــز
D3: تعداد افراد | E3: تعداد افراد | F3: زن | J3: مرد | N3: جمع کل | O3: محل سكونت | R3: نوع شپش | U3: سابقه آلودگي | Y3: نوع درمان
D4: معاينه شده | E4: آلوده | F4: زير 6 سال | G4: 6تا 12 سال | H4: 13تا18سال | I4: بالايي 18 سال | J4: زير 6 سال | K4: 6تا 12 سال | L4: 13تا18سال | M4: بالايي 18 سال | O4: روستا | P4: شهر | Q4: جمع کل | R4: سر | S4: تن | T4: عانه | U4: جمع کل | V4: دارد | W4: ندارد | X4: جمع کل | Y4: شامپو پرمترین | Z4: لوسیون دایمتیکون | AA4: کرم پرمترین | AB4: لوسیون لیندان | AC4: اسپری درمین
A5: 1 | B5: خانه بهداشت | C5: ایرانی | D5: =شهریور!D5+مرداد!D5+تیر!D5 -> 0 | E5: =شهریور!E5+مرداد!E5+تیر!E5 -> 0 | F5: =شهریور!F5+مرداد!F5+تیر!F5 -> 0 | G5: =شهریور!G5+مرداد!G5+تیر!G5 -> 0 | H5: =شهریور!H5+مرداد!H5+تیر!H5 -> 0 | I5: =شهریور!I5+مرداد!I5+تیر!I5 -> 0 | J5: =شهریور!J5+مرداد!J5+تیر!J5 -> 0 | K5: =شهریور!K5+مرداد!K5+تیر!K5 -> 0 | ... M5: =شهریور!M5+مرداد!M5+تیر!M5 -> 0 | N5: =F5+G5+H5+I5+J5+K5+L5+M5 -> 0 | O5: =شهریور!O5+مرداد!O5+تیر!O5 -> 0 | P5: =شهریور!P5+مرداد!P5+تیر!P5 -> 0 | Q5: =O5+P5 -> 0 | R5: =شهریور!R5+مرداد!R5+تیر!R5 -> 0 | S5: =شهریور!S5+مرداد!S5+تیر!S5 -> 0 | T5: =شهریور!T5+مرداد!T5+تیر!T5 -> 0 | U5: =R5+S5+T5 -> 0 | V5: =شهریور!V5+مرداد!V5+تیر!V5 -> 0 | W5: =شهریور!W5+مرداد!W5+تیر!W5 -> 0 | X5: =V5+W5 -> 0 | Y5: =شهریور!Y5+مرداد!Y5+تیر!Y5 -> 0 | Z5: =شهریور!Z5+مرداد!Z5+تیر!Z5 -> 0 | AA5: =شهریور!AA5+مرداد!AA5+تیر!AA5 -> 0 | AB5: =شهریور!AB5+مرداد!AB5+تیر!AB5 -> 0 | AC5: =شهریور!AC5+مرداد!AC5+تیر!AC5 -> 0
C6: افاغنه | D6: =شهریور!D6+مرداد!D6+تیر!D6 -> 0 | E6: =شهریور!E6+مرداد!E6+تیر!E6 -> 0 | F6: =شهریور!F6+مرداد!F6+تیر!F6 -> 0 | G6: =شهریور!G6+مرداد!G6+تیر!G6 -> 0 | H6: =شهریور!H6+مرداد!H6+تیر!H6 -> 0 | I6: =شهریور!I6+مرداد!I6+تیر!I6 -> 0 | J6: =شهریور!J6+مرداد!J6+تیر!J6 -> 0 | K6: =شهریور!K6+مرداد!K6+تیر!K6 -> 0 | ... M6: =شهریور!M6+مرداد!M6+تیر!M6 -> 0 | N6: =F6+G6+H6+I6+J6+K6+L6+M6 -> 0 | O6: =شهریور!O6+مرداد!O6+تیر!O6 -> 0 | P6: =شهریور!P6+مرداد!P6+تیر!P6 -> 0 | Q6: =O6+P6 -> 0 | R6: =شهریور!R6+مرداد!R6+تیر!R6 -> 0 | S6: =شهریور!S6+مرداد!S6+تیر!S6 -> 0 | T6: =شهریور!T6+مرداد!T6+تیر!T6 -> 0 | U6: =R6+S6+T6 -> 0 | V6: =شهریور!V6+مرداد!V6+تیر!V6 -> 0 | W6: =شهریور!W6+مرداد!W6+تیر!W6 -> 0 | X6: =V6+W6 -> 0 | Y6: =شهریور!Y6+مرداد!Y6+تیر!Y6 -> 0 | Z6: =شهریور!Z6+مرداد!Z6+تیر!Z6 -> 0 | AA6: =شهریور!AA6+مرداد!AA6+تیر!AA6 -> 0 | AB6: =شهریور!AB6+مرداد!AB6+تیر!AB6 -> 0 | AC6: =شهریور!AC6+مرداد!AC6+تیر!AC6 -> 0
A7: 2 | B7: خانه بهداشت | C7: ایرانی | D7: =شهریور!D7+مرداد!D7+تیر!D7 -> 0 | E7: =شهریور!E7+مرداد!E7+تیر!E7 -> 0 | F7: =شهریور!F7+مرداد!F7+تیر!F7 -> 0 | G7: =شهریور!G7+مرداد!G7+تیر!G7 -> 0 | H7: =شهریور!H7+مرداد!H7+تیر!H7 -> 0 | I7: =شهریور!I7+مرداد!I7+تیر!I7 -> 0 | J7: =شهریور!J7+مرداد!J7+تیر!J7 -> 0 | K7: =شهریور!K7+مرداد!K7+تیر!K7 -> 0 | ... M7: =شهریور!M7+مرداد!M7+تیر!M7 -> 0 | N7: =F7+G7+H7+I7+J7+K7+L7+M7 -> 0 | O7: =شهریور!O7+مرداد!O7+تیر!O7 -> 0 | P7: =شهریور!P7+مرداد!P7+تیر!P7 -> 0 | Q7: =O7+P7 -> 0 | R7: =شهریور!R7+مرداد!R7+تیر!R7 -> 0 | S7: =شهریور!S7+مرداد!S7+تیر!S7 -> 0 | T7: =شهریور!T7+مرداد!T7+تیر!T7 -> 0 | U7: =R7+S7+T7 -> 0 | V7: =شهریور!V7+مرداد!V7+تیر!V7 -> 0 | W7: =شهریور!W7+مرداد!W7+تیر!W7 -> 0 | X7: =V7+W7 -> 0 | Y7: =شهریور!Y7+مرداد!Y7+تیر!Y7 -> 0 | Z7: =شهریور!Z7+مرداد!Z7+تیر!Z7 -> 0 | AA7: =شهریور!AA7+مرداد!AA7+تیر!AA7 -> 0 | AB7: =شهریور!AB7+مرداد!AB7+تیر!AB7 -> 0 | AC7: =شهریور!AC7+مرداد!AC7+تیر!AC7 -> 0
C8: افاغنه | D8: =شهریور!D8+مرداد!D8+تیر!D8 -> 0 | E8: =شهریور!E8+مرداد!E8+تیر!E8 -> 0 | F8: =شهریور!F8+مرداد!F8+تیر!F8 -> 0 | G8: =شهریور!G8+مرداد!G8+تیر!G8 -> 0 | H8: =شهریور!H8+مرداد!H8+تیر!H8 -> 0 | I8: =شهریور!I8+مرداد!I8+تیر!I8 -> 0 | J8: =شهریور!J8+مرداد!J8+تیر!J8 -> 0 | K8: =شهریور!K8+مرداد!K8+تیر!K8 -> 0 | ... M8: =شهریور!M8+مرداد!M8+تیر!M8 -> 0 | N8: =F8+G8+H8+I8+J8+K8+L8+M8 -> 0 | O8: =شهریور!O8+مرداد!O8+تیر!O8 -> 0 | P8: =شهریور!P8+مرداد!P8+تیر!P8 -> 0 | Q8: =O8+P8 -> 0 | R8: =شهریور!R8+مرداد!R8+تیر!R8 -> 0 | S8: =شهریور!S8+مرداد!S8+تیر!S8 -> 0 | T8: =شهریور!T8+مرداد!T8+تیر!T8 -> 0 | U8: =R8+S8+T8 -> 0 | V8: =شهریور!V8+مرداد!V8+تیر!V8 -> 0 | W8: =شهریور!W8+مرداد!W8+تیر!W8 -> 0 | X8: =V8+W8 -> 0 | Y8: =شهریور!Y8+مرداد!Y8+تیر!Y8 -> 0 | Z8: =شهریور!Z8+مرداد!Z8+تیر!Z8 -> 0 | AA8: =شهریور!AA8+مرداد!AA8+تیر!AA8 -> 0 | AB8: =شهریور!AB8+مرداد!AB8+تیر!AB8 -> 0 | AC8: =شهریور!AC8+مرداد!AC8+تیر!AC8 -> 0
A9: 3 | B9: خانه بهداشت | C9: ایرانی | D9: =شهریور!D9+مرداد!D9+تیر!D9 -> 0 | E9: =شهریور!E9+مرداد!E9+تیر!E9 -> 0 | F9: =شهریور!F9+مرداد!F9+تیر!F9 -> 0 | G9: =شهریور!G9+مرداد!G9+تیر!G9 -> 0 | H9: =شهریور!H9+مرداد!H9+تیر!H9 -> 0 | I9: =شهریور!I9+مرداد!I9+تیر!I9 -> 0 | J9: =شهریور!J9+مرداد!J9+تیر!J9 -> 0 | K9: =شهریور!K9+مرداد!K9+تیر!K9 -> 0 | ... M9: =شهریور!M9+مرداد!M9+تیر!M9 -> 0 | N9: =F9+G9+H9+I9+J9+K9+L9+M9 -> 0 | O9: =شهریور!O9+مرداد!O9+تیر!O9 -> 0 | P9: =شهریور!P9+مرداد!P9+تیر!P9 -> 0 | Q9: =O9+P9 -> 0 | R9: =شهریور!R9+مرداد!R9+تیر!R9 -> 0 | S9: =شهریور!S9+مرداد!S9+تیر!S9 -> 0 | T9: =شهریور!T9+مرداد!T9+تیر!T9 -> 0 | U9: =R9+S9+T9 -> 0 | V9: =شهریور!V9+مرداد!V9+تیر!V9 -> 0 | W9: =شهریور!W9+مرداد!W9+تیر!W9 -> 0 | X9: =V9+W9 -> 0 | Y9: =شهریور!Y9+مرداد!Y9+تیر!Y9 -> 0 | Z9: =شهریور!Z9+مرداد!Z9+تیر!Z9 -> 0 | AA9: =شهریور!AA9+مرداد!AA9+تیر!AA9 -> 0 | AB9: =شهریور!AB9+مرداد!AB9+تیر!AB9 -> 0 | AC9: =شهریور!AC9+مرداد!AC9+تیر!AC9 -> 0
C10: افاغنه | D10: =شهریور!D10+مرداد!D10+تیر!D10 -> 0 | E10: =شهریور!E10+مرداد!E10+تیر!E10 -> 0 | F10: =شهریور!F10+مرداد!F10+تیر!F10 -> 0 | G10: =شهریور!G10+مرداد!G10+تیر!G10 -> 0 | H10: =شهریور!H10+مرداد!H10+تیر!H10 -> 0 | I10: =شهریور!I10+مرداد!I10+تیر!I10 -> 0 | J10: =شهریور!J10+مرداد!J10+تیر!J10 -> 0 | K10: =شهریور!K10+مرداد!K10+تیر!K10 -> 0 | ... M10: =شهریور!M10+مرداد!M10+تیر!M10 -> 0 | N10: =F10+G10+H10+I10+J10+K10+L10+M10 -> 0 | O10: =شهریور!O10+مرداد!O10+تیر!O10 -> 0 | P10: =شهریور!P10+مرداد!P10+تیر!P10 -> 0 | Q10: =O10+P10 -> 0 | R10: =شهریور!R10+مرداد!R10+تیر!R10 -> 0 | S10: =شهریور!S10+مرداد!S10+تیر!S10 -> 0 | T10: =شهریور!T10+مرداد!T10+تیر!T10 -> 0 | U10: =R10+S10+T10 -> 0 | V10: =شهریور!V10+مرداد!V10+تیر!V10 -> 0 | W10: =شهریور!W10+مرداد!W10+تیر!W10 -> 0 | X10: =V10+W10 -> 0 | Y10: =شهریور!Y10+مرداد!Y10+تیر!Y10 -> 0 | Z10: =شهریور!Z10+مرداد!Z10+تیر!Z10 -> 0 | AA10: =شهریور!AA10+مرداد!AA10+تیر!AA10 -> 0 | AB10: =شهریور!AB10+مرداد!AB10+تیر!AB10 -> 0 | AC10: =شهریور!AC10+مرداد!AC10+تیر!AC10 -> 0
A11: 4 | B11: خانه بهداشت | C11: ایرانی | D11: =شهریور!D11+مرداد!D11+تیر!D11 -> 0 | E11: =شهریور!E11+مرداد!E11+تیر!E11 -> 0 | F11: =شهریور!F11+مرداد!F11+تیر!F11 -> 0 | G11: =شهریور!G11+مرداد!G11+تیر!G11 -> 0 | H11: =شهریور!H11+مرداد!H11+تیر!H11 -> 0 | I11: =شهریور!I11+مرداد!I11+تیر!I11 -> 0 | J11: =شهریور!J11+مرداد!J11+تیر!J11 -> 0 | K11: =شهریور!K11+مرداد!K11+تیر!K11 -> 0 | ... M11: =شهریور!M11+مرداد!M11+تیر!M11 -> 0 | N11: =F11+G11+H11+I11+J11+K11+L11+M11 -> 0 | O11: =شهریور!O11+مرداد!O11+تیر!O11 -> 0 | P11: =شهریور!P11+مرداد!P11+تیر!P11 -> 0 | Q11: =O11+P11 -> 0 | R11: =شهریور!R11+مرداد!R11+تیر!R11 -> 0 | S11: =شهریور!S11+مرداد!S11+تیر!S11 -> 0 | T11: =شهریور!T11+مرداد!T11+تیر!T11 -> 0 | U11: =R11+S11+T11 -> 0 | V11: =شهریور!V11+مرداد!V11+تیر!V11 -> 0 | W11: =شهریور!W11+مرداد!W11+تیر!W11 -> 0 | X11: =V11+W11 -> 0 | Y11: =شهریور!Y11+مرداد!Y11+تیر!Y11 -> 0 | Z11: =شهریور!Z11+مرداد!Z11+تیر!Z11 -> 0 | AA11: =شهریور!AA11+مرداد!AA11+تیر!AA11 -> 0 | AB11: =شهریور!AB11+مرداد!AB11+تیر!AB11 -> 0 | AC11: =شهریور!AC11+مرداد!AC11+تیر!AC11 -> 0
C12: افاغنه | D12: =شهریور!D12+مرداد!D12+تیر!D12 -> 0 | E12: =شهریور!E12+مرداد!E12+تیر!E12 -> 0 | F12: =شهریور!F12+مرداد!F12+تیر!F12 -> 0 | G12: =شهریور!G12+مرداد!G12+تیر!G12 -> 0 | H12: =شهریور!H12+مرداد!H12+تیر!H12 -> 0 | I12: =شهریور!I12+مرداد!I12+تیر!I12 -> 0 | J12: =شهریور!J12+مرداد!J12+تیر!J12 -> 0 | K12: =شهریور!K12+مرداد!K12+تیر!K12 -> 0 | ... M12: =شهریور!M12+مرداد!M12+تیر!M12 -> 0 | N12: =F12+G12+H12+I12+J12+K12+L12+M12 -> 0 | O12: =شهریور!O12+مرداد!O12+تیر!O12 -> 0 | P12: =شهریور!P12+مرداد!P12+تیر!P12 -> 0 | Q12: =O12+P12 -> 0 | R12: =شهریور!R12+مرداد!R12+تیر!R12 -> 0 | S12: =شهریور!S12+مرداد!S12+تیر!S12 -> 0 | T12: =شهریور!T12+مرداد!T12+تیر!T12 -> 0 | U12: =R12+S12+T12 -> 0 | V12: =شهریور!V12+مرداد!V12+تیر!V12 -> 0 | W12: =شهریور!W12+مرداد!W12+تیر!W12 -> 0 | X12: =V12+W12 -> 0 | Y12: =شهریور!Y12+مرداد!Y12+تیر!Y12 -> 0 | Z12: =شهریور!Z12+مرداد!Z12+تیر!Z12 -> 0 | AA12: =شهریور!AA12+مرداد!AA12+تیر!AA12 -> 0 | AB12: =شهریور!AB12+مرداد!AB12+تیر!AB12 -> 0 | AC12: =شهریور!AC12+مرداد!AC12+تیر!AC12 -> 0
A13: 5 | B13: خانه بهداشت | C13: ایرانی | D13: =شهریور!D13+مرداد!D13+تیر!D13 -> 0 | E13: =شهریور!E13+مرداد!E13+تیر!E13 -> 0 | F13: =شهریور!F13+مرداد!F13+تیر!F13 -> 0 | G13: =شهریور!G13+مرداد!G13+تیر!G13 -> 0 | H13: =شهریور!H13+مرداد!H13+تیر!H13 -> 0 | I13: =شهریور!I13+مرداد!I13+تیر!I13 -> 0 | J13: =شهریور!J13+مرداد!J13+تیر!J13 -> 0 | K13: =شهریور!K13+مرداد!K13+تیر!K13 -> 0 | ... M13: =شهریور!M13+مرداد!M13+تیر!M13 -> 0 | N13: =F13+G13+H13+I13+J13+K13+L13+M13 -> 0 | O13: =شهریور!O13+مرداد!O13+تیر!O13 -> 0 | P13: =شهریور!P13+مرداد!P13+تیر!P13 -> 0 | Q13: =O13+P13 -> 0 | R13: =شهریور!R13+مرداد!R13+تیر!R13 -> 0 | S13: =شهریور!S13+مرداد!S13+تیر!S13 -> 0 | T13: =شهریور!T13+مرداد!T13+تیر!T13 -> 0 | U13: =R13+S13+T13 -> 0 | V13: =شهریور!V13+مرداد!V13+تیر!V13 -> 0 | W13: =شهریور!W13+مرداد!W13+تیر!W13 -> 0 | X13: =V13+W13 -> 0 | Y13: =شهریور!Y13+مرداد!Y13+تیر!Y13 -> 0 | Z13: =شهریور!Z13+مرداد!Z13+تیر!Z13 -> 0 | AA13: =شهریور!AA13+مرداد!AA13+تیر!AA13 -> 0 | AB13: =شهریور!AB13+مرداد!AB13+تیر!AB13 -> 0 | AC13: =شهریور!AC13+مرداد!AC13+تیر!AC13 -> 0
C14: افاغنه | D14: =شهریور!D14+مرداد!D14+تیر!D14 -> 0 | E14: =شهریور!E14+مرداد!E14+تیر!E14 -> 0 | F14: =شهریور!F14+مرداد!F14+تیر!F14 -> 0 | G14: =شهریور!G14+مرداد!G14+تیر!G14 -> 0 | H14: =شهریور!H14+مرداد!H14+تیر!H14 -> 0 | I14: =شهریور!I14+مرداد!I14+تیر!I14 -> 0 | J14: =شهریور!J14+مرداد!J14+تیر!J14 -> 0 | K14: =شهریور!K14+مرداد!K14+تیر!K14 -> 0 | ... M14: =شهریور!M14+مرداد!M14+تیر!M14 -> 0 | N14: =F14+G14+H14+I14+J14+K14+L14+M14 -> 0 | O14: =شهریور!O14+مرداد!O14+تیر!O14 -> 0 | P14: =شهریور!P14+مرداد!P14+تیر!P14 -> 0 | Q14: =O14+P14 -> 0 | R14: =شهریور!R14+مرداد!R14+تیر!R14 -> 0 | S14: =شهریور!S14+مرداد!S14+تیر!S14 -> 0 | T14: =شهریور!T14+مرداد!T14+تیر!T14 -> 0 | U14: =R14+S14+T14 -> 0 | V14: =شهریور!V14+مرداد!V14+تیر!V14 -> 0 | W14: =شهریور!W14+مرداد!W14+تیر!W14 -> 0 | X14: =V14+W14 -> 0 | Y14: =شهریور!Y14+مرداد!Y14+تیر!Y14 -> 0 | Z14: =شهریور!Z14+مرداد!Z14+تیر!Z14 -> 0 | AA14: =شهریور!AA14+مرداد!AA14+تیر!AA14 -> 0 | AB14: =شهریور!AB14+مرداد!AB14+تیر!AB14 -> 0 | AC14: =شهریور!AC14+مرداد!AC14+تیر!AC14 -> 0
A15: 6 | B15: جمع کل | C15: ایرانی | D15: =D5+D7+D9+D11+D13 -> 0 | E15: =E5+E7+E9+E11+E13 -> 0 | F15: =F5+F7+F9+F11+F13 -> 0 | G15: =G5+G7+G9+G11+G13 -> 0 | H15: =H5+H7+H9+H11+H13 -> 0 | I15: =I5+I7+I9+I11+I13 -> 0 | J15: =J5+J7+J9+J11+J13 -> 0 | K15: =K5+K7+K9+K11+K13 -> 0 | ... AC15: =AC5+AC7+AC9+AC11+AC13 -> 0
C16: افاغنه | D16: =D6+D8+D10+D12+D14 -> 0 | E16: =E6+E8+E10+E12+E14 -> 0 | F16: =F6+F8+F10+F12+F14 -> 0 | G16: =G6+G8+G10+G12+G14 -> 0 | H16: =H6+H8+H10+H12+H14 -> 0 | I16: =I6+I8+I10+I12+I14 -> 0 | J16: =J6+J8+J10+J12+J14 -> 0 | K16: =K6+K8+K10+K12+K14 -> 0 | ... AC16: =AC6+AC8+AC10+AC12+AC14 -> 0

Sheet ششماه اول
B1: فعاليت هاي اجرايي مراكزبهداشتي ودرماني ............. در زمينه غربالگري و شناسايي موارد آلوده به شپش سال
A2: ردیف | B2: فـــــــــــعـــــــالـــــیـــــت مـــــــرکــــــز
D3: تعداد افراد | E3: تعداد افراد | F3: زن | J3: مرد | N3: جمع کل | O3: محل سكونت | R3: نوع شپش | U3: سابقه آلودگي | Y3: نوع درمان
D4: معاينه شده | E4: آلوده | F4: زير 6 سال | G4: 6تا 12 سال | H4: 13تا18سال | I4: بالايي 18 سال | J4: زير 6 سال | K4: 6تا 12 سال | L4: 13تا18سال | M4: بالايي 18 سال | O4: روستا | P4: شهر | Q4: جمع کل | R4: سر | S4: تن | T4: عانه | U4: جمع کل | V4: دارد | W4: ندارد | X4: جمع کل | Y4: شامپو پرمترین | Z4: لوسیون دایمتیکون | AA4: کرم پرمترین | AB4: لوسیون لیندان | AC4: اسپری درمین
A5: 1 | B5: خانه بهداشت | C5: ایرانی | D5: ='سه ماهه اول'!D5+'سه ماهه دوم'!D5 -> 0 | E5: ='سه ماهه اول'!E5+'سه ماهه دوم'!E5 -> 0 | F5: ='سه ماهه اول'!F5+'سه ماهه دوم'!F5 -> 0 | G5: ='سه ماهه اول'!G5+'سه ماهه دوم'!G5 -> 0 | H5: ='سه ماهه اول'!H5+'سه ماهه دوم'!H5 -> 0 | I5: ='سه ماهه اول'!I5+'سه ماهه دوم'!I5 -> 0 | J5: ='سه ماهه اول'!J5+'سه ماهه دوم'!J5 -> 0 | K5: ='سه ماهه اول'!K5+'سه ماهه دوم'!K5 -> 0 | ... M5: ='سه ماهه اول'!M5+'سه ماهه دوم'!M5 -> 0 | N5: =F5+G5+H5+I5+J5+K5+L5+M5 -> 0 | O5: ='سه ماهه اول'!O5+'سه ماهه دوم'!O5 -> 0 | P5: ='سه ماهه اول'!P5+'سه ماهه دوم'!P5 -> 0 | Q5: =O5+P5 -> 0 | R5: ='سه ماهه اول'!R5+'سه ماهه دوم'!R5 -> 0 | S5: ='سه ماهه اول'!S5+'سه ماهه دوم'!S5 -> 0 | T5: ='سه ماهه اول'!T5+'سه ماهه دوم'!T5 -> 0 | U5: =R5+S5+T5 -> 0 | V5: ='سه ماهه اول'!V5+'سه ماهه دوم'!V5 -> 0 | W5: ='سه ماهه اول'!W5+'سه ماهه دوم'!W5 -> 0 | X5: =V5+W5 -> 0 | Y5: ='سه ماهه اول'!Y5+'سه ماهه دوم'!Y5 -> 0 | Z5: ='سه ماهه اول'!Z5+'سه ماهه دوم'!Z5 -> 0 | AA5: ='سه ماهه اول'!AA5+'سه ماهه دوم'!AA5 -> 0 | AB5: ='سه ماهه اول'!AB5+'سه ماهه دوم'!AB5 -> 0 | AC5: ='سه ماهه اول'!AC5+'سه ماهه دوم'!AC5 -> 0
C6: افاغنه | D6: ='سه ماهه اول'!D6+'سه ماهه دوم'!D6 -> 0 | E6: ='سه ماهه اول'!E6+'سه ماهه دوم'!E6 -> 0 | F6: ='سه ماهه اول'!F6+'سه ماهه دوم'!F6 -> 0 | G6: ='سه ماهه اول'!G6+'سه ماهه دوم'!G6 -> 0 | H6: ='سه ماهه اول'!H6+'سه ماهه دوم'!H6 -> 0 | I6: ='سه ماهه اول'!I6+'سه ماهه دوم'!I6 -> 0 | J6: ='سه ماهه اول'!J6+'سه ماهه دوم'!J6 -> 0 | K6: ='سه ماهه اول'!K6+'سه ماهه دوم'!K6 -> 0 | ... M6: ='سه ماهه اول'!M6+'سه ماهه دوم'!M6 -> 0 | N6: =F6+G6+H6+I6+J6+K6+L6+M6 -> 0 | O6: ='سه ماهه اول'!O6+'سه ماهه دوم'!O6 -> 0 | P6: ='سه ماهه اول'!P6+'سه ماهه دوم'!P6 -> 0 | Q6: =O6+P6 -> 0 | R6: ='سه ماهه اول'!R6+'سه ماهه دوم'!R6 -> 0 | S6: ='سه ماهه اول'!S6+'سه ماهه دوم'!S6 -> 0 | T6: ='سه ماهه اول'!T6+'سه ماهه دوم'!T6 -> 0 | U6: =R6+S6+T6 -> 0 | V6: ='سه ماهه اول'!V6+'سه ماهه دوم'!V6 -> 0 | W6: ='سه ماهه اول'!W6+'سه ماهه دوم'!W6 -> 0 | X6: =V6+W6 -> 0 | Y6: ='سه ماهه اول'!Y6+'سه ماهه دوم'!Y6 -> 0 | Z6: ='سه ماهه اول'!Z6+'سه ماهه دوم'!Z6 -> 0 | AA6: ='سه ماهه اول'!AA6+'سه ماهه دوم'!AA6 -> 0 | AB6: ='سه ماهه اول'!AB6+'سه ماهه دوم'!AB6 -> 0 | AC6: ='سه ماهه اول'!AC6+'سه ماهه دوم'!AC6 -> 0
A7: 2 | B7: خانه بهداشت | C7: ایرانی | D7: ='سه ماهه اول'!D7+'سه ماهه دوم'!D7 -> 0 | E7: ='سه ماهه اول'!E7+'سه ماهه دوم'!E7 -> 0 | F7: ='سه ماهه اول'!F7+'سه ماهه دوم'!F7 -> 0 | G7: ='سه ماهه اول'!G7+'سه ماهه دوم'!G7 -> 0 | H7: ='سه ماهه اول'!H7+'سه ماهه دوم'!H7 -> 0 | I7: ='سه ماهه اول'!I7+'سه ماهه دوم'!I7 -> 0 | J7: ='سه ماهه اول'!J7+'سه ماهه دوم'!J7 -> 0 | K7: ='سه ماهه اول'!K7+'سه ماهه دوم'!K7 -> 0 | ... M7: ='سه ماهه اول'!M7+'سه ماهه دوم'!M7 -> 0 | N7: =F7+G7+H7+I7+J7+K7+L7+M7 -> 0 | O7: ='سه ماهه اول'!O7+'سه ماهه دوم'!O7 -> 0 | P7: ='سه ماهه اول'!P7+'سه ماهه دوم'!P7 -> 0 | Q7: =O7+P7 -> 0 | R7: ='سه ماهه اول'!R7+'سه ماهه دوم'!R7 -> 0 | S7: ='سه ماهه اول'!S7+'سه ماهه دوم'!S7 -> 0 | T7: ='سه ماهه اول'!T7+'سه ماهه دوم'!T7 -> 0 | U7: =R7+S7+T7 -> 0 | V7: ='سه ماهه اول'!V7+'سه ماهه دوم'!V7 -> 0 | W7: ='سه ماهه اول'!W7+'سه ماهه دوم'!W7 -> 0 | X7: =V7+W7 -> 0 | Y7: ='سه ماهه اول'!Y7+'سه ماهه دوم'!Y7 -> 0 | Z7: ='سه ماهه اول'!Z7+'سه ماهه دوم'!Z7 -> 0 | AA7: ='سه ماهه اول'!AA7+'سه ماهه دوم'!AA7 -> 0 | AB7: ='سه ماهه اول'!AB7+'سه ماهه دوم'!AB7 -> 0 | AC7: ='سه ماهه اول'!AC7+'سه ماهه دوم'!AC7 -> 0
C8: افاغنه | D8: ='سه ماهه اول'!D8+'سه ماهه دوم'!D8 -> 0 | E8: ='سه ماهه اول'!E8+'سه ماهه دوم'!E8 -> 0 | F8: ='سه ماهه اول'!F8+'سه ماهه دوم'!F8 -> 0 | G8: ='سه ماهه اول'!G8+'سه ماهه دوم'!G8 -> 0 | H8: ='سه ماهه اول'!H8+'سه ماهه دوم'!H8 -> 0 | I8: ='سه ماهه اول'!I8+'سه ماهه دوم'!I8 -> 0 | J8: ='سه ماهه اول'!J8+'سه ماهه دوم'!J8 -> 0 | K8: ='سه ماهه اول'!K8+'سه ماهه دوم'!K8 -> 0 | ... M8: ='سه ماهه اول'!M8+'سه ماهه دوم'!M8 -> 0 | N8: =F8+G8+H8+I8+J8+K8+L8+M8 -> 0 | O8: ='سه ماهه اول'!O8+'سه ماهه دوم'!O8 -> 0 | P8: ='سه ماهه اول'!P8+'سه ماهه دوم'!P8 -> 0 | Q8: =O8+P8 -> 0 | R8: ='سه ماهه اول'!R8+'سه ماهه دوم'!R8 -> 0 | S8: ='سه ماهه اول'!S8+'سه ماهه دوم'!S8 -> 0 | T8: ='سه ماهه اول'!T8+'سه ماهه دوم'!T8 -> 0 | U8: =R8+S8+T8 -> 0 | V8: ='سه ماهه اول'!V8+'سه ماهه دوم'!V8 -> 0 | W8: ='سه ماهه اول'!W8+'سه ماهه دوم'!W8 -> 0 | X8: =V8+W8 -> 0 | Y8: ='سه ماهه اول'!Y8+'سه ماهه دوم'!Y8 -> 0 | Z8: ='سه ماهه اول'!Z8+'سه ماهه دوم'!Z8 -> 0 | AA8: ='سه ماهه اول'!AA8+'سه ماهه دوم'!AA8 -> 0 | AB8: ='سه ماهه اول'!AB8+'سه ماهه دوم'!AB8 -> 0 | AC8: ='سه ماهه اول'!AC8+'سه ماهه دوم'!AC8 -> 0
A9: 3 | B9: خانه بهداشت | C9: ایرانی | D9: ='سه ماهه اول'!D9+'سه ماهه دوم'!D9 -> 0 | E9: ='سه ماهه اول'!E9+'سه ماهه دوم'!E9 -> 0 | F9: ='سه ماهه اول'!F9+'سه ماهه دوم'!F9 -> 0 | G9: ='سه ماهه اول'!G9+'سه ماهه دوم'!G9 -> 0 | H9: ='سه ماهه اول'!H9+'سه ماهه دوم'!H9 -> 0 | I9: ='سه ماهه اول'!I9+'سه ماهه دوم'!I9 -> 0 | J9: ='سه ماهه اول'!J9+'سه ماهه دوم'!J9 -> 0 | K9: ='سه ماهه اول'!K9+'سه ماهه دوم'!K9 -> 0 | ... M9: ='سه ماهه اول'!M9+'سه ماهه دوم'!M9 -> 0 | N9: =F9+G9+H9+I9+J9+K9+L9+M9 -> 0 | O9: ='سه ماهه اول'!O9+'سه ماهه دوم'!O9 -> 0 | P9: ='سه ماهه اول'!P9+'سه ماهه دوم'!P9 -> 0 | Q9: =O9+P9 -> 0 | R9: ='سه ماهه اول'!R9+'سه ماهه دوم'!R9 -> 0 | S9: ='سه ماهه اول'!S9+'سه ماهه دوم'!S9 -> 0 | T9: ='سه ماهه اول'!T9+'سه ماهه دوم'!T9 -> 0 | U9: =R9+S9+T9 -> 0 | V9: ='سه ماهه اول'!V9+'سه ماهه دوم'!V9 -> 0 | W9: ='سه ماهه اول'!W9+'سه ماهه دوم'!W9 -> 0 | X9: =V9+W9 -> 0 | Y9: ='سه ماهه اول'!Y9+'سه ماهه دوم'!Y9 -> 0 | Z9: ='سه ماهه اول'!Z9+'سه ماهه دوم'!Z9 -> 0 | AA9: ='سه ماهه اول'!AA9+'سه ماهه دوم'!AA9 -> 0 | AB9: ='سه ماهه اول'!AB9+'سه ماهه دوم'!AB9 -> 0 | AC9: ='سه ماهه اول'!AC9+'سه ماهه دوم'!AC9 -> 0
C10: افاغنه | D10: ='سه ماهه اول'!D10+'سه ماهه دوم'!D10 -> 0 | E10: ='سه ماهه اول'!E10+'سه ماهه دوم'!E10 -> 0 | F10: ='سه ماهه اول'!F10+'سه ماهه دوم'!F10 -> 0 | G10: ='سه ماهه اول'!G10+'سه ماهه دوم'!G10 -> 0 | H10: ='سه ماهه اول'!H10+'سه ماهه دوم'!H10 -> 0 | I10: ='سه ماهه اول'!I10+'سه ماهه دوم'!I10 -> 0 | J10: ='سه ماهه اول'!J10+'سه ماهه دوم'!J10 -> 0 | K10: ='سه ماهه اول'!K10+'سه ماهه دوم'!K10 -> 0 | ... M10: ='سه ماهه اول'!M10+'سه ماهه دوم'!M10 -> 0 | N10: =F10+G10+H10+I10+J10+K10+L10+M10 -> 0 | O10: ='سه ماهه اول'!O10+'سه ماهه دوم'!O10 -> 0 | P10: ='سه ماهه اول'!P10+'سه ماهه دوم'!P10 -> 0 | Q10: =O10+P10 -> 0 | R10: ='سه ماهه اول'!R10+'سه ماهه دوم'!R10 -> 0 | S10: ='سه ماهه اول'!S10+'سه ماهه دوم'!S10 -> 0 | T10: ='سه ماهه اول'!T10+'سه ماهه دوم'!T10 -> 0 | U10: =R10+S10+T10 -> 0 | V10: ='سه ماهه اول'!V10+'سه ماهه دوم'!V10 -> 0 | W10: ='سه ماهه اول'!W10+'سه ماهه دوم'!W10 -> 0 | X10: =V10+W10 -> 0 | Y10: ='سه ماهه اول'!Y10+'سه ماهه دوم'!Y10 -> 0 | Z10: ='سه ماهه اول'!Z10+'سه ماهه دوم'!Z10 -> 0 | AA10: ='سه ماهه اول'!AA10+'سه ماهه دوم'!AA10 -> 0 | AB10: ='سه ماهه اول'!AB10+'سه ماهه دوم'!AB10 -> 0 | AC10: ='سه ماهه اول'!AC10+'سه ماهه دوم'!AC10 -> 0
A11: 4 | B11: خانه بهداشت | C11: ایرانی | D11: ='سه ماهه اول'!D11+'سه ماهه دوم'!D11 -> 0 | E11: ='سه ماهه اول'!E11+'سه ماهه دوم'!E11 -> 0 | F11: ='سه ماهه اول'!F11+'سه ماهه دوم'!F11 -> 0 | G11: ='سه ماهه اول'!G11+'سه ماهه دوم'!G11 -> 0 | H11: ='سه ماهه اول'!H11+'سه ماهه دوم'!H11 -> 0 | I11: ='سه ماهه اول'!I11+'سه ماهه دوم'!I11 -> 0 | J11: ='سه ماهه اول'!J11+'سه ماهه دوم'!J11 -> 0 | K11: ='سه ماهه اول'!K11+'سه ماهه دوم'!K11 -> 0 | ... M11: ='سه ماهه اول'!M11+'سه ماهه دوم'!M11 -> 0 | N11: =F11+G11+H11+I11+J11+K11+L11+M11 -> 0 | O11: ='سه ماهه اول'!O11+'سه ماهه دوم'!O11 -> 0 | P11: ='سه ماهه اول'!P11+'سه ماهه دوم'!P11 -> 0 | Q11: =O11+P11 -> 0 | R11: ='سه ماهه اول'!R11+'سه ماهه دوم'!R11 -> 0 | S11: ='سه ماهه اول'!S11+'سه ماهه دوم'!S11 -> 0 | T11: ='سه ماهه اول'!T11+'سه ماهه دوم'!T11 -> 0 | U11: =R11+S11+T11 -> 0 | V11: ='سه ماهه اول'!V11+'سه ماهه دوم'!V11 -> 0 | W11: ='سه ماهه اول'!W11+'سه ماهه دوم'!W11 -> 0 | X11: =V11+W11 -> 0 | Y11: ='سه ماهه اول'!Y11+'سه ماهه دوم'!Y11 -> 0 | Z11: ='سه ماهه اول'!Z11+'سه ماهه دوم'!Z11 -> 0 | AA11: ='سه ماهه اول'!AA11+'سه ماهه دوم'!AA11 -> 0 | AB11: ='سه ماهه اول'!AB11+'سه ماهه دوم'!AB11 -> 0 | AC11: ='سه ماهه اول'!AC11+'سه ماهه دوم'!AC11 -> 0
C12: افاغنه | D12: ='سه ماهه اول'!D12+'سه ماهه دوم'!D12 -> 0 | E12: ='سه ماهه اول'!E12+'سه ماهه دوم'!E12 -> 0 | F12: ='سه ماهه اول'!F12+'سه ماهه دوم'!F12 -> 0 | G12: ='سه ماهه اول'!G12+'سه ماهه دوم'!G12 -> 0 | H12: ='سه ماهه اول'!H12+'سه ماهه دوم'!H12 -> 0 | I12: ='سه ماهه اول'!I12+'سه ماهه دوم'!I12 -> 0 | J12: ='سه ماهه اول'!J12+'سه ماهه دوم'!J12 -> 0 | K12: ='سه ماهه اول'!K12+'سه ماهه دوم'!K12 -> 0 | ... M12: ='سه ماهه اول'!M12+'سه ماهه دوم'!M12 -> 0 | N12: =F12+G12+H12+I12+J12+K12+L12+M12 -> 0 | O12: ='سه ماهه اول'!O12+'سه ماهه دوم'!O12 -> 0 | P12: ='سه ماهه اول'!P12+'سه ماهه دوم'!P12 -> 0 | Q12: =O12+P12 -> 0 | R12: ='سه ماهه اول'!R12+'سه ماهه دوم'!R12 -> 0 | S12: ='سه ماهه اول'!S12+'سه ماهه دوم'!S12 -> 0 | T12: ='سه ماهه اول'!T12+'سه ماهه دوم'!T12 -> 0 | U12: =R12+S12+T12 -> 0 | V12: ='سه ماهه اول'!V12+'سه ماهه دوم'!V12 -> 0 | W12: ='سه ماهه اول'!W12+'سه ماهه دوم'!W12 -> 0 | X12: =V12+W12 -> 0 | Y12: ='سه ماهه اول'!Y12+'سه ماهه دوم'!Y12 -> 0 | Z12: ='سه ماهه اول'!Z12+'سه ماهه دوم'!Z12 -> 0 | AA12: ='سه ماهه اول'!AA12+'سه ماهه دوم'!AA12 -> 0 | AB12: ='سه ماهه اول'!AB12+'سه ماهه دوم'!AB12 -> 0 | AC12: ='سه ماهه اول'!AC12+'سه ماهه دوم'!AC12 -> 0
A13: 5 | B13: خانه بهداشت | C13: ایرانی | D13: ='سه ماهه اول'!D13+'سه ماهه دوم'!D13 -> 0 | E13: ='سه ماهه اول'!E13+'سه ماهه دوم'!E13 -> 0 | F13: ='سه ماهه اول'!F13+'سه ماهه دوم'!F13 -> 0 | G13: ='سه ماهه اول'!G13+'سه ماهه دوم'!G13 -> 0 | H13: ='سه ماهه اول'!H13+'سه ماهه دوم'!H13 -> 0 | I13: ='سه ماهه اول'!I13+'سه ماهه دوم'!I13 -> 0 | J13: ='سه ماهه اول'!J13+'سه ماهه دوم'!J13 -> 0 | K13: ='سه ماهه اول'!K13+'سه ماهه دوم'!K13 -> 0 | ... M13: ='سه ماهه اول'!M13+'سه ماهه دوم'!M13 -> 0 | N13: =F13+G13+H13+I13+J13+K13+L13+M13 -> 0 | O13: ='سه ماهه اول'!O13+'سه ماهه دوم'!O13 -> 0 | P13: ='سه ماهه اول'!P13+'سه ماهه دوم'!P13 -> 0 | Q13: =O13+P13 -> 0 | R13: ='سه ماهه اول'!R13+'سه ماهه دوم'!R13 -> 0 | S13: ='سه ماهه اول'!S13+'سه ماهه دوم'!S13 -> 0 | T13: ='سه ماهه اول'!T13+'سه ماهه دوم'!T13 -> 0 | U13: =R13+S13+T13 -> 0 | V13: ='سه ماهه اول'!V13+'سه ماهه دوم'!V13 -> 0 | W13: ='سه ماهه اول'!W13+'سه ماهه دوم'!W13 -> 0 | X13: =V13+W13 -> 0 | Y13: ='سه ماهه اول'!Y13+'سه ماهه دوم'!Y13 -> 0 | Z13: ='سه ماهه اول'!Z13+'سه ماهه دوم'!Z13 -> 0 | AA13: ='سه ماهه اول'!AA13+'سه ماهه دوم'!AA13 -> 0 | AB13: ='سه ماهه اول'!AB13+'سه ماهه دوم'!AB13 -> 0 | AC13: ='سه ماهه اول'!AC13+'سه ماهه دوم'!AC13 -> 0
C14: افاغنه | D14: ='سه ماهه اول'!D14+'سه ماهه دوم'!D14 -> 0 | E14: ='سه ماهه اول'!E14+'سه ماهه دوم'!E14 -> 0 | F14: ='سه ماهه اول'!F14+'سه ماهه دوم'!F14 -> 0 | G14: ='سه ماهه اول'!G14+'سه ماهه دوم'!G14 -> 0 | H14: ='سه ماهه اول'!H14+'سه ماهه دوم'!H14 -> 0 | I14: ='سه ماهه اول'!I14+'سه ماهه دوم'!I14 -> 0 | J14: ='سه ماهه اول'!J14+'سه ماهه دوم'!J14 -> 0 | K14: ='سه ماهه اول'!K14+'سه ماهه دوم'!K14 -> 0 | ... M14: ='سه ماهه اول'!M14+'سه ماهه دوم'!M14 -> 0 | N14: =F14+G14+H14+I14+J14+K14+L14+M14 -> 0 | O14: ='سه ماهه اول'!O14+'سه ماهه دوم'!O14 -> 0 | P14: ='سه ماهه اول'!P14+'سه ماهه دوم'!P14 -> 0 | Q14: =O14+P14 -> 0 | R14: ='سه ماهه اول'!R14+'سه ماهه دوم'!R14 -> 0 | S14: ='سه ماهه اول'!S14+'سه ماهه دوم'!S14 -> 0 | T14: ='سه ماهه اول'!T14+'سه ماهه دوم'!T14 -> 0 | U14: =R14+S14+T14 -> 0 | V14: ='سه ماهه اول'!V14+'سه ماهه دوم'!V14 -> 0 | W14: ='سه ماهه اول'!W14+'سه ماهه دوم'!W14 -> 0 | X14: =V14+W14 -> 0 | Y14: ='سه ماهه اول'!Y14+'سه ماهه دوم'!Y14 -> 0 | Z14: ='سه ماهه اول'!Z14+'سه ماهه دوم'!Z14 -> 0 | AA14: ='سه ماهه اول'!AA14+'سه ماهه دوم'!AA14 -> 0 | AB14: ='سه ماهه اول'!AB14+'سه ماهه دوم'!AB14 -> 0 | AC14: ='سه ماهه اول'!AC14+'سه ماهه دوم'!AC14 -> 0
A15: 6 | B15: جمع کل | C15: ایرانی | D15: =D5+D7+D9+D11+D13 -> 0 | E15: =E5+E7+E9+E11+E13 -> 0 | F15: =F5+F7+F9+F11+F13 -> 0 | G15: =G5+G7+G9+G11+G13 -> 0 | H15: =H5+H7+H9+H11+H13 -> 0 | I15: =I5+I7+I9+I11+I13 -> 0 | J15: =J5+J7+J9+J11+J13 -> 0 | K15: =K5+K7+K9+K11+K13 -> 0 | ... AC15: =AC5+AC7+AC9+AC11+AC13 -> 0
C16: افاغنه | D16: =D6+D8+D10+D12+D14 -> 0 | E16: =E6+E8+E10+E12+E14 -> 0 | F16: =F6+F8+F10+F12+F14 -> 0 | G16: =G6+G8+G10+G12+G14 -> 0 | H16: =H6+H8+H10+H12+H14 -> 0 | I16: =I6+I8+I10+I12+I14 -> 0 | J16: =J6+J8+J10+J12+J14 -> 0 | K16: =K6+K8+K10+K12+K14 -> 0 | ... AC16: =AC6+AC8+AC10+AC12+AC14 -> 0

Sheet مهر
B1: فعاليت هاي اجرايي مراكزبهداشتي ودرماني ............. در زمينه غربالگري و شناسايي موارد آلوده به شپش سال
A2: ردیف | B2: فـــــــــــعـــــــالـــــیـــــت مـــــــرکــــــز
D3: تعداد افراد | E3: تعداد افراد | F3: زن | J3: مرد | N3: جمع کل | O3: محل سكونت | R3: نوع شپش | U3: سابقه آلودگي | Y3: نوع درمان
D4: معاينه شده | E4: آلوده | F4: زير 6 سال | G4: 6تا 12 سال | H4: 13تا18سال | I4: بالايي 18 سال | J4: زير 6 سال | K4: 6تا 12 سال | L4: 13تا18سال | M4: بالايي 18 سال | O4: روستا | P4: شهر | Q4: جمع کل | R4: سر | S4: تن | T4: عانه | U4: جمع کل | V4: دارد | W4: ندارد | X4: جمع کل | Y4: شامپو پرمترین | Z4: لوسیون دایمتیکون | AA4: کرم پرمترین | AB4: لوسیون لیندان | AC4: اسپری درمین
A5: 1 | B5: خانه بهداشت | C5: ایرانی | N5: =F5+G5+H5+I5+J5+K5+L5+M5 -> 0 | Q5: =O5+P5 -> 0 | U5: =R5+S5+T5 -> 0 | X5: =V5+W5 -> 0
C6: افاغنه | N6: =F6+G6+H6+I6+J6+K6+L6+M6 -> 0 | Q6: =O6+P6 -> 0 | U6: =R6+S6+T6 -> 0 | X6: =V6+W6 -> 0
A7: 2 | B7: خانه بهداشت | C7: ایرانی | N7: =F7+G7+H7+I7+J7+K7+L7+M7 -> 0 | Q7: =O7+P7 -> 0 | U7: =R7+S7+T7 -> 0 | X7: =V7+W7 -> 0
C8: افاغنه | N8: =F8+G8+H8+I8+J8+K8+L8+M8 -> 0 | Q8: =O8+P8 -> 0 | U8: =R8+S8+T8 -> 0 | X8: =V8+W8 -> 0
A9: 3 | B9: خانه بهداشت | C9: ایرانی | N9: =F9+G9+H9+I9+J9+K9+L9+M9 -> 0 | Q9: =O9+P9 -> 0 | U9: =R9+S9+T9 -> 0 | X9: =V9+W9 -> 0
C10: افاغنه | N10: =F10+G10+H10+I10+J10+K10+L10+M10 -> 0 | Q10: =O10+P10 -> 0 | U10: =R10+S10+T10 -> 0 | X10: =V10+W10 -> 0
A11: 4 | B11: خانه بهداشت | C11: ایرانی | N11: =F11+G11+H11+I11+J11+K11+L11+M11 -> 0 | Q11: =O11+P11 -> 0 | U11: =R11+S11+T11 -> 0 | X11: =V11+W11 -> 0
C12: افاغنه | N12: =F12+G12+H12+I12+J12+K12+L12+M12 -> 0 | Q12: =O12+P12 -> 0 | U12: =R12+S12+T12 -> 0 | X12: =V12+W12 -> 0
A13: 5 | B13: خانه بهداشت | C13: ایرانی | N13: =F13+G13+H13+I13+J13+K13+L13+M13 -> 0 | Q13: =O13+P13 -> 0 | U13: =R13+S13+T13 -> 0 | X13: =V13+W13 -> 0
C14: افاغنه | N14: =F14+G14+H14+I14+J14+K14+L14+M14 -> 0 | Q14: =O14+P14 -> 0 | U14: =R14+S14+T14 -> 0 | X14: =V14+W14 -> 0
A15: 6 | B15: جمع کل | C15: ایرانی | D15: =D5+D7+D9+D11+D13 -> 0 | E15: =E5+E7+E9+E11+E13 -> 0 | F15: =F5+F7+F9+F11+F13 -> 0 | G15: =G5+G7+G9+G11+G13 -> 0 | H15: =H5+H7+H9+H11+H13 -> 0 | I15: =I5+I7+I9+I11+I13 -> 0 | J15: =J5+J7+J9+J11+J13 -> 0 | K15: =K5+K7+K9+K11+K13 -> 0 | ... AC15: =AC5+AC7+AC9+AC11+AC13 -> 0
C16: افاغنه | D16: =D6+D8+D10+D12+D14 -> 0 | E16: =E6+E8+E10+E12+E14 -> 0 | F16: =F6+F8+F10+F12+F14 -> 0 | G16: =G6+G8+G10+G12+G14 -> 0 | H16: =H6+H8+H10+H12+H14 -> 0 | I16: =I6+I8+I10+I12+I14 -> 0 | J16: =J6+J8+J10+J12+J14 -> 0 | K16: =K6+K8+K10+K12+K14 -> 0 | ... AC16: =AC6+AC8+AC10+AC12+AC14 -> 0

Sheet آبان
B1: فعاليت هاي اجرايي مراكزبهداشتي ودرماني ............. در زمينه غربالگري و شناسايي موارد آلوده به شپش سال
A2: ردیف | B2: فـــــــــــعـــــــالـــــیـــــت مـــــــرکــــــز
D3: تعداد افراد | E3: تعداد افراد | F3: زن | J3: مرد | N3: جمع کل | O3: محل سكونت | R3: نوع شپش | U3: سابقه آلودگي | Y3: نوع درمان
D4: معاينه شده | E4: آلوده | F4: زير 6 سال | G4: 6تا 12 سال | H4: 13تا18سال | I4: بالايي 18 سال | J4: زير 6 سال | K4: 6تا 12 سال | L4: 13تا18سال | M4: بالايي 18 سال | O4: روستا | P4: شهر | Q4: جمع کل | R4: سر | S4: تن | T4: عانه | U4: جمع کل | V4: دارد | W4: ندارد | X4: جمع کل | Y4: شامپو پرمترین | Z4: لوسیون دایمتیکون | AA4: کرم پرمترین | AB4: لوسیون لیندان | AC4: اسپری درمین
A5: 1 | B5: خانه بهداشت | C5: ایرانی | N5: =F5+G5+H5+I5+J5+K5+L5+M5 -> 0 | Q5: =O5+P5 -> 0 | U5: =R5+S5+T5 -> 0 | X5: =V5+W5 -> 0
C6: افاغنه | N6: =F6+G6+H6+I6+J6+K6+L6+M6 -> 0 | Q6: =O6+P6 -> 0 | U6: =R6+S6+T6 -> 0 | X6: =V6+W6 -> 0
A7: 2 | B7: خانه بهداشت | C7: ایرانی | N7: =F7+G7+H7+I7+J7+K7+L7+M7 -> 0 | Q7: =O7+P7 -> 0 | U7: =R7+S7+T7 -> 0 | X7: =V7+W7 -> 0
C8: افاغنه | N8: =F8+G8+H8+I8+J8+K8+L8+M8 -> 0 | Q8: =O8+P8 -> 0 | U8: =R8+S8+T8 -> 0 | X8: =V8+W8 -> 0
A9: 3 | B9: خانه بهداشت | C9: ایرانی | N9: =F9+G9+H9+I9+J9+K9+L9+M9 -> 0 | Q9: =O9+P9 -> 0 | U9: =R9+S9+T9 -> 0 | X9: =V9+W9 -> 0
C10: افاغنه | N10: =F10+G10+H10+I10+J10+K10+L10+M10 -> 0 | Q10: =O10+P10 -> 0 | U10: =R10+S10+T10 -> 0 | X10: =V10+W10 -> 0
A11: 4 | B11: خانه بهداشت | C11: ایرانی | N11: =F11+G11+H11+I11+J11+K11+L11+M11 -> 0 | Q11: =O11+P11 -> 0 | U11: =R11+S11+T11 -> 0 | X11: =V11+W11 -> 0
C12: افاغنه | N12: =F12+G12+H12+I12+J12+K12+L12+M12 -> 0 | Q12: =O12+P12 -> 0 | U12: =R12+S12+T12 -> 0 | X12: =V12+W12 -> 0
A13: 5 | B13: خانه بهداشت | C13: ایرانی | N13: =F13+G13+H13+I13+J13+K13+L13+M13 -> 0 | Q13: =O13+P13 -> 0 | U13: =R13+S13+T13 -> 0 | X13: =V13+W13 -> 0
C14: افاغنه | N14: =F14+G14+H14+I14+J14+K14+L14+M14 -> 0 | Q14: =O14+P14 -> 0 | U14: =R14+S14+T14 -> 0 | X14: =V14+W14 -> 0
A15: 6 | B15: جمع کل | C15: ایرانی | D15: =D5+D7+D9+D11+D13 -> 0 | E15: =E5+E7+E9+E11+E13 -> 0 | F15: =F5+F7+F9+F11+F13 -> 0 | G15: =G5+G7+G9+G11+G13 -> 0 | H15: =H5+H7+H9+H11+H13 -> 0 | I15: =I5+I7+I9+I11+I13 -> 0 | J15: =J5+J7+J9+J11+J13 -> 0 | K15: =K5+K7+K9+K11+K13 -> 0 | ... AC15: =AC5+AC7+AC9+AC11+AC13 -> 0
C16: افاغنه | D16: =D6+D8+D10+D12+D14 -> 0 | E16: =E6+E8+E10+E12+E14 -> 0 | F16: =F6+F8+F10+F12+F14 -> 0 | G16: =G6+G8+G10+G12+G14 -> 0 | H16: =H6+H8+H10+H12+H14 -> 0 | I16: =I6+I8+I10+I12+I14 -> 0 | J16: =J6+J8+J10+J12+J14 -> 0 | K16: =K6+K8+K10+K12+K14 -> 0 | ... AC16: =AC6+AC8+AC10+AC12+AC14 -> 0

Sheet آذر
B1: فعاليت هاي اجرايي مراكزبهداشتي ودرماني ............. در زمينه غربالگري و شناسايي موارد آلوده به شپش سال
A2: ردیف | B2: فـــــــــــعـــــــالـــــیـــــت مـــــــرکــــــز
D3: تعداد افراد | E3: تعداد افراد | F3: زن | J3: مرد | N3: جمع کل | O3: محل سكونت | R3: نوع شپش | U3: سابقه آلودگي | Y3: نوع درمان
D4: معاينه شده | E4: آلوده | F4: زير 6 سال | G4: 6تا 12 سال | H4: 13تا18سال | I4: بالايي 18 سال | J4: زير 6 سال | K4: 6تا 12 سال | L4: 13تا18سال | M4: بالايي 18 سال | O4: روستا | P4: شهر | Q4: جمع کل | R4: سر | S4: تن | T4: عانه | U4: جمع کل | V4: دارد | W4: ندارد | X4: جمع کل | Y4: شامپو پرمترین | Z4: لوسیون دایمتیکون | AA4: کرم پرمترین | AB4: لوسیون لیندان | AC4: اسپری درمین
A5: 1 | B5: خانه بهداشت | C5: ایرانی | N5: =F5+G5+H5+I5+J5+K5+L5+M5 -> 0 | Q5: =O5+P5 -> 0 | U5: =R5+S5+T5 -> 0 | X5: =V5+W5 -> 0
C6: افاغنه | N6: =F6+G6+H6+I6+J6+K6+L6+M6 -> 0 | Q6: =O6+P6 -> 0 | U6: =R6+S6+T6 -> 0 | X6: =V6+W6 -> 0
A7: 2 | B7: خانه بهداشت | C7: ایرانی | N7: =F7+G7+H7+I7+J7+K7+L7+M7 -> 0 | Q7: =O7+P7 -> 0 | U7: =R7+S7+T7 -> 0 | X7: =V7+W7 -> 0
C8: افاغنه | N8: =F8+G8+H8+I8+J8+K8+L8+M8 -> 0 | Q8: =O8+P8 -> 0 | U8: =R8+S8+T8 -> 0 | X8: =V8+W8 -> 0
A9: 3 | B9: خانه بهداشت | C9: ایرانی | N9: =F9+G9+H9+I9+J9+K9+L9+M9 -> 0 | Q9: =O9+P9 -> 0 | U9: =R9+S9+T9 -> 0 | X9: =V9+W9 -> 0
C10: افاغنه | N10: =F10+G10+H10+I10+J10+K10+L10+M10 -> 0 | Q10: =O10+P10 -> 0 | U10: =R10+S10+T10 -> 0 | X10: =V10+W10 -> 0
A11: 4 | B11: خانه بهداشت | C11: ایرانی | N11: =F11+G11+H11+I11+J11+K11+L11+M11 -> 0 | Q11: =O11+P11 -> 0 | U11: =R11+S11+T11 -> 0 | X11: =V11+W11 -> 0
C12: افاغنه | N12: =F12+G12+H12+I12+J12+K12+L12+M12 -> 0 | Q12: =O12+P12 -> 0 | U12: =R12+S12+T12 -> 0 | X12: =V12+W12 -> 0
A13: 5 | B13: خانه بهداشت | C13: ایرانی | N13: =F13+G13+H13+I13+J13+K13+L13+M13 -> 0 | Q13: =O13+P13 -> 0 | U13: =R13+S13+T13 -> 0 | X13: =V13+W13 -> 0
C14: افاغنه | N14: =F14+G14+H14+I14+J14+K14+L14+M14 -> 0 | Q14: =O14+P14 -> 0 | U14: =R14+S14+T14 -> 0 | X14: =V14+W14 -> 0
A15: 6 | B15: جمع کل | C15: ایرانی | D15: =D5+D7+D9+D11+D13 -> 0 | E15: =E5+E7+E9+E11+E13 -> 0 | F15: =F5+F7+F9+F11+F13 -> 0 | G15: =G5+G7+G9+G11+G13 -> 0 | H15: =H5+H7+H9+H11+H13 -> 0 | I15: =I5+I7+I9+I11+I13 -> 0 | J15: =J5+J7+J9+J11+J13 -> 0 | K15: =K5+K7+K9+K11+K13 -> 0 | ... AC15: =AC5+AC7+AC9+AC11+AC13 -> 0
C16: افاغنه | D16: =D6+D8+D10+D12+D14 -> 0 | E16: =E6+E8+E10+E12+E14 -> 0 | F16: =F6+F8+F10+F12+F14 -> 0 | G16: =G6+G8+G10+G12+G14 -> 0 | H16: =H6+H8+H10+H12+H14 -> 0 | I16: =I6+I8+I10+I12+I14 -> 0 | J16: =J6+J8+J10+J12+J14 -> 0 | K16: =K6+K8+K10+K12+K14 -> 0 | ... AC16: =AC6+AC8+AC10+AC12+AC14 -> 0

Sheet سه ماهه سوم
B1: فعاليت هاي اجرايي مراكزبهداشتي ودرماني ............. در زمينه غربالگري و شناسايي موارد آلوده به شپش سال
A2: ردیف | B2: فـــــــــــعـــــــالـــــیـــــت مـــــــرکــــــز
D3: تعداد افراد | E3: تعداد افراد | F3: زن | J3: مرد | N3: جمع کل | O3: محل سكونت | R3: نوع شپش | U3: سابقه آلودگي | Y3: نوع درمان
