Workbook

Sheet فروردین
B1: فعاليت هاي اجرايي مراكزبهداشتي ودرماني ............. در زمينه غربالگري و شناسايي موارد آلوده به شپش سال
A2: ردیف | B2: فـــــــــــعـــــــالـــــیـــــت مـــــــرکــــــز
D3: تعداد افراد | E3: تعداد افراد | F3: زن | J3: مرد | N3: جمع کل | O3: محل سكونت | R3: نوع شپش | U3: سابقه آلودگي | Y3: نوع درمان
D4: معاينه شده | E4: آلوده | F4: زير 6 سال | G4: 6تا 12 سال | H4: 13تا18سال | I4: بالايي 18 سال | J4: زير 6 سال | K4: 6تا 12 سال | L4: 13تا18سال | M4: بالايي 18 سال | O4: روستا | P4: شهر | Q4: جمع کل | R4: سر | S4: تن | T4: عانه | U4: جمع کل | V4: دارد | W4: ندارد | X4: جمع کل | Y4: شامپو پرمترین | Z4: لوسیون دایمتیکون | AA4: کرم پرمترین | AB4: لوسیون لیندان | AC4: اسپری درمین
A5: 1 | B5: خانه بهداشت | C5: ایرانی | N5: =F5+G5+H5+I5+J5+K5+L5+M5 -> 0 | Q5: =O5+P5 -> 0 | U5: =R5+S5+T5 -> 0 | X5: =V5+W5 -> 0
C6: افاغنه | N6: =F6+G6+H6+I6+J6+K6+L6+M6 -> 0 | Q6: =O6+P6 -> 0 | U6: =R6+S6+T6 -> 0 | X6: =V6+W6 -> 0
A7: 2 | B7: خانه بهداشت | C7: ایرانی | N7: =F7+G7+H7+I7+J7+K7+L7+M7 -> 0 | Q7: =O7+P7 -> 0 | U7: =R7+S7+T7 -> 0 | X7: =V7+W7 -> 0
C8: افاغنه | N8: =F8+G8+H8+I8+J8+K8+L8+M8 -> 0 | Q8: =O8+P8 -> 0 | U8: =R8+S8+T8 -> 0 | X8: =V8+W8 -> 0
A9: 3 | B9: خانه بهداشت | C9: ایرانی | N9: =F9+G9+H9+I9+J9+K9+L9+M9 -> 0 | Q9: =O9+P9 -> 0 | U9: =R9+S9+T9 -> 0 | X9: =V9+W9 -> 0
C10: افاغنه | N10: =F10+G10+H10+I10+J10+K10+L10+M10 -> 0 | Q10: =O10+P10 -> 0 | U10: =R10+S10+T10 -> 0 | X10: =V10+W10 -> 0
A11: 4 | B11: خانه بهداشت | C11: ایرانی | N11: =F11+G11+H11+I11+J11+K11+L11+M11 -> 0 | Q11: =O11+P11 -> 0 | U11: =R11+S11+T11 -> 0 | X11: =V11+W11 -> 0
C12: افاغنه | N12: =F12+G12+H12+I12+J12+K12+L12+M12 -> 0 | Q12: =O12+P12 -> 0 | U12: =R12+S12+T12 -> 0 | X12: =V12+W12 -> 0
A13: 5 | B13: خانه بهداشت | C13: ایرانی | N13: =F13+G13+H13+I13+J13+K13+L13+M13 -> 0 | Q13: =O13+P13 -> 0 | U13: =R13+S13+T13 -> 0 | X13: =V13+W13 -> 0
C14: افاغنه | N14: =F14+G14+H14+I14+J14+K14+L14+M14 -> 0 | Q14: =O14+P14 -> 0 | U14: =R14+S14+T14 -> 0 | X14: =V14+W14 -> 0
A15: 6 | B15: جمع کل | C15: ایرانی | D15: =D5+D7+D9+D11+D13 -> 0 | E15: =E5+E7+E9+E11+E13 -> 0 | F15: =F5+F7+F9+F11+F13 -> 0 | G15: =G5+G7+G9+G11+G13 -> 0 | H15: =H5+H7+H9+H11+H13 -> 0 | I15: =I5+I7+I9+I11+I13 -> 0 | J15: =J5+J7+J9+J11+J13 -> 0 | K15: =K5+K7+K9+K11+K13 -> 0 | ... AC15: =AC5+AC7+AC9+AC11+AC13 -> 0
C16: افاغنه | D16: =D6+D8+D10+D12+D14 -> 0 | E16: =E6+E8+E10+E12+E14 -> 0 | F16: =F6+F8+F10+F12+F14 -> 0 | G16: =G6+G8+G10+G12+G14 -> 0 | H16: =H6+H8+H10+H12+H14 -> 0 | I16: =I6+I8+I10+I12+I14 -> 0 | J16: =J6+J8+J10+J12+J14 -> 0 | K16: =K6+K8+K10+K12+K14 -> 0 | ... AC16: =AC6+AC8+AC10+AC12+AC14 -> 0

Sheet اردیبهشت
B1: فعاليت هاي اجرايي مراكزبهداشتي ودرماني ............. در زمينه غربالگري و شناسايي موارد آلوده به شپش سال
A2: ردیف | B2: فـــــــــــعـــــــالـــــیـــــت مـــــــرکــــــز
D3: تعداد افراد | E3: تعداد افراد | F3: زن | J3: مرد | N3: جمع کل | O3: محل سكونت | R3: نوع شپش | U3: سابقه آلودگي | Y3: نوع درمان
D4: معاينه شده | E4: آلوده | F4: زير 6 سال | G4: 6تا 12 سال | H4: 13تا18سال | I4: بالايي 18 سال | J4: زير 6 سال | K4: 6تا 12 سال | L4: 13تا18سال | M4: بالايي 18 سال | O4: روستا | P4: شهر | Q4: جمع کل | R4: سر | S4: تن | T4: عانه | U4: جمع کل | V4: دارد | W4: ندارد | X4: جمع کل | Y4: شامپو پرمترین | Z4: لوسیون دایمتیکون | AA4: کرم پرمترین | AB4: لوسیون لیندان | AC4: اسپری درمین
A5: 1 | B5: خانه بهداشت | C5: ایرانی | N5: =F5+G5+H5+I5+J5+K5+L5+M5 -> 0 | Q5: =O5+P5 -> 0 | U5: =R5+S5+T5 -> 0 | X5: =V5+W5 -> 0
C6: افاغنه | N6: =F6+G6+H6+I6+J6+K6+L6+M6 -> 0 | Q6: =O6+P6 -> 0 | U6: =R6+S6+T6 -> 0 | X6: =V6+W6 -> 0
A7: 2 | B7: خانه بهداشت | C7: ایرانی | N7: =F7+G7+H7+I7+J7+K7+L7+M7 -> 0 | Q7: =O7+P7 -> 0 | U7: =R7+S7+T7 -> 0 | X7: =V7+W7 -> 0
C8: افاغنه | N8: =F8+G8+H8+I8+J8+K8+L8+M8 -> 0 | Q8: =O8+P8 -> 0 | U8: =R8+S8+T8 -> 0 | X8: =V8+W8 -> 0
A9: 3 | B9: خانه بهداشت | C9: ایرانی | N9: =F9+G9+H9+I9+J9+K9+L9+M9 -> 0 | Q9: =O9+P9 -> 0 | U9: =R9+S9+T9 -> 0 | X9: =V9+W9 -> 0
C10: افاغنه | N10: =F10+G10+H10+I10+J10+K10+L10+M10 -> 0 | Q10: =O10+P10 -> 0 | U10: =R10+S10+T10 -> 0 | X10: =V10+W10 -> 0
A11: 4 | B11: خانه بهداشت | C11: ایرانی | N11: =F11+G11+H11+I11+J11+K11+L11+M11 -> 0 | Q11: =O11+P11 -> 0 | U11: =R11+S11+T11 -> 0 | X11: =V11+W11 -> 0
C12: افاغنه | N12: =F12+G12+H12+I12+J12+K12+L12+M12 -> 0 | Q12: =O12+P12 -> 0 | U12: =R12+S12+T12 -> 0 | X12: =V12+W12 -> 0
A13: 5 | B13: خانه بهداشت | C13: ایرانی | N13: =F13+G13+H13+I13+J13+K13+L13+M13 -> 0 | Q13: =O13+P13 -> 0 | U13: =R13+S13+T13 -> 0 | X13: =V13+W13 -> 0
C14: افاغنه | N14: =F14+G14+H14+I14+J14+K14+L14+M14 -> 0 | Q14: =O14+P14 -> 0 | U14: =R14+S14+T14 -> 0 | X14: =V14+W14 -> 0
A15: 6 | B15: جمع کل | C15: ایرانی | D15: =D5+D7+D9+D11+D13 -> 0 | E15: =E5+E7+E9+E11+E13 -> 0 | F15: =F5+F7+F9+F11+F13 -> 0 | G15: =G5+G7+G9+G11+G13 -> 0 | H15: =H5+H7+H9+H11+H13 -> 0 | I15: =I5+I7+I9+I11+I13 -> 0 | J15: =J5+J7+J9+J11+J13 -> 0 | K15: =K5+K7+K9+K11+K13 -> 0 | ... AC15: =AC5+AC7+AC9+AC11+AC13 -> 0
C16: افاغنه | D16: =D6+D8+D10+D12+D14 -> 0 | E16: =E6+E8+E10+E12+E14 -> 0 | F16: =F6+F8+F10+F12+F14 -> 0 | G16: =G6+G8+G10+G12+G14 -> 0 | H16: =H6+H8+H10+H12+H14 -> 0 | I16: =I6+I8+I10+I12+I14 -> 0 | J16: =J6+J8+J10+J12+J14 -> 0 | K16: =K6+K8+K10+K12+K14 -> 0 | ... AC16: =AC6+AC8+AC10+AC12+AC14 -> 0

Sheet خرداد
B1: فعاليت هاي اجرايي مراكزبهداشتي ودرماني ............. در زمينه غربالگري و شناسايي موارد آلوده به شپش سال
A2: ردیف | B2: فـــــــــــعـــــــالـــــیـــــت مـــــــرکــــــز
D3: تعداد افراد | E3: تعداد افراد | F3: زن | J3: مرد | N3: جمع کل | O3: محل سكونت | R3: نوع شپش | U3: سابقه آلودگي | Y3: نوع درمان
D4: معاينه شده | E4: آلوده | F4: زير 6 سال | G4: 6تا 12 سال | H4: 13تا18سال | I4: بالايي 18 سال | J4: زير 6 سال | K4: 6تا 12 سال | L4: 13تا18سال | M4: بالايي 18 سال | O4: روستا | P4: شهر | Q4: جمع کل | R4: سر | S4: تن | T4: عانه | U4: جمع کل | V4: دارد | W4: ندارد | X4: جمع کل | Y4: شامپو پرمترین | Z4: لوسیون دایمتیکون | AA4: کرم پرمترین | AB4: لوسیون لیندان | AC4: اسپری درمین
A5: 1 | B5: خانه بهداشت | C5: ایرانی | N5: =F5+G5+H5+I5+J5+K5+L5+M5 -> 0 | Q5: =O5+P5 -> 0 | U5: =R5+S5+T5 -> 0 | X5: =V5+W5 -> 0
C6: افاغنه | N6: =F6+G6+H6+I6+J6+K6+L6+M6 -> 0 | Q6: =O6+P6 -> 0 | U6: =R6+S6+T6 -> 0 | X6: =V6+W6 -> 0
A7: 2 | B7: خانه بهداشت | C7: ایرانی | N7: =F7+G7+H7+I7+J7+K7+L7+M7 -> 0 | Q7: =O7+P7 -> 0 | U7: =R7+S7+T7 -> 0 | X7: =V7+W7 -> 0
C8: افاغنه | N8: =F8+G8+H8+I8+J8+K8+L8+M8 -> 0 | Q8: =O8+P8 -> 0 | U8: =R8+S8+T8 -> 0 | X8: =V8+W8 -> 0
A9: 3 | B9: خانه بهداشت | C9: ایرانی | N9: =F9+G9+H9+I9+J9+K9+L9+M9 -> 0 | Q9: =O9+P9 -> 0 | U9: =R9+S9+T9 -> 0 | X9: =V9+W9 -> 0
C10: افاغنه | N10: =F10+G10+H10+I10+J10+K10+L10+M10 -> 0 | Q10: =O10+P10 -> 0 | U10: =R10+S10+T10 -> 0 | X10: =V10+W10 -> 0
A11: 4 | B11: خانه بهداشت | C11: ایرانی | N11: =F11+G11+H11+I11+J11+K11+L11+M11 -> 0 | Q11: =O11+P11 -> 0 | U11: =R11+S11+T11 -> 0 | X11: =V11+W11 -> 0
C12: افاغنه | N12: =F12+G12+H12+I12+J12+K12+L12+M12 -> 0 | Q12: =O12+P12 -> 0 | U12: =R12+S12+T12 -> 0 | X12: =V12+W12 -> 0
A13: 5 | B13: خانه بهداشت | C13: ایرانی | N13: =F13+G13+H13+I13+J13+K13+L13+M13 -> 0 | Q13: =O13+P13 -> 0 | U13: =R13+S13+T13 -> 0 | X13: =V13+W13 -> 0
C14: افاغنه | N14: =F14+G14+H14+I14+J14+K14+L14+M14 -> 0 | Q14: =O14+P14 -> 0 | U14: =R14+S14+T14 -> 0 | X14: =V14+W14 -> 0
A15: 6 | B15: جمع کل | C15: ایرانی | D15: =D5+D7+D9+D11+D13 -> 0 | E15: =E5+E7+E9+E11+E13 -> 0 | F15: =F5+F7+F9+F11+F13 -> 0 | G15: =G5+G7+G9+G11+G13 -> 0 | H15: =H5+H7+H9+H11+H13 -> 0 | I15: =I5+I7+I9+I11+I13 -> 0 | J15: =J5+J7+J9+J11+J13 -> 0 | K15: =K5+K7+K9+K11+K13 -> 0 | ... AC15: =AC5+AC7+AC9+AC11+AC13 -> 0
C16: افاغنه | D16: =D6+D8+D10+D12+D14 -> 0 | E16: =E6+E8+E10+E12+E14 -> 0 | F16: =F6+F8+F10+F12+F14 -> 0 | G16: =G6+G8+G10+G12+G14 -> 0 | H16: =H6+H8+H10+H12+H14 -> 0 | I16: =I6+I8+I10+I12+I14 -> 0 | J16: =J6+J8+J10+J12+J14 -> 0 | K16: =K6+K8+K10+K12+K14 -> 0 | ... AC16: =AC6+AC8+AC10+AC12+AC14 -> 0

Sheet سه ماهه اول
B1: فعاليت هاي اجرايي مراكزبهداشتي ودرماني ............. در زمينه غربالگري و شناسايي موارد آلوده به شپش سال
A2: ردیف | B2: فـــــــــــعـــــــالـــــیـــــت مـــــــرکــــــز
D3: تعداد افراد | E3: تعداد افراد | F3: زن | J3: مرد | N3: جمع کل | O3: محل سكونت | R3: نوع شپش | U3: سابقه آلودگي | Y3: نوع درمان
D4: معاينه شده | E4: آلوده | F4: زير 6 سال | G4: 6تا 12 سال | H4: 13تا18سال | I4: بالايي 18 سال | J4: زير 6 سال | K4: 6تا 12 سال | L4: 13تا18سال | M4: بالايي 18 سال | O4: روستا | P4: شهر | Q4: جمع کل | R4: سر | S4: تن | T4: عانه | U4: جمع کل | V4: دارد | W4: ندارد | X4: جمع کل | Y4: شامپو پرمترین | Z4: لوسیون دایمتیکون | AA4: کرم پرمترین | AB4: لوسیون لیندان | AC4: اسپری درمین
A5: 1 | B5: خانه بهداشت | C5: ایرانی | D5: =خرداد!D5+اردیبهشت!D5+فروردین!D5 -> 0 | E5: =خرداد!E5+اردیبهشت!E5+فروردین!E5 -> 0 | F5: =خرداد!F5+اردیبهشت!F5+فروردین!F5 -> 0 | G5: =خرداد!G5+اردیبهشت!G5+فروردین!G5 -> 0 | H5: =خرداد!H5+اردیبهشت!H5+فروردین!H5 -> 0 | I5: =خرداد!I5+اردیبهشت!I5+فروردین!I5 -> 0 | J5: =خرداد!J5+اردیبهشت!J5+فروردین!J5 -> 0 | K5: =خرداد!K5+اردیبهشت!K5+فروردین!K5 -> 0 | ... M5: =خرداد!M5+اردیبهشت!M5+فروردین!M5 -> 0 | N5: =F5+G5+H5+I5+J5+K5+L5+M5 -> 0 | O5: =خرداد!O5+اردیبهشت!O5+فروردین!O5 -> 0 | P5: =خرداد!P5+اردیبهشت!P5+فروردین!P5 -> 0 | Q5: =O5+P5 -> 0 | R5: =خرداد!R5+اردیبهشت!R5+فروردین!R5 -> 0 | S5: =خرداد!S5+اردیبهشت!S5+فروردین!S5 -> 0 | T5: =خرداد!T5+اردیبهشت!T5+فروردین!T5 -> 0 | U5: =R5+S5+T5 -> 0 | V5: =خرداد!V5+اردیبهشت!V5+فروردین!V5 -> 0 | W5: =خرداد!W5+اردیبهشت!W5+فروردین!W5 -> 0 | X5: =V5+W5 -> 0 | Y5: =خرداد!Y5+اردیبهشت!Y5+فروردین!Y5 -> 0 | Z5: =خرداد!Z5+اردیبهشت!Z5+فروردین!Z5 -> 0 | AA5: =خرداد!AA5+اردیبهشت!AA5+فروردین!AA5 -> 0 | AB5: =خرداد!AB5+اردیبهشت!AB5+فروردین!AB5 -> 0 | AC5: =خرداد!AC5+اردیبهشت!AC5+فروردین!AC5 -> 0
C6: افاغنه | D6: =خرداد!D6+اردیبهشت!D6+فروردین!D6 -> 0 | E6: =خرداد!E6+اردیبهشت!E6+فروردین!E6 -> 0 | F6: =خرداد!F6+اردیبهشت!F6+فروردین!F6 -> 0 | G6: =خرداد!G6+اردیبهشت!G6+فروردین!G6 -> 0 | H6: =خرداد!H6+اردیبهشت!H6+فروردین!H6 -> 0 | I6: =خرداد!I6+اردیبهشت!I6+فروردین!I6 -> 0 | J6: =خرداد!J6+اردیبهشت!J6+فروردین!J6 -> 0 | K6: =خرداد!K6+اردیبهشت!K6+فروردین!K6 -> 0 | ... M6: =خرداد!M6+اردیبهشت!M6+فروردین!M6 -> 0 | N6: =F6+G6+H6+I6+J6+K6+L6+M6 -> 0 | O6: =خرداد!O6+اردیبهشت!O6+فروردین!O6 -> 0 | P6: =خرداد!P6+اردیبهشت!P6+فروردین!P6 -> 0 | Q6: =O6+P6 -> 0 | R6: =خرداد!R6+اردیبهشت!R6+فروردین!R6 -> 0 | S6: =خرداد!S6+اردیبهشت!S6+فروردین!S6 -> 0 | T6: =خرداد!T6+اردیبهشت!T6+فروردین!T6 -> 0 | U6: =R6+S6+T6 -> 0 | V6: =خرداد!V6+اردیبهشت!V6+فروردین!V6 -> 0 | W6: =خرداد!W6+اردیبهشت!W6+فروردین!W6 -> 0 | X6: =V6+W6 -> 0 | Y6: =خرداد!Y6+اردیبهشت!Y6+فروردین!Y6 -> 0 | Z6: =خرداد!Z6+اردیبهشت!Z6+فروردین!Z6 -> 0 | AA6: =خرداد!AA6+اردیبهشت!AA6+فروردین!AA6 -> 0 | AB6: =خرداد!AB6+اردیبهشت!AB6+فروردین!AB6 -> 0 | AC6: =خرداد!AC6+اردیبهشت!AC6+فروردین!AC6 -> 0
A7: 2 | B7: خانه بهداشت | C7: ایرانی | D7: =خرداد!D7+اردیبهشت!D7+فروردین!D7 -> 0 | E7: =خرداد!E7+اردیبهشت!E7+فروردین!E7 -> 0 | F7: =خرداد!F7+اردیبهشت!F7+فروردین!F7 -> 0 | G7: =خرداد!G7+اردیبهشت!G7+فروردین!G7 -> 0 | H7: =خرداد!H7+اردیبهشت!H7+فروردین!H7 -> 0 | I7: =خرداد!I7+اردیبهشت!I7+فروردین!I7 -> 0 | J7: =خرداد!J7+اردیبهشت!J7+فروردین!J7 -> 0 | K7: =خرداد!K7+اردیبهشت!K7+فروردین!K7 -> 0 | ... M7: =خرداد!M7+اردیبهشت!M7+فروردین!M7 -> 0 | N7: =F7+G7+H7+I7+J7+K7+L7+M7 -> 0 | O7: =خرداد!O7+اردیبهشت!O7+فروردین!O7 -> 0 | P7: =خرداد!P7+اردیبهشت!P7+فروردین!P7 -> 0 | Q7: =O7+P7 -> 0 | R7: =خرداد!R7+اردیبهشت!R7+فروردین!R7 -> 0 | S7: =خرداد!S7+اردیبهشت!S7+فروردین!S7 -> 0 | T7: =خرداد!T7+اردیبهشت!T7+فروردین!T7 -> 0 | U7: =R7+S7+T7 -> 0 | V7: =خرداد!V7+اردیبهشت!V7+فروردین!V7 -> 0 | W7: =خرداد!W7+اردیبهشت!W7+فروردین!W7 -> 0 | X7: =V7+W7 -> 0 | Y7: =خرداد!Y7+اردیبهشت!Y7+فروردین!Y7 -> 0 | Z7: =خرداد!Z7+اردیبهشت!Z7+فروردین!Z7 -> 0 | AA7: =خرداد!AA7+اردیبهشت!AA7+فروردین!AA7 -> 0 | AB7: =خرداد!AB7+اردیبهشت!AB7+فروردین!AB7 -> 0 | AC7: =خرداد!AC7+اردیبهشت!AC7+فروردین!AC7 -> 0
C8: افاغنه | D8: =خرداد!D8+اردیبهشت!D8+فروردین!D8 -> 0 | E8: =خرداد!E8+اردیبهشت!E8+فروردین!E8 -> 0 | F8: =خرداد!F8+اردیبهشت!F8+فروردین!F8 -> 0 | G8: =خرداد!G8+اردیبهشت!G8+فروردین!G8 -> 0 | H8: =خرداد!H8+اردیبهشت!H8+فروردین!H8 -> 0 | I8: =خرداد!I8+اردیبهشت!I8+فروردین!I8 -> 0 | J8: =خرداد!J8+اردیبهشت!J8+فروردین!J8 -> 0 | K8: =خرداد!K8+اردیبهشت!K8+فروردین!K8 -> 0 | ... M8: =خرداد!M8+اردیبهشت!M8+فروردین!M8 -> 0 | N8: =F8+G8+H8+I8+J8+K8+L8+M8 -> 0 | O8: =خرداد!O8+اردیبهشت!O8+فروردین!O8 -> 0 | P8: =خرداد!P8+اردیبهشت!P8+فروردین!P8 -> 0 | Q8: =O8+P8 -> 0 | R8: =خرداد!R8+اردیبهشت!R8+فروردین!R8 -> 0 | S8: =خرداد!S8+اردیبهشت!S8+فروردین!S8 -> 0 | T8: =خرداد!T8+اردیبهشت!T8+فروردین!T8 -> 0 | U8: =R8+S8+T8 -> 0 | V8: =خرداد!V8+اردیبهشت!V8+فروردین!V8 -> 0 | W8: =خرداد!W8+اردیبهشت!W8+فروردین!W8 -> 0 | X8: =V8+W8 -> 0 | Y8: =خرداد!Y8+اردیبهشت!Y8+فروردین!Y8 -> 0 | Z8: =خرداد!Z8+اردیبهشت!Z8+فروردین!Z8 -> 0 | AA8: =خرداد!AA8+اردیبهشت!AA8+فروردین!AA8 -> 0 | AB8: =خرداد!AB8+اردیبهشت!AB8+فروردین!AB8 -> 0 | AC8: =خرداد!AC8+اردیبهشت!AC8+فروردین!AC8 -> 0
A9: 3 | B9: خانه بهداشت | C9: ایرانی | D9: =خرداد!D9+اردیبهشت!D9+فروردین!D9 -> 0 | E9: =خرداد!E9+اردیبهشت!E9+فروردین!E9 -> 0 | F9: =خرداد!F9+اردیبهشت!F9+فروردین!F9 -> 0 | G9: =خرداد!G9+اردیبهشت!G9+فروردین!G9 -> 0 | H9: =خرداد!H9+اردیبهشت!H9+فروردین!H9 -> 0 | I9: =خرداد!I9+اردیبهشت!I9+فروردین!I9 -> 0 | J9: =خرداد!J9+اردیبهشت!J9+فروردین!J9 -> 0 | K9: =خرداد!K9+اردیبهشت!K9+فروردین!K9 -> 0 | ... M9: =خرداد!M9+اردیبهشت!M9+فروردین!M9 -> 0 | N9: =F9+G9+H9+I9+J9+K9+L9+M9 -> 0 | O9: =خرداد!O9+اردیبهشت!O9+فروردین!O9 -> 0 | P9: =خرداد!P9+اردیبهشت!P9+فروردین!P9 -> 0 | Q9: =O9+P9 -> 0 | R9: =خرداد!R9+اردیبهشت!R9+فروردین!R9 -> 0 | S9: =خرداد!S9+اردیبهشت!S9+فروردین!S9 -> 0 | T9: =خرداد!T9+اردیبهشت!T9+فروردین!T9 -> 0 | U9: =R9+S9+T9 -> 0 | V9: =خرداد!V9+اردیبهشت!V9+فروردین!V9 -> 0 | W9: =خرداد!W9+اردیبهشت!W9+فروردین!W9 -> 0 | X9: =V9+W9 -> 0 | Y9: =خرداد!Y9+اردیبهشت!Y9+فروردین!Y9 -> 0 | Z9: =خرداد!Z9+اردیبهشت!Z9+فروردین!Z9 -> 0 | AA9: =خرداد!AA9+اردیبهشت!AA9+فروردین!AA9 -> 0 | AB9: =خرداد!AB9+اردیبهشت!AB9+فروردین!AB9 -> 0 | AC9: =خرداد!AC9+اردیبهشت!AC9+فروردین!AC9 -> 0
C10: افاغنه | D10: =خرداد!D10+اردیبهشت!D10+فروردین!D10 -> 0 | E10: =خرداد!E10+اردیبهشت!E10+فروردین!E10 -> 0 | F10: =خرداد!F10+اردیبهشت!F10+فروردین!F10 -> 0 | G10: =خرداد!G10+اردیبهشت!G10+فروردین!G10 -> 0 | H10: =خرداد!H10+اردیبهشت!H10+فروردین!H10 -> 0 | I10: =خرداد!I10+اردیبهشت!I10+فروردین!I10 -> 0 | J10: =خرداد!J10+اردیبهشت!J10+فروردین!J10 -> 0 | K10: =خرداد!K10+اردیبهشت!K10+فروردین!K10 -> 0 | ... M10: =خرداد!M10+اردیبهشت!M10+فروردین!M10 -> 0 | N10: =F10+G10+H10+I10+J10+K10+L10+M10 -> 0 | O10: =خرداد!O10+اردیبهشت!O10+فروردین!O10 -> 0 | P10: =خرداد!P10+اردیبهشت!P10+فروردین!P10 -> 0 | Q10: =O10+P10 -> 0 | R10: =خرداد!R10+اردیبهشت!R10+فروردین!R10 -> 0 | S10: =خرداد!S10+اردیبهشت!S10+فروردین!S10 -> 0 | T10: =خرداد!T10+اردیبهشت!T10+فروردین!T10 -> 0 | U10: =R10+S10+T10 -> 0 | V10: =خرداد!V10+اردیبهشت!V10+فروردین!V10 -> 0 | W10: =خرداد!W10+اردیبهشت!W10+فروردین!W10 -> 0 | X10: =V10+W10 -> 0 | Y10: =خرداد!Y10+اردیبهشت!Y10+فروردین!Y10 -> 0 | Z10: =خرداد!Z10+اردیبهشت!Z10+فروردین!Z10 -> 0 | AA10: =خرداد!AA10+اردیبهشت!AA10+فروردین!AA10 -> 0 | AB10: =خرداد!AB10+اردیبهشت!AB10+فروردین!AB10 -> 0 | AC10: =خرداد!AC10+اردیبهشت!AC10+فروردین!AC10 -> 0
A11: 4 | B11: خانه بهداشت | C11: ایرانی | D11: =خرداد!D11+اردیبهشت!D11+فروردین!D11 -> 0 | E11: =خرداد!E11+اردیبهشت!E11+فروردین!E11 -> 0 | F11: =خرداد!F11+اردیبهشت!F11+فروردین!F11 -> 0 | G11: =خرداد!G11+اردیبهشت!G11+فروردین!G11 -> 0 | H11: =خرداد!H11+اردیبهشت!H11+فروردین!H11 -> 0 | I11: =خرداد!I11+اردیبهشت!I11+فروردین!I11 -> 0 | J11: =خرداد!J11+اردیبهشت!J11+فروردین!J11 -> 0 | K11: =خرداد!K11+اردیبهشت!K11+فروردین!K11 -> 0 | ... M11: =خرداد!M11+اردیبهشت!M11+فروردین!M11 -> 0 | N11: =F11+G11+H11+I11+J11+K11+L11+M11 -> 0 | O11: =خرداد!O11+اردیبهشت!O11+فروردین!O11 -> 0 | P11: =خرداد!P11+اردیبهشت!P11+فروردین!P11 -> 0 | Q11: =O11+P11 -> 0 | R11: =خرداد!R11+اردیبهشت!R11+فروردین!R11 -> 0 | S11: =خرداد!S11+اردیبهشت!S11+فروردین!S11 -> 0 | T11: =خرداد!T11+اردیبهشت!T11+فروردین!T11 -> 0 | U11: =R11+S11+T11 -> 0 | V11: =خرداد!V11+اردیبهشت!V11+فروردین!V11 -> 0 | W11: =خرداد!W11+اردیبهشت!W11+فروردین!W11 -> 0 | X11: =V11+W11 -> 0 | Y11: =خرداد!Y11+اردیبهشت!Y11+فروردین!Y11 -> 0 | Z11: =خرداد!Z11+اردیبهشت!Z11+فروردین!Z11 -> 0 | AA11: =خرداد!AA11+اردیبهشت!AA11+فروردین!AA11 -> 0 | AB11: =خرداد!AB11+اردیبهشت!AB11+فروردین!AB11 -> 0 | AC11: =خرداد!AC11+اردیبهشت!AC11+فروردین!AC11 -> 0
C12: افاغنه | D12: =خرداد!D12+اردیبهشت!D12+فروردین!D12 -> 0 | E12: =خرداد!E12+اردیبهشت!E12+فروردین!E12 -> 0 | F12: =خرداد!F12+اردیبهشت!F12+فروردین!F12 -> 0 | G12: =خرداد!G12+اردیبهشت!G12+فروردین!G12 -> 0 | H12: =خرداد!H12+اردیبهشت!H12+فروردین!H12 -> 0 | I12: =خرداد!I12+اردیبهشت!I12+فروردین!I12 -> 0 | J12: =خرداد!J12+اردیبهشت!J12+فروردین!J12 -> 0 | K12: =خرداد!K12+اردیبهشت!K12+فروردین!K12 -> 0 | ... M12: =خرداد!M12+اردیبهشت!M12+فروردین!M12 -> 0 | N12: =F12+G12+H12+I12+J12+K12+L12+M12 -> 0 | O12: =خرداد!O12+اردیبهشت!O12+فروردین!O12 -> 0 | P12: =خرداد!P12+اردیبهشت!P12+فروردین!P12 -> 0 | Q12: =O12+P12 -> 0 | R12: =خرداد!R12+اردیبهشت!R12+فروردین!R12 -> 0 | S12: =خرداد!S12+اردیبهشت!S12+فروردین!S12 -> 0 | T12: =خرداد!T12+اردیبهشت!T12+فروردین!T12 -> 0 | U12: =R12+S12+T12 -> 0 | V12: =خرداد!V12+اردیبهشت!V12+فروردین!V12 -> 0 | W12: =خرداد!W12+اردیبهشت!W12+فروردین!W12 -> 0 | X12: =V12+W12 -> 0 | Y12: =خرداد!Y12+اردیبهشت!Y12+فروردین!Y12 -> 0 | Z12: =خرداد!Z12+اردیبهشت!Z12+فروردین!Z12 -> 0 | AA12: =خرداد!AA12+اردیبهشت!AA12+فروردین!AA12 -> 0 | AB12: =خرداد!AB12+اردیبهشت!AB12+فروردین!AB12 -> 0 | AC12: =خرداد!AC12+اردیبهشت!AC12+فروردین!AC12 -> 0
A13: 5 | B13: خانه بهداشت | C13: ایرانی | D13: =خرداد!D13+اردیبهشت!D13+فروردین!D13 -> 0 | E13: =خرداد!E13+اردیبهشت!E13+فروردین!E13 -> 0 | F13: =خرداد!F13+اردیبهشت!F13+فروردین!F13 -> 0 | G13: =خرداد!G13+اردیبهشت!G13+فروردین!G13 -> 0 | H13: =خرداد!H13+اردیبهشت!H13+فروردین!H13 -> 0 | I13: =خرداد!I13+اردیبهشت!I13+فروردین!I13 -> 0 | J13: =خرداد!J13+اردیبهشت!J13+فروردین!J13 -> 0 | K13: =خرداد!K13+اردیبهشت!K13+فروردین!K13 -> 0 | ... M13: =خرداد!M13+اردیبهشت!M13+فروردین!M13 -> 0 | N13: =F13+G13+H13+I13+J13+K13+L13+M13 -> 0 | O13: =خرداد!O13+اردیبهشت!O13+فروردین!O13 -> 0 | P13: =خرداد!P13+اردیبهشت!P13+فروردین!P13 -> 0 | Q13: =O13+P13 -> 0 | R13: =خرداد!R13+اردیبهشت!R13+فروردین!R13 -> 0 | S13: =خرداد!S13+اردیبهشت!S13+فروردین!S13 -> 0 | T13: =خرداد!T13+اردیبهشت!T13+فروردین!T13 -> 0 | U13: =R13+S13+T13 -> 0 | V13: =خرداد!V13+اردیبهشت!V13+فروردین!V13 -> 0 | W13: =خرداد!W13+اردیبهشت!W13+فروردین!W13 -> 0 | X13: =V13+W13 -> 0 | Y13: =خرداد!Y13+اردیبهشت!Y13+فروردین!Y13 -> 0 | Z13: =خرداد!Z13+اردیبهشت!Z13+فروردین!Z13 -> 0 | AA13: =خرداد!AA13+اردیبهشت!AA13+فروردین!AA13 -> 0 | AB13: =خرداد!AB13+اردیبهشت!AB13+فروردین!AB13 -> 0 | AC13: =خرداد!AC13+اردیبهشت!AC13+فروردین!AC13 -> 0
C14: افاغنه | D14: =خرداد!D14+اردیبهشت!D14+فروردین!D14 -> 0 | E14: =خرداد!E14+اردیبهشت!E14+فروردین!E14 -> 0 | F14: =خرداد!F14+اردیبهشت!F14+فروردین!F14 -> 0 | G14: =خرداد!G14+اردیبهشت!G14+فروردین!G14 -> 0 | H14: =خرداد!H14+اردیبهشت!H14+فروردین!H14 -> 0 | I14: =خرداد!I14+اردیبهشت!I14+فروردین!I14 -> 0 | J14: =خرداد!J14+اردیبهشت!J14+فروردین!J14 -> 0 | K14: =خرداد!K14+اردیبهشت!K14+فروردین!K14 -> 0 | ... M14: =خرداد!M14+اردیبهشت!M14+فروردین!M14 -> 0 | N14: =F14+G14+H14+I14+J14+K14+L14+M14 -> 0 | O14: =خرداد!O14+اردیبهشت!O14+فروردین!O14 -> 0 | P14: =خرداد!P14+اردیبهشت!P14+فروردین!P14 -> 0 | Q14: =O14+P14 -> 0 | R14: =خرداد!R14+اردیبهشت!R14+فروردین!R14 -> 0 | S14: =خرداد!S14+اردیبهشت!S14+فروردین!S14 -> 0 | T14: =خرداد!T14+اردیبهشت!T14+فروردین!T14 -> 0 | U14: =R14+S14+T14 -> 0 | V14: =خرداد!V14+اردیبهشت!V14+فروردین!V14 -> 0 | W14: =خرداد!W14+اردیبهشت!W14+فروردین!W14 -> 0 | X14: =V14+W14 -> 0 | Y14: =خرداد!Y14+اردیبهشت!Y14+فروردین!Y14 -> 0 | Z14: =خرداد!Z14+اردیبهشت!Z14+فروردین!Z14 -> 0 | AA14: =خرداد!AA14+اردیبهشت!AA14+فروردین!AA14 -> 0 | AB14: =خرداد!AB14+اردیبهشت!AB14+فروردین!AB14 -> 0 | AC14: =خرداد!AC14+اردیبهشت!AC14+فروردین!AC14 -> 0
A15: 6 | B15: جمع کل | C15: ایرانی | D15: =D5+D7+D9+D11+D13 -> 0 | E15: =E5+E7+E9+E11+E13 -> 0 | F15: =F5+F7+F9+F11+F13 -> 0 | G15: =G5+G7+G9+G11+G13 -> 0 | H15: =H5+H7+H9+H11+H13 -> 0 | I15: =I5+I7+I9+I11+I13 -> 0 | J15: =J5+J7+J9+J11+J13 -> 0 | K15: =K5+K7+K9+K11+K13 -> 0 | ... AC15: =AC5+AC7+AC9+AC11+AC13 -> 0
C16: افاغنه | D16: =D6+D8+D10+D12+D14 -> 0 | E16: =E6+E8+E10+E12+E14 -> 0 | F16: =F6+F8+F10+F12+F14 -> 0 | G16: =G6+G8+G10+G12+G14 -> 0 | H16: =H6+H8+H10+H12+H14 -> 0 | I16: =I6+I8+I10+I12+I14 -> 0 | J16: =J6+J8+J10+J12+J14 -> 0 | K16: =K6+K8+K10+K12+K14 -> 0 | ... AC16: =AC6+AC8+AC10+AC12+AC14 -> 0

Sheet تیر
B1: فعاليت هاي اجرايي مراكزبهداشتي ودرماني ............. در زمينه غربالگري و شناسايي موارد آلوده به شپش سال
A2: ردیف | B2: فـــــــــــعـــــــالـــــیـــــت مـــــــرکــــــز
D3: تعداد افراد | E3: تعداد افراد | F3: زن | J3: مرد | N3: جمع کل | O3: محل سكونت | R3: نوع شپش | U3: سابقه آلودگي | Y3: نوع درمان
D4: معاينه شده | E4: آلوده | F4: زير 6 سال | G4: 6تا 12 سال | H4: 13تا18سال | I4: بالايي 18 سال | J4: زير 6 سال | K4: 6تا 12 سال | L4: 13تا18سال | M4: بالايي 18 سال | O4: روستا | P4: شهر | Q4: جمع کل | R4: سر | S4: تن | T4: عانه | U4: جمع کل | V4: دارد | W4: ندارد | X4: جمع کل | Y4: شامپو پرمترین | Z4: لوسیون دایمتیکون | AA4: کرم پرمترین | AB4: لوسیون لیندان | AC4: اسپری درمین
A5: 1 | B5: خانه بهداشت | C5: ایرانی | N5: =F5+G5+H5+I5+J5+K5+L5+M5 -> 0 | Q5: =O5+P5 -> 0 | U5: =R5+S5+T5 -> 0 | X5: =V5+W5 -> 0
C6: افاغنه | N6: =F6+G6+H6+I6+J6+K6+L6+M6 -> 0 | Q6: =O6+P6 -> 0 | U6: =R6+S6+T6 -> 0 | X6: =V6+W6 -> 0
A7: 2 | B7: خانه بهداشت | C7: ایرانی | N7: =F7+G7+H7+I7+J7+K7+L7+M7 -> 0 | Q7: =O7+P7 -> 0 | U7: =R7+S7+T7 -> 0 | X7: =V7+W7 -> 0
C8: افاغنه | N8: =F8+G8+H8+I8+J8+K8+L8+M8 -> 0 | Q8: =O8+P8 -> 0 | U8: =R8+S8+T8 -> 0 | X8: =V8+W8 -> 0
A9: 3 | B9: خانه بهداشت | C9: ایرانی | N9: =F9+G9+H9+I9+J9+K9+L9+M9 -> 0 | Q9: =O9+P9 -> 0 | U9: =R9+S9+T9 -> 0 | X9: =V9+W9 -> 0
C10: افاغنه | N10: =F10+G10+H10+I10+J10+K10+L10+M10 -> 0 | Q10: =O10+P10 -> 0 | U10: =R10+S10+T10 -> 0 | X10: =V10+W10 -> 0
A11: 4 | B11: خانه بهداشت | C11: ایرانی | N11: =F11+G11+H11+I11+J11+K11+L11+M11 -> 0 | Q11: =O11+P11 -> 0 | U11: =R11+S11+T11 -> 0 | X11: =V11+W11 -> 0
C12: افاغنه | N12: =F12+G12+H12+I12+J12+K12+L12+M12 -> 0 | Q12: =O12+P12 -> 0 | U12: =R12+S12+T12 -> 0 | X12: =V12+W12 -> 0
A13: 5 | B13: خانه بهداشت | C13: ایرانی | N13: =F13+G13+H13+I13+J13+K13+L13+M13 -> 0 | Q13: =O13+P13 -> 0 | U13: =R13+S13+T13 -> 0 | X13: =V13+W13 -> 0
C14: افاغنه | N14: =F14+G14+H14+I14+J14+K14+L14+M14 -> 0 | Q14: =O14+P14 -> 0 | U14: =R14+S14+T14 -> 0 | X14: =V14+W14 -> 0
A15: 6 | B15: جمع کل | C15: ایرانی | D15: =D5+D7+D9+D11+D13 -> 0 | E15: =E5+E7+E9+E11+E13 -> 0 | F15: =F5+F7+F9+F11+F13 -> 0 | G15: =G5+G7+G9+G11+G13 -> 0 | H15: =H5+H7+H9+H11+H13 -> 0 | I15: =I5+I7+I9+I11+I13 -> 0 | J15: =J5+J7+J9+J11+J13 -> 0 | K15: =K5+K7+K9+K11+K13 -> 0 | ... AC15: =AC5+AC7+AC9+AC11+AC13 -> 0
C16: افاغنه | D16: =D6+D8+D10+D12+D14 -> 0 | E16: =E6+E8+E10+E12+E14 -> 0 | F16: =F6+F8+F10+F12+F14 -> 0 | G16: =G6+G8+G10+G12+G14 -> 0 | H16: =H6+H8+H10+H12+H14 -> 0 | I16: =I6+I8+I10+I12+I14 -> 0 | J16: =J6+J8+J10+J12+J14 -> 0 | K16: =K6+K8+K10+K12+K14 -> 0 | ... AC16: =AC6+AC8+AC10+AC12+AC14 -> 0

Sheet مرداد
B1: فعاليت هاي اجرايي مراكزبهداشتي ودرماني ............. در زمينه غربالگري و شناسايي موارد آلوده به شپش سال
A2: ردیف | B2: فـــــــــــعـــــــالـــــیـــــت مـــــــرکــــــز
D3: تعداد افراد | E3: تعداد افراد | F3: زن | J3: مرد | N3: جمع کل | O3: محل سكونت | R3: نوع شپش | U3: سابقه آلودگي | Y3: نوع درمان
D4: معاينه شده | E4: آلوده | F4: زير 6 سال | G4: 6تا 12 سال | H4: 13تا18سال | I4: بالايي 18 سال | J4: زير 6 سال | K4: 6تا 12 سال | L4: 13تا18سال | M4: بالايي 18 سال | O4: روستا | P4: شهر | Q4: جمع کل | R4: سر | S4: تن | T4: عانه | U4: جمع کل | V4: دارد | W4: ندارد | X4: جمع کل | Y4: شامپو پرمترین | Z4: لوسیون دایمتیکون | AA4: کرم پرمترین | AB4: لوسیون لیندان | AC4: اسپری درمین
A5: 1 | B5: خانه بهداشت | C5: ایرانی | N5: =F5+G5+H5+I5+J5+K5+L5+M5 -> 0 | Q5: =O5+P5 -> 0 | U5: =R5+S5+T5 -> 0 | X5: =V5+W5 -> 0
C6: افاغنه | N6: =F6+G6+H6+I6+J6+K6+L6+M6 -> 0 | Q6: =O6+P6 -> 0 | U6: =R6+S6+T6 -> 0 | X6: =V6+W6 -> 0
A7: 2 | B7: خانه بهداشت | C7: ایرانی | N7: =F7+G7+H7+I7+J7+K7+L7+M7 -> 0 | Q7: =O7+P7 -> 0 | U7: =R7+S7+T7 -> 0 | X7: =V7+W7 -> 0
C8: افاغنه | N8: =F8+G8+H8+I8+J8+K8+L8+M8 -> 0 | Q8: =O8+P8 -> 0 | U8: =R8+S8+T8 -> 0 | X8: =V8+W8 -> 0
A9: 3 | B9: خانه بهداشت | C9: ایرانی | N9: =F9+G9+H9+I9+J9+K9+L9+M9 -> 0 | Q9: =O9+P9 -> 0 | U9: =R9+S9+T9 -> 0 | X9: =V9+W9 -> 0
C10: افاغنه | N10: =F10+G10+H10+I10+J10+K10+L10+M10 -> 0 | Q10: =O10+P10 -> 0 | U10: =R10+S10+T10 -> 0 | X10: =V10+W10 -> 0
A11: 4 | B11: خانه بهداشت | C11: ایرانی | N11: =F11+G11+H11+I11+J11+K11+L11+M11 -> 0 | Q11: =O11+P11 -> 0 | U11: =R11+S11+T11 -> 0 | X11: =V11+W11 -> 0
C12: افاغنه | N12: =F12+G12+H12+I12+J12+K12+L12+M12 -> 0 | Q12: =O12+P12 -> 0 | U12: =R12+S12+T12 -> 0 | X12: =V12+W12 -> 0
A13: 5 | B13: خانه بهداشت | C13: ایرانی | N13: =F13+G13+H13+I13+J13+K13+L13+M13 -> 0 | Q13: =O13+P13 -> 0 | U13: =R13+S13+T13 -> 0 | X13: =V13+W13 -> 0
C14: افاغنه | N14: =F14+G14+H14+I14+J14+K14+L14+M14 -> 0 | Q14: =O14+P14 -> 0 | U14: =R14+S14+T14 -> 0 | X14: =V14+W14 -> 0
A15: 6 | B15: جمع کل | C15: ایرانی | D15: =D5+D7+D9+D11+D13 -> 0 | E15: =E5+E7+E9+E11+E13 -> 0 | F15: =F5+F7+F9+F11+F13 -> 0 | G15: =G5+G7+G9+G11+G13 -> 0 | H15: =H5+H7+H9+H11+H13 -> 0 | I15: =I5+I7+I9+I11+I13 -> 0 | J15: =J5+J7+J9+J11+J13 -> 0 | K15: =K5+K7+K9+K11+K13 -> 0 | ... AC15: =AC5+AC7+AC9+AC11+AC13 -> 0
C16: افاغنه | D16: =D6+D8+D10+D12+D14 -> 0 | E16: =E6+E8+E10+E12+E14 -> 0 | F16: =F6+F8+F10+F12+F14 -> 0 | G16: =G6+G8+G10+G12+G14 -> 0 | H16: =H6+H8+H10+H12+H14 -> 0 | I16: =I6+I8+I10+I12+I14 -> 0 | J16: =J6+J8+J10+J12+J14 -> 0 | K16: =K6+K8+K10+K12+K14 -> 0 | ... AC16: =AC6+AC8+AC10+AC12+AC14 -> 0

Sheet شهریور
B1: فعاليت هاي اجرايي مراكزبهداشتي ودرماني ............. در زمينه غربالگري و شناسايي موارد آلوده به شپش سال
A2: ردیف | B2: فـــــــــــعـــــــالـــــیـــــت مـــــــرکــــــز
D3: تعداد افراد | E3: تعداد افراد | F3: زن | J3: مرد | N3: جمع کل | O3: محل سكونت | R3: نوع شپش | U3: سابقه آلودگي | Y3: نوع درمان
D4: معاينه شده | E4: آلوده | F4: زير 6 سال | G4: 6تا 12 سال | H4: 13تا18سال | I4: بالايي 18 سال | J4: زير 6 سال | K4: 6تا 12 سال | L4: 13تا18سال | M4: بالايي 18 سال | O4: روستا | P4: شهر | Q4: جمع کل | R4: سر | S4: تن | T4: عانه | U4: جمع کل | V4: دارد | W4: ندارد | X4: جمع کل | Y4: شامپو پرمترین | Z4: لوسیون دایمتیکون | AA4: کرم پرمترین | AB4: لوسیون لیندان | AC4: اسپری درمین
A5: 1 | B5: خانه بهداشت | C5: ایرانی | N5: =F5+G5+H5+I5+J5+K5+L5+M5 -> 0 | Q5: =O5+P5 -> 0 | U5: =R5+S5+T5 -> 0 | X5: =V5+W5 -> 0
C6: افاغنه | N6: =F6+G6+H6+I6+J6+K6+L6+M6 -> 0 | Q6: =O6+P6 -> 0 | U6: =R6+S6+T6 -> 0 | X6: =V6+W6 -> 0
A7: 2 | B7: خانه بهداشت | C7: ایرانی | N7: =F7+G7+H7+I7+J7+K7+L7+M7 -> 0 | Q7: =O7+P7 -> 0 | U7: =R7+S7+T7 -> 0 | X7: =V7+W7 -> 0
C8: افاغنه | N8: =F8+G8+H8+I8+J8+K8+L8+M8 -> 0 | Q8: =O8+P8 -> 0 | U8: =R8+S8+T8 -> 0 | X8: =V8+W8 -> 0
A9: 3 | B9: خانه بهداشت | C9: ایرانی | N9: =F9+G9+H9+I9+J9+K9+L9+M9 -> 0 | Q9: =O9+P9 -> 0 | U9: =R9+S9+T9 -> 0 | X9: =V9+W9 -> 0
C10: افاغنه | N10: =F10+G10+H10+I10+J10+K10+L10+M10 -> 0 | Q10: =O10+P10 -> 0 | U10: =R10+S10+T10 -> 0 | X10: =V10+W10 -> 0
A11: 4 | B11: خانه بهداشت | C11: ایرانی | N11: =F11+G11+H11+I11+J11+K11+L11+M11 -> 0 | Q11: =O11+P11 -> 0 | U11: =R11+S11+T11 -> 0 | X11: =V11+W11 -> 0
C12: افاغنه | N12: =F12+G12+H12+I12+J12+K12+L12+M12 -> 0 | Q12: =O12+P12 -> 0 | U12: =R12+S12+T12 -> 0 | X12: =V12+W12 -> 0
A13: 5 | B13: خانه بهداشت | C13: ایرانی | N13: =F13+G13+H13+I13+J13+K13+L13+M13 -> 0 | Q13: =O13+P13 -> 0 | U13: =R13+S13+T13 -> 0 | X13: =V13+W13 -> 0
C14: افاغنه | N14: =F14+G14+H14+I14+J14+K14+L14+M14 -> 0 | Q14: =O14+P14 -> 0 | U14: =R14+S14+T14 -> 0 | X14: =V14+W14 -> 0
A15: 6 | B15: جمع کل | C15: ایرانی | D15: =D5+D7+D9+D11+D13 -> 0 | E15: =E5+E7+E9+E11+E13 -> 0 | F15: =F5+F7+F9+F11+F13 -> 0 | G15: =G5+G7+G9+G11+G13 -> 0 | H15: =H5+H7+H9+H11+H13 -> 0 | I15: =I5+I7+I9+I11+I13 -> 0 | J15: =J5+J7+J9+J11+J13 -> 0 | K15: =K5+K7+K9+K11+K13 -> 0 | ... AC15: =AC5+AC7+AC9+AC11+AC13 -> 0
C16: افاغنه | D16: =D6+D8+D10+D12+D14 -> 0 | E16: =E6+E8+E10+E12+E14 -> 0 | F16: =F6+F8+F10+F12+F14 -> 0 | G16: =G6+G8+G10+G12+G14 -> 0 | H16: =H6+H8+H10+H12+H14 -> 0 | I16: =I6+I8+I10+I12+I14 -> 0 | J16: =J6+J8+J10+J12+J14 -> 0 | K16: =K6+K8+K10+K12+K14 -> 0 | ... AC16: =AC6+AC8+AC10+AC12+AC14 -> 0

Sheet سه ماهه دوم
B1: فعاليت هاي اجرايي مراكزبهداشتي ودرماني ............. در زمينه غربالگري و شناسايي موارد آلوده به شپش سال
A2: ردیف | B2: فـــــــــــعـــــــالـــــیـــــت مـــــــرکــــــز
D3: تعداد افراد | E3: تعداد افراد | F3: زن | J3: مرد | N3: جمع کل | O3: محل سكونت | R3: نوع شپش | U3: سابقه آلودگي | Y3: نوع درمان
D4: معاينه شده | E4: آلوده | F4: زير 6 سال | G4: 6تا 12 سال | H4: 13تا18سال | I4: بالايي 18 سال | J4: زير 6 سال | K4: 6تا 12 سال | L4: 13تا18سال | M4: بالايي 18 سال | O4: روستا | P4: شهر | Q4: جمع کل | R4: سر | S4: تن | T4: عانه | U4: جمع کل | V4: دارد | W4: ندارد | X4: جمع کل | Y4: شامپو پرمترین | Z4: لوسیون دایمتیکون | AA4: کرم پرمترین | AB4: لوسیون لیندان | AC4: اسپری درمین
A5: 1 | B5: خانه بهداشت | C5: ایرانی | D5: =شهریور!D5+مرداد!D5+تیر!D5 -> 0 | E5: =شهریور!E5+مرداد!E5+تیر!E5 -> 0 | F5: =شهریور!F5+مرداد!F5+تیر!F5 -> 0 | G5: =شهریور!G5+مرداد!G5+تیر!G5 -> 0 | H5: =شهریور!H5+مرداد!H5+تیر!H5 -> 0 | I5: =شهریور!I5+مرداد!I5+تیر!I5 -> 0 | J5: =شهریور!J5+مرداد!J5+تیر!J5 -> 0 | K5: =شهریور!K5+مرداد!K5+تیر!K5 -> 0 | ... M5: =شهریور!M5+مرداد!M5+تیر!M5 -> 0 | N5: =F5+G5+H5+I5+J5+K5+L5+M5 -> 0 | O5: =شهریور!O5+مرداد!O5+تیر!O5 -> 0 | P5: =شهریور!P5+مرداد!P5+تیر!P5 -> 0 | Q5: =O5+P5 -> 0 | R5: =شهریور!R5+مرداد!R5+تیر!R5 -> 0 | S5: =شهریور!S5+مرداد!S5+تیر!S5 -> 0 | T5: =شهریور!T5+مرداد!T5+تیر!T5 -> 0 | U5: =R5+S5+T5 -> 0 | V5: =شهریور!V5+مرداد!V5+تیر!V5 -> 0 | W5: =شهریور!W5+مرداد!W5+تیر!W5 -> 0 | X5: =V5+W5 -> 0 | Y5: =شهریور!Y5+مرداد!Y5+تیر!Y5 -> 0 | Z5: =شهریور!Z5+مرداد!Z5+تیر!Z5 -> 0 | AA5: =شهریور!AA5+مرداد!AA5+تیر!AA5 -> 0 | AB5: =شهریور!AB5+مرداد!AB5+تیر!AB5 -> 0 | AC5: =شهریور!AC5+مرداد!AC5+تیر!AC5 -> 0
C6: افاغنه | D6: =شهریور!D6+مرداد!D6+تیر!D6 -> 0 | E6: =شهریور!E6+مرداد!E6+تیر!E6 -> 0 | F6: =شهریور!F6+مرداد!F6+تیر!F6 -> 0 | G6: =شهریور!G6+مرداد!G6+تیر!G6 -> 0 | H6: =شهریور!H6+مرداد!H6+تیر!H6 -> 0 | I6: =شهریور!I6+مرداد!I6+تیر!I6 -> 0 | J6: =شهریور!J6+مرداد!J6+تیر!J6 -> 0 | K6: =شهریور!K6+مرداد!K6+تیر!K6 -> 0 | ... M6: =شهریور!M6+مرداد!M6+تیر!M6 -> 0 | N6: =F6+G6+H6+I6+J6+K6+L6+M6 -> 0 | O6: =شهریور!O6+مرداد!O6+تیر!O6 -> 0 | P6: =شهریور!P6+مرداد!P6+تیر!P6 -> 0 | Q6: =O6+P6 -> 0 | R6: =شهریور!R6+مرداد!R6+تیر!R6 -> 0 | S6: =شهریور!S6+مرداد!S6+تیر!S6 -> 0 | T6: =شهریور!T6+مرداد!T6+تیر!T6 -> 0 | U6: =R6+S6+T6 -> 0 | V6: =شهریور!V6+مرداد!V6+تیر!V6 -> 0 | W6: =شهریور!W6+مرداد!W6+تیر!W6 -> 0 | X6: =V6+W6 -> 0 | Y6: =شهریور!Y6+مرداد!Y6+تیر!Y6 -> 0 | Z6: =شهریور!Z6+مرداد!Z6+تیر!Z6 -> 0 | AA6: =شهریور!AA6+مرداد!AA6+تیر!AA6 -> 0 | AB6: =شهریور!AB6+مرداد!AB6+تیر!AB6 -> 0 | AC6: =شهریور!AC6+مرداد!AC6+تیر!AC6 -> 0
A7: 2 | B7: خانه بهداشت | C7: ایرانی | D7: =شهریور!D7+مرداد!D7+تیر!D7 -> 0 | E7: =شهریور!E7+مرداد!E7+تیر!E7 -> 0 | F7: =شهریور!F7+مرداد!F7+تیر!F7 -> 0 | G7: =شهریور!G7+مرداد!G7+تیر!G7 -> 0 | H7: =شهریور!H7+مرداد!H7+تیر!H7 -> 0 | I7: =شهریور!I7+مرداد!I7+تیر!I7 -> 0 | J7: =شهریور!J7+مرداد!J7+تیر!J7 -> 0 | K7: =شهریور!K7+مرداد!K7+تیر!K7 -> 0 | ... M7: =شهریور!M7+مرداد!M7+تیر!M7 -> 0 | N7: =F7+G7+H7+I7+J7+K7+L7+M7 -> 0 | O7: =شهریور!O7+مرداد!O7+تیر!O7 -> 0 | P7: =شهریور!P7+مرداد!P7+تیر!P7 -> 0 | Q7: =O7+P7 -> 0 | R7: =شهریور!R7+مرداد!R7+تیر!R7 -> 0 | S7: =شهریور!S7+مرداد!S7+تیر!S7 -> 0 | T7: =شهریور!T7+مرداد!T7+تیر!T7 -> 0 | U7: =R7+S7+T7 -> 0 | V7: =شهریور!V7+مرداد!V7+تیر!V7 -> 0 | W7: =شهریور!W7+مرداد!W7+تیر!W7 -> 0 | X7: =V7+W7 -> 0 | Y7: =شهریور!Y7+مرداد!Y7+تیر!Y7 -> 0 | Z7: =شهریور!Z7+مرداد!Z7+تیر!Z7 -> 0 | AA7: =شهریور!AA7+مرداد!AA7+تیر!AA7 -> 0 | AB7: =شهریور!AB7+مرداد!AB7+تیر!AB7 -> 0 | AC7: =شهریور!AC7+مرداد!AC7+تیر!AC7 -> 0
C8: افاغنه | D8: =شهریور!D8+مرداد!D8+تیر!D8 -> 0 | E8: =شهریور!E8+مرداد!E8+تیر!E8 -> 0 | F8: =شهریور!F8+مرداد!F8+تیر!F8 -> 0 | G8: =شهریور!G8+مرداد!G8+تیر!G8 -> 0 | H8: =شهریور!H8+مرداد!H8+تیر!H8 -> 0 | I8: =شهریور!I8+مرداد!I8+تیر!I8 -> 0 | J8: =شهریور!J8+مرداد!J8+تیر!J8 -> 0 | K8: =شهریور!K8+مرداد!K8+تیر!K8 -> 0 | ... M8: =شهریور!M8+مرداد!M8+تیر!M8 -> 0 | N8: =F8+G8+H8+I8+J8+K8+L8+M8 -> 0 | O8: =شهریور!O8+مرداد!O8+تیر!O8 -> 0 | P8: =شهریور!P8+مرداد!P8+تیر!P8 -> 0 | Q8: =O8+P8 -> 0 | R8: =شهریور!R8+مرداد!R8+تیر!R8 -> 0 | S8: =شهریور!S8+مرداد!S8+تیر!S8 -> 0 | T8: =شهریور!T8+مرداد!T8+تیر!T8 -> 0 | U8: =R8+S8+T8 -> 0 | V8: =شهریور!V8+مرداد!V8+تیر!V8 -> 0 | W8: =شهریور!W8+مرداد!W8+تیر!W8 -> 0 | X8: =V8+W8 -> 0 | Y8: =شهریور!Y8+مرداد!Y8+تیر!Y8 -> 0 | Z8: =شهریور!Z8+مرداد!Z8+تیر!Z8 -> 0 | AA8: =شهریور!AA8+مرداد!AA8+تیر!AA8 -> 0 | AB8: =شهریور!AB8+مرداد!AB8+تیر!AB8 -> 0 | AC8: =شهریور!AC8+مرداد!AC8+تیر!AC8 -> 0
A9: 3 | B9: خانه بهداشت | C9: ایرانی | D9: =شهریور!D9+مرداد!D9+تیر!D9 -> 0 | E9: =شهریور!E9+مرداد!E9+تیر!E9 -> 0 | F9: =شهریور!F9+مرداد!F9+تیر!F9 -> 0 | G9: =شهریور!G9+مرداد!G9+تیر!G9 -> 0 | H9: =شهریور!H9+مرداد!H9+تیر!H9 -> 0 | I9: =شهریور!I9+مرداد!I9+تیر!I9 -> 0 | J9: =شهریور!J9+مرداد!J9+تیر!J9 -> 0 | K9: =شهریور!K9+مرداد!K9+تیر!K9 -> 0 | ... M9: =شهریور!M9+مرداد!M9+تیر!M9 -> 0 | N9: =F9+G9+H9+I9+J9+K9+L9+M9 -> 0 | O9: =شهریور!O9+مرداد!O9+تیر!O9 -> 0 | P9: =شهریور!P9+مرداد!P9+تیر!P9 -> 0 | Q9: =O9+P9 -> 0 | R9: =شهریور!R9+مرداد!R9+تیر!R9 -> 0 | S9: =شهریور!S9+مرداد!S9+تیر!S9 -> 0 | T9: =شهریور!T9+مرداد!T9+تیر!T9 -> 0 | U9: =R9+S9+T9 -> 0 | V9: =شهریور!V9+مرداد!V9+تیر!V9 -> 0 | W9: =شهریور!W9+مرداد!W9+تیر!W9 -> 0 | X9: =V9+W9 -> 0 | Y9: =شهریور!Y9+مرداد!Y9+تیر!Y9 -> 0 | Z9: =شهریور!Z9+مرداد!Z9+تیر!Z9 -> 0 | AA9: =شهریور!AA9+مرداد!AA9+تیر!AA9 -> 0 | AB9: =شهریور!AB9+مرداد!AB9+تیر!AB9 -> 0 | AC9: =شهریور!AC9+مرداد!AC9+تیر!AC9 -> 0
C10: افاغنه | D10: =شهریور!D10+مرداد!D10+تیر!D10 -> 0 | E10: =شهریور!E10+مرداد!E10+تیر!E10 -> 0 | F10: =شهریور!F10+مرداد!F10+تیر!F10 -> 0 | G10: =شهریور!G10+مرداد!G10+تیر!G10 -> 0 | H10: =شهریور!H10+مرداد!H10+تیر!H10 -> 0 | I10: =شهریور!I10+مرداد!I10+تیر!I10 -> 0 | J10: =شهریور!J10+مرداد!J10+تیر!J10 -> 0 | K10: =شهریور!K10+مرداد!K10+تیر!K10 -> 0 | ... M10: =شهریور!M10+مرداد!M10+تیر!M10 -> 0 | N10: =F10+G10+H10+I10+J10+K10+L10+M10 -> 0 | O10: =شهریور!O10+مرداد!O10+تیر!O10 -> 0 | P10: =شهریور!P10+مرداد!P10+تیر!P10 -> 0 | Q10: =O10+P10 -> 0 | R10: =شهریور!R10+مرداد!R10+تیر!R10 -> 0 | S10: =شهریور!S10+مرداد!S10+تیر!S10 -> 0 | T10: =شهریور!T10+مرداد!T10+تیر!T10 -> 0 | U10: =R10+S10+T10 -> 0 | V10: =شهریور!V10+مرداد!V10+تیر!V10 -> 0 | W10: =شهریور!W10+مرداد!W10+تیر!W10 -> 0 | X10: =V10+W10 -> 0 | Y10: =شهریور!Y10+مرداد!Y10+تیر!Y10 -> 0 | Z10: =شهریور!Z10+مرداد!Z10+تیر!Z10 -> 0 | AA10: =شهریور!AA10+مرداد!AA10+تیر!AA10 -> 0 | AB10: =شهریور!AB10+مرداد!AB10+تیر!AB10 -> 0 | AC10: =شهریور!AC10+مرداد!AC10+تیر!AC10 -> 0
A11: 4 | B11: خانه بهداشت | C11: ایرانی | D11: =شهریور!D11+مرداد!D11+تیر!D11 -> 0 | E11: =شهریور!E11+مرداد!E11+تیر!E11 -> 0 | F11: =شهریور!F11+مرداد!F11+تیر!F11 -> 0 | G11: =شهریور!G11+مرداد!G11+تیر!G11 -> 0 | H11: =شهریور!H11+مرداد!H11+تیر!H11 -> 0 | I11: =شهریور!I11+مرداد!I11+تیر!I11 -> 0 | J11: =شهریور!J11+مرداد!J11+تیر!J11 -> 0 | K11: =شهریور!K11+مرداد!K11+تیر!K11 -> 0 | ... M11: =شهریور!M11+مرداد!M11+تیر!M11 -> 0 | N11: =F11+G11+H11+I11+J11+K11+L11+M11 -> 0 | O11: =شهریور!O11+مرداد!O11+تیر!O11 -> 0 | P11: =شهریور!P11+مرداد!P11+تیر!P11 -> 0 | Q11: =O11+P11 -> 0 | R11: =شهریور!R11+مرداد!R11+تیر!R11 -> 0 | S11: =شهریور!S11+مرداد!S11+تیر!S11 -> 0 | T11: =شهریور!T11+مرداد!T11+تیر!T11 -> 0 | U11: =R11+S11+T11 -> 0 | V11: =شهریور!V11+مرداد!V11+تیر!V11 -> 0 | W11: =شهریور!W11+مرداد!W11+تیر!W11 -> 0 | X11: =V11+W11 -> 0 | Y11: =شهریور!Y11+مرداد!Y11+تیر!Y11 -> 0 | Z11: =شهریور!Z11+مرداد!Z11+تیر!Z11 -> 0 | AA11: =شهریور!AA11+مرداد!AA11+تیر!AA11 -> 0 | AB11: =شهریور!AB11+مرداد!AB11+تیر!AB11 -> 0 | AC11: =شهریور!AC11+مرداد!AC11+تیر!AC11 -> 0
C12: افاغنه | D12: =شهریور!D12+مرداد!D12+تیر!D12 -> 0 | E12: =شهریور!E12+مرداد!E12+تیر!E12 -> 0 | F12: =شهریور!F12+مرداد!F12+تیر!F12 -> 0 | G12: =شهریور!G12+مرداد!G12+تیر!G12 -> 0 | H12: =شهریور!H12+مرداد!H12+تیر!H12 -> 0 | I12: =شهریور!I12+مرداد!I12+تیر!I12 -> 0 | J12: =شهریور!J12+مرداد!J12+تیر!J12 -> 0 | K12: =شهریور!K12+مرداد!K12+تیر!K12 -> 0 | ... M12: =شهریور!M12+مرداد!M12+تیر!M12 -> 0 | N12: =F12+G12+H12+I12+J12+K12+L12+M12 -> 0 | O12: =شهریور!O12+مرداد!O12+تیر!O12 -> 0 | P12: =شهریور!P12+مرداد!P12+تیر!P12 -> 0 | Q12: =O12+P12 -> 0 | R12: =شهریور!R12+مرداد!R12+تیر!R12 -> 0 | S12: =شهریور!S12+مرداد!S12+تیر!S12 -> 0 | T12: =شهریور!T12+مرداد!T12+تیر!T12 -> 0 | U12: =R12+S12+T12 -> 0 | V12: =شهریور!V12+مرداد!V12+تیر!V12 -> 0 | W12: =شهریور!W12+مرداد!W12+تیر!W12 -> 0 | X12: =V12+W12 -> 0 | Y12: =شهریور!Y12+مرداد!Y12+تیر!Y12 -> 0 | Z12: =شهریور!Z12+مرداد!Z12+تیر!Z12 -> 0 | AA12: =شهریور!AA12+مرداد!AA12+تیر!AA12 -> 0 | AB12: =شهریور!AB12+مرداد!AB12+تیر!AB12 -> 0 | AC12: =شهریور!AC12+مرداد!AC12+تیر!AC12 -> 0
A13: 5 | B13: خانه بهداشت | C13: ایرانی | D13: =شهریور!D13+مرداد!D13+تیر!D13 -> 0 | E13: =شهریور!E13+مرداد!E13+تیر!E13 -> 0 | F13: =شهریور!F13+مرداد!F13+تیر!F13 -> 0 | G13: =شهریور!G13+مرداد!G13+تیر!G13 -> 0 | H13: =شهریور!H13+مرداد!H13+تیر!H13 -> 0 | I13: =شهریور!I13+مرداد!I13+تیر!I13 -> 0 | J13: =شهریور!J13+مرداد!J13+تیر!J13 -> 0 | K13: =شهریور!K13+مرداد!K13+تیر!K13 -> 0 | ... M13: =شهریور!M13+مرداد!M13+تیر!M13 -> 0 | N13: =F13+G13+H13+I13+J13+K13+L13+M13 -> 0 | O13: =شهریور!O13+مرداد!O13+تیر!O13 -> 0 | P13: =شهریور!P13+مرداد!P13+تیر!P13 -> 0 | Q13: =O13+P13 -> 0 | R13: =شهریور!R13+مرداد!R13+تیر!R13 -> 0 | S13: =شهریور!S13+مرداد!S13+تیر!S13 -> 0 | T13: =شهریور!T13+مرداد!T13+تیر!T13 -> 0 | U13: =R13+S13+T13 -> 0 | V13: =شهریور!V13+مرداد!V13+تیر!V13 -> 0 | W13: =شهریور!W13+مرداد!W13+تیر!W13 -> 0 | X13: =V13+W13 -> 0 | Y13: =شهریور!Y13+مرداد!Y13+تیر!Y13 -> 0 | Z13: =شهریور!Z13+مرداد!Z13+تیر!Z13 -> 0 | AA13: =شهریور!AA13+مرداد!AA13+تیر!AA13 -> 0 | AB13: =شهریور!AB13+مرداد!AB13+تیر!AB13 -> 0 | AC13: =شهریور!AC13+مرداد!AC13+تیر!AC13 -> 0
C14: افاغنه | D14: =شهریور!D14+مرداد!D14+تیر!D14 -> 0 | E14: =شهریور!E14+مرداد!E14+تیر!E14 -> 0 | F14: =شهریور!F14+مرداد!F14+تیر!F14 -> 0 | G14: =شهریور!G14+مرداد!G14+تیر!G14 -> 0 | H14: =شهریور!H14+مرداد!H14+تیر!H14 -> 0 | I14: =شهریور!I14+مرداد!I14+تیر!I14 -> 0 | J14: =شهریور!J14+مرداد!J14+تیر!J14 -> 0 | K14: =شهریور!K14+مرداد!K14+تیر!K14 -> 0 | ... M14: =شهریور!M14+مرداد!M14+تیر!M14 -> 0 | N14: =F14+G14+H14+I14+J14+K14+L14+M14 -> 0 | O14: =شهریور!O14+مرداد!O14+تیر!O14 -> 0 | P14: =شهریور!P14+مرداد!P14+تیر!P14 -> 0 | Q14: =O14+P14 -> 0 | R14: =شهریور!R14+مرداد!R14+تیر!R14 -> 0 | S14: =شهریور!S14+مرداد!S14+تیر!S14 -> 0 | T14: =شهریور!T14+مرداد!T14+تیر!T14 -> 0 | U14: =R14+S14+T14 -> 0 | V14: =شهریور!V14+مرداد!V14+تیر!V14 -> 0 | W14: =شهریور!W14+مرداد!W14+تیر!W14 -> 0 | X14: =V14+W14 -> 0 | Y14: =شهریور!Y14+مرداد!Y14+تیر!Y14 -> 0 | Z14: =شهریور!Z14+مرداد!Z14+تیر!Z14 -> 0 | AA14: =شهریور!AA14+مرداد!AA14+تیر!AA14 -> 0 | AB14: =شهریور!AB14+مرداد!AB14+تیر!AB14 -> 0 | AC14: =شهریور!AC14+مرداد!AC14+تیر!AC14 -> 0
A15: 6 | B15: جمع کل | C15: ایرانی | D15: =D5+D7+D9+D11+D13 -> 0 | E15: =E5+E7+E9+E11+E13 -> 0 | F15: =F5+F7+F9+F11+F13 -> 0 | G15: =G5+G7+G9+G11+G13 -> 0 | H15: =H5+H7+H9+H11+H13 -> 0 | I15: =I5+I7+I9+I11+I13 -> 0 | J15: =J5+J7+J9+J11+J13 -> 0 | K15: =K5+K7+K9+K11+K13 -> 0 | ... AC15: =AC5+AC7+AC9+AC11+AC13 -> 0
C16: افاغنه | D16: =D6+D8+D10+D12+D14 -> 0 | E16: =E6+E8+E10+E12+E14 -> 0 | F16: =F6+F8+F10+F12+F14 -> 0 | G16: =G6+G8+G10+G12+G14 -> 0 | H16: =H6+H8+H10+H12+H14 -> 0 | I16: =I6+I8+I10+I12+I14 -> 0 | J16: =J6+J8+J10+J12+J14 -> 0 | K16: =K6+K8+K10+K12+K14 -> 0 | ... AC16: =AC6+AC8+AC10+AC12+AC14 -> 0

Sheet ششماه اول
B1: فعاليت هاي اجرايي مراكزبهداشتي ودرماني ............. در زمينه غربالگري و شناسايي موارد آلوده به شپش سال
A2: ردیف | B2: فـــــــــــعـــــــالـــــیـــــت مـــــــرکــــــز
D3: تعداد افراد | E3: تعداد افراد | F3: زن | J3: مرد | N3: جمع کل | O3: محل سكونت | R3: نوع شپش | U3: سابقه آلودگي | Y3: نوع درمان
D4: معاينه شده | E4: آلوده | F4: زير 6 سال | G4: 6تا 12 سال | H4: 13تا18سال | I4: بالايي 18 سال | J4: زير 6 سال | K4: 6تا 12 سال | L4: 13تا18سال | M4: بالايي 18 سال | O4: روستا | P4: شهر | Q4: جمع کل | R4: سر | S4: تن | T4: عانه | U4: جمع کل | V4: دارد | W4: ندارد | X4: جمع کل | Y4: شامپو پرمترین | Z4: لوسیون دایمتیکون | AA4: کرم پرمترین | AB4: لوسیون لیندان | AC4: اسپری درمین
A5: 1 | B5: خانه بهداشت | C5: ایرانی | D5: ='سه ماهه اول'!D5+'سه ماهه دوم'!D5 -> 0 | E5: ='سه ماهه اول'!E5+'سه ماهه دوم'!E5 -> 0 | F5: ='سه ماهه اول'!F5+'سه ماهه دوم'!F5 -> 0 | G5: ='سه ماهه اول'!G5+'سه ماهه دوم'!G5 -> 0 | H5: ='سه ماهه اول'!H5+'سه ماهه دوم'!H5 -> 0 | I5: ='سه ماهه اول'!I5+'سه ماهه دوم'!I5 -> 0 | J5: ='سه ماهه اول'!J5+'سه ماهه دوم'!J5 -> 0 | K5: ='سه ماهه اول'!K5+'سه ماهه دوم'!K5 -> 0 | ... M5: ='سه ماهه اول'!M5+'سه ماهه دوم'!M5 -> 0 | N5: =F5+G5+H5+I5+J5+K5+L5+M5 -> 0 | O5: ='سه ماهه اول'!O5+'سه ماهه دوم'!O5 -> 0 | P5: ='سه ماهه اول'!P5+'سه ماهه دوم'!P5 -> 0 | Q5: =O5+P5 -> 0 | R5: ='سه ماهه اول'!R5+'سه ماهه دوم'!R5 -> 0 | S5: ='سه ماهه اول'!S5+'سه ماهه دوم'!S5 -> 0 | T5: ='سه ماهه اول'!T5+'سه ماهه دوم'!T5 -> 0 | U5: =R5+S5+T5 -> 0 | V5: ='سه ماهه اول'!V5+'سه ماهه دوم'!V5 -> 0 | W5: ='سه ماهه اول'!W5+'سه ماهه دوم'!W5 -> 0 | X5: =V5+W5 -> 0 | Y5: ='سه ماهه اول'!Y5+'سه ماهه دوم'!Y5 -> 0 | Z5: ='سه ماهه اول'!Z5+'سه ماهه دوم'!Z5 -> 0 | AA5: ='سه ماهه اول'!AA5+'سه ماهه دوم'!AA5 -> 0 | AB5: ='سه ماهه اول'!AB5+'سه ماهه دوم'!AB5 -> 0 | AC5: ='سه ماهه اول'!AC5+'سه ماهه دوم'!AC5 -> 0
C6: افاغنه | D6: ='سه ماهه اول'!D6+'سه ماهه دوم'!D6 -> 0 | E6: ='سه ماهه اول'!E6+'سه ماهه دوم'!E6 -> 0 | F6: ='سه ماهه اول'!F6+'سه ماهه دوم'!F6 -> 0 | G6: ='سه ماهه اول'!G6+'سه ماهه دوم'!G6 -> 0 | H6: ='سه ماهه اول'!H6+'سه ماهه دوم'!H6 -> 0 | I6: ='سه ماهه اول'!I6+'سه ماهه دوم'!I6 -> 0 | J6: ='سه ماهه اول'!J6+'سه ماهه دوم'!J6 -> 0 | K6: ='سه ماهه اول'!K6+'سه ماهه دوم'!K6 -> 0 | ... M6: ='سه ماهه اول'!M6+'سه ماهه دوم'!M6 -> 0 | N6: =F6+G6+H6+I6+J6+K6+L6+M6 -> 0 | O6: ='سه ماهه اول'!O6+'سه ماهه دوم'!O6 -> 0 | P6: ='سه ماهه اول'!P6+'سه ماهه دوم'!P6 -> 0 | Q6: =O6+P6 -> 0 | R6: ='سه ماهه اول'!R6+'سه ماهه دوم'!R6 -> 0 | S6: ='سه ماهه اول'!S6+'سه ماهه دوم'!S6 -> 0 | T6: ='سه ماهه اول'!T6+'سه ماهه دوم'!T6 -> 0 | U6: =R6+S6+T6 -> 0 | V6: ='سه ماهه اول'!V6+'سه ماهه دوم'!V6 -> 0 | W6: ='سه ماهه اول'!W6+'سه ماهه دوم'!W6 -> 0 | X6: =V6+W6 -> 0 | Y6: ='سه ماهه اول'!Y6+'سه ماهه دوم'!Y6 -> 0 | Z6: ='سه ماهه اول'!Z6+'سه ماهه دوم'!Z6 -> 0 | AA6: ='سه ماهه اول'!AA6+'سه ماهه دوم'!AA6 -> 0 | AB6: ='سه ماهه اول'!AB6+'سه ماهه دوم'!AB6 -> 0 | AC6: ='سه ماهه اول'!AC6+'سه ماهه دوم'!AC6 -> 0
A7: 2 | B7: خانه بهداشت | C7: ایرانی | D7: ='سه ماهه اول'!D7+'سه ماهه دوم'!D7 -> 0 | E7: ='سه ماهه اول'!E7+'سه ماهه دوم'!E7 -> 0 | F7: ='سه ماهه اول'!F7+'سه ماهه دوم'!F7 -> 0 | G7: ='سه ماهه اول'!G7+'سه ماهه دوم'!G7 -> 0 | H7: ='سه ماهه اول'!H7+'سه ماهه دوم'!H7 -> 0 | I7: ='سه ماهه اول'!I7+'سه ماهه دوم'!I7 -> 0 | J7: ='سه ماهه اول'!J7+'سه ماهه دوم'!J7 -> 0 | K7: ='سه ماهه اول'!K7+'سه ماهه دوم'!K7 -> 0 | ... M7: ='سه ماهه اول'!M7+'سه ماهه دوم'!M7 -> 0 | N7: =F7+G7+H7+I7+J7+K7+L7+M7 -> 0 | O7: ='سه ماهه اول'!O7+'سه ماهه دوم'!O7 -> 0 | P7: ='سه ماهه اول'!P7+'سه ماهه دوم'!P7 -> 0 | Q7: =O7+P7 -> 0 | R7: ='سه ماهه اول'!R7+'سه ماهه دوم'!R7 -> 0 | S7: ='سه ماهه اول'!S7+'سه ماهه دوم'!S7 -> 0 | T7: ='سه ماهه اول'!T7+'سه ماهه دوم'!T7 -> 0 | U7: =R7+S7+T7 -> 0 | V7: ='سه ماهه اول'!V7+'سه ماهه دوم'!V7 -> 0 | W7: ='سه ماهه اول'!W7+'سه ماهه دوم'!W7 -> 0 | X7: =V7+W7 -> 0 | Y7: ='سه ماهه اول'!Y7+'سه ماهه دوم'!Y7 -> 0 | Z7: ='سه ماهه اول'!Z7+'سه ماهه دوم'!Z7 -> 0 | AA7: ='سه ماهه اول'!AA7+'سه ماهه دوم'!AA7 -> 0 | AB7: ='سه ماهه اول'!AB7+'سه ماهه دوم'!AB7 -> 0 | AC7: ='سه ماهه اول'!AC7+'سه ماهه دوم'!AC7 -> 0
C8: افاغنه | D8: ='سه ماهه اول'!D8+'سه ماهه دوم'!D8 -> 0 | E8: ='سه ماهه اول'!E8+'سه ماهه دوم'!E8 -> 0 | F8: ='سه ماهه اول'!F8+'سه ماهه دوم'!F8 -> 0 | G8: ='سه ماهه اول'!G8+'سه ماهه دوم'!G8 -> 0 | H8: ='سه ماهه اول'!H8+'سه ماهه دوم'!H8 -> 0 | I8: ='سه ماهه اول'!I8+'سه ماهه دوم'!I8 -> 0 | J8: ='سه ماهه اول'!J8+'سه ماهه دوم'!J8 -> 0 | K8: ='سه ماهه اول'!K8+'سه ماهه دوم'!K8 -> 0 | ... M8: ='سه ماهه اول'!M8+'سه ماهه دوم'!M8 -> 0 | N8: =F8+G8+H8+I8+J8+K8+L8+M8 -> 0 | O8: ='سه ماهه اول'!O8+'سه ماهه دوم'!O8 -> 0 | P8: ='سه ماهه اول'!P8+'سه ماهه دوم'!P8 -> 0 | Q8: =O8+P8 -> 0 | R8: ='سه ماهه اول'!R8+'سه ماهه دوم'!R8 -> 0 | S8: ='سه ماهه اول'!S8+'سه ماهه دوم'!S8 -> 0 | T8: ='سه ماهه اول'!T8+'سه ماهه دوم'!T8 -> 0 | U8: =R8+S8+T8 -> 0 | V8: ='سه ماهه اول'!V8+'سه ماهه دوم'!V8 -> 0 | W8: ='سه ماهه اول'!W8+'سه ماهه دوم'!W8 -> 0 | X8: =V8+W8 -> 0 | Y8: ='سه ماهه اول'!Y8+'سه ماهه دوم'!Y8 -> 0 | Z8: ='سه ماهه اول'!Z8+'سه ماهه دوم'!Z8 -> 0 | AA8: ='سه ماهه اول'!AA8+'سه ماهه دوم'!AA8 -> 0 | AB8: ='سه ماهه اول'!AB8+'سه ماهه دوم'!AB8 -> 0 | AC8: ='سه ماهه اول'!AC8+'سه ماهه دوم'!AC8 -> 0
A9: 3 | B9: خانه بهداشت | C9: ایرانی | D9: ='سه ماهه اول'!D9+'سه ماهه دوم'!D9 -> 0 | E9: ='سه ماهه اول'!E9+'سه ماهه دوم'!E9 -> 0 | F9: ='سه ماهه اول'!F9+'سه ماهه دوم'!F9 -> 0 | G9: ='سه ماهه اول'!G9+'سه ماهه دوم'!G9 -> 0 | H9: ='سه ماهه اول'!H9+'سه ماهه دوم'!H9 -> 0 | I9: ='سه ماهه اول'!I9+'سه ماهه دوم'!I9 -> 0 | J9: ='سه ماهه اول'!J9+'سه ماهه دوم'!J9 -> 0 | K9: ='سه ماهه اول'!K9+'سه ماهه دوم'!K9 -> 0 | ... M9: ='سه ماهه اول'!M9+'سه ماهه دوم'!M9 -> 0 | N9: =F9+G9+H9+I9+J9+K9+L9+M9 -> 0 | O9: ='سه ماهه اول'!O9+'سه ماهه دوم'!O9 -> 0 | P9: ='سه ماهه اول'!P9+'سه ماهه دوم'!P9 -> 0 | Q9: =O9+P9 -> 0 | R9: ='سه ماهه اول'!R9+'سه ماهه دوم'!R9 -> 0 | S9: ='سه ماهه اول'!S9+'سه ماهه دوم'!S9 -> 0 | T9: ='سه ماهه اول'!T9+'سه ماهه دوم'!T9 -> 0 | U9: =R9+S9+T9 -> 0 | V9: ='سه ماهه اول'!V9+'سه ماهه دوم'!V9 -> 0 | W9: ='سه ماهه اول'!W9+'سه ماهه دوم'!W9 -> 0 | X9: =V9+W9 -> 0 | Y9: ='سه ماهه اول'!Y9+'سه ماهه دوم'!Y9 -> 0 | Z9: ='سه ماهه اول'!Z9+'سه ماهه دوم'!Z9 -> 0 | AA9: ='سه ماهه اول'!AA9+'سه ماهه دوم'!AA9 -> 0 | AB9: ='سه ماهه اول'!AB9+'سه ماهه دوم'!AB9 -> 0 | AC9: ='سه ماهه اول'!AC9+'سه ماهه دوم'!AC9 -> 0
C10: افاغنه | D10: ='سه ماهه اول'!D10+'سه ماهه دوم'!D10 -> 0 | E10: ='سه ماهه اول'!E10+'سه ماهه دوم'!E10 -> 0 | F10: ='سه ماهه اول'!F10+'سه ماهه دوم'!F10 -> 0 | G10: ='سه ماهه اول'!G10+'سه ماهه دوم'!G10 -> 0 | H10: ='سه ماهه اول'!H10+'سه ماهه دوم'!H10 -> 0 | I10: ='سه ماهه اول'!I10+'سه ماهه دوم'!I10 -> 0 | J10: ='سه ماهه اول'!J10+'سه ماهه دوم'!J10 -> 0 | K10: ='سه ماهه اول'!K10+'سه ماهه دوم'!K10 -> 0 | ... M10: ='سه ماهه اول'!M10+'سه ماهه دوم'!M10 -> 0 | N10: =F10+G10+H10+I10+J10+K10+L10+M10 -> 0 | O10: ='سه ماهه اول'!O10+'سه ماهه دوم'!O10 -> 0 | P10: ='سه ماهه اول'!P10+'سه ماهه دوم'!P10 -> 0 | Q10: =O10+P10 -> 0 | R10: ='سه ماهه اول'!R10+'سه ماهه دوم'!R10 -> 0 | S10: ='سه ماهه اول'!S10+'سه ماهه دوم'!S10 -> 0 | T10: ='سه ماهه اول'!T10+'سه ماهه دوم'!T10 -> 0 | U10: =R10+S10+T10 -> 0 | V10: ='سه ماهه اول'!V10+'سه ماهه دوم'!V10 -> 0 | W10: ='سه ماهه اول'!W10+'سه ماهه دوم'!W10 -> 0 | X10: =V10+W10 -> 0 | Y10: ='سه ماهه اول'!Y10+'سه ماهه دوم'!Y10 -> 0 | Z10: ='سه ماهه اول'!Z10+'سه ماهه دوم'!Z10 -> 0 | AA10: ='سه ماهه اول'!AA10+'سه ماهه دوم'!AA10 -> 0 | AB10: ='سه ماهه اول'!AB10+'سه ماهه دوم'!AB10 -> 0 | AC10: ='سه ماهه اول'!AC10+'سه ماهه دوم'!AC10 -> 0
A11: 4 | B11: خانه بهداشت | C11: ایرانی | D11: ='سه ماهه اول'!D11+'سه ماهه دوم'!D11 -> 0 | E11: ='سه ماهه اول'!E11+'سه ماهه دوم'!E11 -> 0 | F11: ='سه ماهه اول'!F11+'سه ماهه دوم'!F11 -> 0 | G11: ='سه ماهه اول'!G11+'سه ماهه دوم'!G11 -> 0 | H11: ='سه ماهه اول'!H11+'سه ماهه دوم'!H11 -> 0 | I11: ='سه ماهه اول'!I11+'سه ماهه دوم'!I11 -> 0 | J11: ='سه ماهه اول'!J11+'سه ماهه دوم'!J11 -> 0 | K11: ='سه ماهه اول'!K11+'سه ماهه دوم'!K11 -> 0 | ... M11: ='سه ماهه اول'!M11+'سه ماهه دوم'!M11 -> 0 | N11: =F11+G11+H11+I11+J11+K11+L11+M11 -> 0 | O11: ='سه ماهه اول'!O11+'سه ماهه دوم'!O11 -> 0 | P11: ='سه ماهه اول'!P11+'سه ماهه دوم'!P11 -> 0 | Q11: =O11+P11 -> 0 | R11: ='سه ماهه اول'!R11+'سه ماهه دوم'!R11 -> 0 | S11: ='سه ماهه اول'!S11+'سه ماهه دوم'!S11 -> 0 | T11: ='سه ماهه اول'!T11+'سه ماهه دوم'!T11 -> 0 | U11: =R11+S11+T11 -> 0 | V11: ='سه ماهه اول'!V11+'سه ماهه دوم'!V11 -> 0 | W11: ='سه ماهه اول'!W11+'سه ماهه دوم'!W11 -> 0 | X11: =V11+W11 -> 0 | Y11: ='سه ماهه اول'!Y11+'سه ماهه دوم'!Y11 -> 0 | Z11: ='سه ماهه اول'!Z11+'سه ماهه دوم'!Z11 -> 0 | AA11: ='سه ماهه اول'!AA11+'سه ماهه دوم'!AA11 -> 0 | AB11: ='سه ماهه اول'!AB11+'سه ماهه دوم'!AB11 -> 0 | AC11: ='سه ماهه اول'!AC11+'سه ماهه دوم'!AC11 -> 0
C12: افاغنه | D12: ='سه ماهه اول'!D12+'سه ماهه دوم'!D12 -> 0 | E12: ='سه ماهه اول'!E12+'سه ماهه دوم'!E12 -> 0 | F12: ='سه ماهه اول'!F12+'سه ماهه دوم'!F12 -> 0 | G12: ='سه ماهه اول'!G12+'سه ماهه دوم'!G12 -> 0 | H12: ='سه ماهه اول'!H12+'سه ماهه دوم'!H12 -> 0 | I12: ='سه ماهه اول'!I12+'سه ماهه دوم'!I12 -> 0 | J12: ='سه ماهه اول'!J12+'سه ماهه دوم'!J12 -> 0 | K12: ='سه ماهه اول'!K12+'سه ماهه دوم'!K12 -> 0 | ... M12: ='سه ماهه اول'!M12+'سه ماهه دوم'!M12 -> 0 | N12: =F12+G12+H12+I12+J12+K12+L12+M12 -> 0 | O12: ='سه ماهه اول'!O12+'سه ماهه دوم'!O12 -> 0 | P12: ='سه ماهه اول'!P12+'سه ماهه دوم'!P12 -> 0 | Q12: =O12+P12 -> 0 | R12: ='سه ماهه اول'!R12+'سه ماهه دوم'!R12 -> 0 | S12: ='سه ماهه اول'!S12+'سه ماهه دوم'!S12 -> 0 | T12: ='سه ماهه اول'!T12+'سه ماهه دوم'!T12 -> 0 | U12: =R12+S12+T12 -> 0 | V12: ='سه ماهه اول'!V12+'سه ماهه دوم'!V12 -> 0 | W12: ='سه ماهه اول'!W12+'سه ماهه دوم'!W12 -> 0 | X12: =V12+W12 -> 0 | Y12: ='سه ماهه اول'!Y12+'سه ماهه دوم'!Y12 -> 0 | Z12: ='سه ماهه اول'!Z12+'سه ماهه دوم'!Z12 -> 0 | AA12: ='سه ماهه اول'!AA12+'سه ماهه دوم'!AA12 -> 0 | AB12: ='سه ماهه اول'!AB12+'سه ماهه دوم'!AB12 -> 0 | AC12: ='سه ماهه اول'!AC12+'سه ماهه دوم'!AC12 -> 0
A13: 5 | B13: خانه بهداشت | C13: ایرانی | D13: ='سه ماهه اول'!D13+'سه ماهه دوم'!D13 -> 0 | E13: ='سه ماهه اول'!E13+'سه ماهه دوم'!E13 -> 0 | F13: ='سه ماهه اول'!F13+'سه ماهه دوم'!F13 -> 0 | G13: ='سه ماهه اول'!G13+'سه ماهه دوم'!G13 -> 0 | H13: ='سه ماهه اول'!H13+'سه ماهه دوم'!H13 -> 0 | I13: ='سه ماهه اول'!I13+'سه ماهه دوم'!I13 -> 0 | J13: ='سه ماهه اول'!J13+'سه ماهه دوم'!J13 -> 0 | K13: ='سه ماهه اول'!K13+'سه ماهه دوم'!K13 -> 0 | ... M13: ='سه ماهه اول'!M13+'سه ماهه دوم'!M13 -> 0 | N13: =F13+G13+H13+I13+J13+K13+L13+M13 -> 0 | O13: ='سه ماهه اول'!O13+'سه ماهه دوم'!O13 -> 0 | P13: ='سه ماهه اول'!P13+'سه ماهه دوم'!P13 -> 0 | Q13: =O13+P13 -> 0 | R13: ='سه ماهه اول'!R13+'سه ماهه دوم'!R13 -> 0 | S13: ='سه ماهه اول'!S13+'سه ماهه دوم'!S13 -> 0 | T13: ='سه ماهه اول'!T13+'سه ماهه دوم'!T13 -> 0 | U13: =R13+S13+T13 -> 0 | V13: ='سه ماهه اول'!V13+'سه ماهه دوم'!V13 -> 0 | W13: ='سه ماهه اول'!W13+'سه ماهه دوم'!W13 -> 0 | X13: =V13+W13 -> 0 | Y13: ='سه ماهه اول'!Y13+'سه ماهه دوم'!Y13 -> 0 | Z13: ='سه ماهه اول'!Z13+'سه ماهه دوم'!Z13 -> 0 | AA13: ='سه ماهه اول'!AA13+'سه ماهه دوم'!AA13 -> 0 | AB13: ='سه ماهه اول'!AB13+'سه ماهه دوم'!AB13 -> 0 | AC13: ='سه ماهه اول'!AC13+'سه ماهه دوم'!AC13 -> 0
C14: افاغنه | D14: ='سه ماهه اول'!D14+'سه ماهه دوم'!D14 -> 0 | E14: ='سه ماهه اول'!E14+'سه ماهه دوم'!E14 -> 0 | F14: ='سه ماهه اول'!F14+'سه ماهه دوم'!F14 -> 0 | G14: ='سه ماهه اول'!G14+'سه ماهه دوم'!G14 -> 0 | H14: ='سه ماهه اول'!H14+'سه ماهه دوم'!H14 -> 0 | I14: ='سه ماهه اول'!I14+'سه ماهه دوم'!I14 -> 0 | J14: ='سه ماهه اول'!J14+'سه ماهه دوم'!J14 -> 0 | K14: ='سه ماهه اول'!K14+'سه ماهه دوم'!K14 -> 0 | ... M14: ='سه ماهه اول'!M14+'سه ماهه دوم'!M14 -> 0 | N14: =F14+G14+H14+I14+J14+K14+L14+M14 -> 0 | O14: ='سه ماهه اول'!O14+'سه ماهه دوم'!O14 -> 0 | P14: ='سه ماهه اول'!P14+'سه ماهه دوم'!P14 -> 0 | Q14: =O14+P14 -> 0 | R14: ='سه ماهه اول'!R14+'سه ماهه دوم'!R14 -> 0 | S14: ='سه ماهه اول'!S14+'سه ماهه دوم'!S14 -> 0 | T14: ='سه ماهه اول'!T14+'سه ماهه دوم'!T14 -> 0 | U14: =R14+S14+T14 -> 0 | V14: ='سه ماهه اول'!V14+'سه ماهه دوم'!V14 -> 0 | W14: ='سه ماهه اول'!W14+'سه ماهه دوم'!W14 -> 0 | X14: =V14+W14 -> 0 | Y14: ='سه ماهه اول'!Y14+'سه ماهه دوم'!Y14 -> 0 | Z14: ='سه ماهه اول'!Z14+'سه ماهه دوم'!Z14 -> 0 | AA14: ='سه ماهه اول'!AA14+'سه ماهه دوم'!AA14 -> 0 | AB14: ='سه ماهه اول'!AB14+'سه ماهه دوم'!AB14 -> 0 | AC14: ='سه ماهه اول'!AC14+'سه ماهه دوم'!AC14 -> 0
A15: 6 | B15: جمع کل | C15: ایرانی | D15: =D5+D7+D9+D11+D13 -> 0 | E15: =E5+E7+E9+E11+E13 -> 0 | F15: =F5+F7+F9+F11+F13 -> 0 | G15: =G5+G7+G9+G11+G13 -> 0 | H15: =H5+H7+H9+H11+H13 -> 0 | I15: =I5+I7+I9+I11+I13 -> 0 | J15: =J5+J7+J9+J11+J13 -> 0 | K15: =K5+K7+K9+K11+K13 -> 0 | ... AC15: =AC5+AC7+AC9+AC11+AC13 -> 0
C16: افاغنه | D16: =D6+D8+D10+D12+D14 -> 0 | E16: =E6+E8+E10+E12+E14 -> 0 | F16: =F6+F8+F10+F12+F14 -> 0 | G16: =G6+G8+G10+G12+G14 -> 0 | H16: =H6+H8+H10+H12+H14 -> 0 | I16: =I6+I8+I10+I12+I14 -> 0 | J16: =J6+J8+J10+J12+J14 -> 0 | K16: =K6+K8+K10+K12+K14 -> 0 | ... AC16: =AC6+AC8+AC10+AC12+AC14 -> 0

Sheet مهر
B1: فعاليت هاي اجرايي مراكزبهداشتي ودرماني ............. در زمينه غربالگري و شناسايي موارد آلوده به شپش سال
A2: ردیف | B2: فـــــــــــعـــــــالـــــیـــــت مـــــــرکــــــز
D3: تعداد افراد | E3: تعداد افراد | F3: زن | J3: مرد | N3: جمع کل | O3: محل سكونت | R3: نوع شپش | U3: سابقه آلودگي | Y3: نوع درمان
D4: معاينه شده | E4: آلوده | F4: زير 6 سال | G4: 6تا 12 سال | H4: 13تا18سال | I4: بالايي 18 سال | J4: زير 6 سال | K4: 6تا 12 سال | L4: 13تا18سال | M4: بالايي 18 سال | O4: روستا | P4: شهر | Q4: جمع کل | R4: سر | S4: تن | T4: عانه | U4: جمع کل | V4: دارد | W4: ندارد | X4: جمع کل | Y4: شامپو پرمترین | Z4: لوسیون دایمتیکون | AA4: کرم پرمترین | AB4: لوسیون لیندان | AC4: اسپری درمین
A5: 1 | B5: خانه بهداشت | C5: ایرانی | N5: =F5+G5+H5+I5+J5+K5+L5+M5 -> 0 | Q5: =O5+P5 -> 0 | U5: =R5+S5+T5 -> 0 | X5: =V5+W5 -> 0
C6: افاغنه | N6: =F6+G6+H6+I6+J6+K6+L6+M6 -> 0 | Q6: =O6+P6 -> 0 | U6: =R6+S6+T6 -> 0 | X6: =V6+W6 -> 0
A7: 2 | B7: خانه بهداشت | C7: ایرانی | N7: =F7+G7+H7+I7+J7+K7+L7+M7 -> 0 | Q7: =O7+P7 -> 0 | U7: =R7+S7+T7 -> 0 | X7: =V7+W7 -> 0
C8: افاغنه | N8: =F8+G8+H8+I8+J8+K8+L8+M8 -> 0 | Q8: =O8+P8 -> 0 | U8: =R8+S8+T8 -> 0 | X8: =V8+W8 -> 0
A9: 3 | B9: خانه بهداشت | C9: ایرانی | N9: =F9+G9+H9+I9+J9+K9+L9+M9 -> 0 | Q9: =O9+P9 -> 0 | U9: =R9+S9+T9 -> 0 | X9: =V9+W9 -> 0
C10: افاغنه | N10: =F10+G10+H10+I10+J10+K10+L10+M10 -> 0 | Q10: =O10+P10 -> 0 | U10: =R10+S10+T10 -> 0 | X10: =V10+W10 -> 0
A11: 4 | B11: خانه بهداشت | C11: ایرانی | N11: =F11+G11+H11+I11+J11+K11+L11+M11 -> 0 | Q11: =O11+P11 -> 0 | U11: =R11+S11+T11 -> 0 | X11: =V11+W11 -> 0
C12: افاغنه | N12: =F12+G12+H12+I12+J12+K12+L12+M12 -> 0 | Q12: =O12+P12 -> 0 | U12: =R12+S12+T12 -> 0 | X12: =V12+W12 -> 0
A13: 5 | B13: خانه بهداشت | C13: ایرانی | N13: =F13+G13+H13+I13+J13+K13+L13+M13 -> 0 | Q13: =O13+P13 -> 0 | U13: =R13+S13+T13 -> 0 | X13: =V13+W13 -> 0
C14: افاغنه | N14: =F14+G14+H14+I14+J14+K14+L14+M14 -> 0 | Q14: =O14+P14 -> 0 | U14: =R14+S14+T14 -> 0 | X14: =V14+W14 -> 0
A15: 6 | B15: جمع کل | C15: ایرانی | D15: =D5+D7+D9+D11+D13 -> 0 | E15: =E5+E7+E9+E11+E13 -> 0 | F15: =F5+F7+F9+F11+F13 -> 0 | G15: =G5+G7+G9+G11+G13 -> 0 | H15: =H5+H7+H9+H11+H13 -> 0 | I15: =I5+I7+I9+I11+I13 -> 0 | J15: =J5+J7+J9+J11+J13 -> 0 | K15: =K5+K7+K9+K11+K13 -> 0 | ... AC15: =AC5+AC7+AC9+AC11+AC13 -> 0
C16: افاغنه | D16: =D6+D8+D10+D12+D14 -> 0 | E16: =E6+E8+E10+E12+E14 -> 0 | F16: =F6+F8+F10+F12+F14 -> 0 | G16: =G6+G8+G10+G12+G14 -> 0 | H16: =H6+H8+H10+H12+H14 -> 0 | I16: =I6+I8+I10+I12+I14 -> 0 | J16: =J6+J8+J10+J12+J14 -> 0 | K16: =K6+K8+K10+K12+K14 -> 0 | ... AC16: =AC6+AC8+AC10+AC12+AC14 -> 0

Sheet آبان
B1: فعاليت هاي اجرايي مراكزبهداشتي ودرماني ............. در زمينه غربالگري و شناسايي موارد آلوده به شپش سال
A2: ردیف | B2: فـــــــــــعـــــــالـــــیـــــت مـــــــرکــــــز
D3: تعداد افراد | E3: تعداد افراد | F3: زن | J3: مرد | N3: جمع کل | O3: محل سكونت | R3: نوع شپش | U3: سابقه آلودگي | Y3: نوع درمان
D4: معاينه شده | E4: آلوده | F4: زير 6 سال | G4: 6تا 12 سال | H4: 13تا18سال | I4: بالايي 18 سال | J4: زير 6 سال | K4: 6تا 12 سال | L4: 13تا18سال | M4: بالايي 18 سال | O4: روستا | P4: شهر | Q4: جمع کل | R4: سر | S4: تن | T4: عانه | U4: جمع کل | V4: دارد | W4: ندارد | X4: جمع کل | Y4: شامپو پرمترین | Z4: لوسیون دایمتیکون | AA4: کرم پرمترین | AB4: لوسیون لیندان | AC4: اسپری درمین
A5: 1 | B5: خانه بهداشت | C5: ایرانی | N5: =F5+G5+H5+I5+J5+K5+L5+M5 -> 0 | Q5: =O5+P5 -> 0 | U5: =R5+S5+T5 -> 0 | X5: =V5+W5 -> 0
C6: افاغنه | N6: =F6+G6+H6+I6+J6+K6+L6+M6 -> 0 | Q6: =O6+P6 -> 0 | U6: =R6+S6+T6 -> 0 | X6: =V6+W6 -> 0
A7: 2 | B7: خانه بهداشت | C7: ایرانی | N7: =F7+G7+H7+I7+J7+K7+L7+M7 -> 0 | Q7: =O7+P7 -> 0 | U7: =R7+S7+T7 -> 0 | X7: =V7+W7 -> 0
C8: افاغنه | N8: =F8+G8+H8+I8+J8+K8+L8+M8 -> 0 | Q8: =O8+P8 -> 0 | U8: =R8+S8+T8 -> 0 | X8: =V8+W8 -> 0
A9: 3 | B9: خانه بهداشت | C9: ایرانی | N9: =F9+G9+H9+I9+J9+K9+L9+M9 -> 0 | Q9: =O9+P9 -> 0 | U9: =R9+S9+T9 -> 0 | X9: =V9+W9 -> 0
C10: افاغنه | N10: =F10+G10+H10+I10+J10+K10+L10+M10 -> 0 | Q10: =O10+P10 -> 0 | U10: =R10+S10+T10 -> 0 | X10: =V10+W10 -> 0
A11: 4 | B11: خانه بهداشت | C11: ایرانی | N11: =F11+G11+H11+I11+J11+K11+L11+M11 -> 0 | Q11: =O11+P11 -> 0 | U11: =R11+S11+T11 -> 0 | X11: =V11+W11 -> 0
C12: افاغنه | N12: =F12+G12+H12+I12+J12+K12+L12+M12 -> 0 | Q12: =O12+P12 -> 0 | U12: =R12+S12+T12 -> 0 | X12: =V12+W12 -> 0
A13: 5 | B13: خانه بهداشت | C13: ایرانی | N13: =F13+G13+H13+I13+J13+K13+L13+M13 -> 0 | Q13: =O13+P13 -> 0 | U13: =R13+S13+T13 -> 0 | X13: =V13+W13 -> 0
C14: افاغنه | N14: =F14+G14+H14+I14+J14+K14+L14+M14 -> 0 | Q14: =O14+P14 -> 0 | U14: =R14+S14+T14 -> 0 | X14: =V14+W14 -> 0
A15: 6 | B15: جمع کل | C15: ایرانی | D15: =D5+D7+D9+D11+D13 -> 0 | E15: =E5+E7+E9+E11+E13 -> 0 | F15: =F5+F7+F9+F11+F13 -> 0 | G15: =G5+G7+G9+G11+G13 -> 0 | H15: =H5+H7+H9+H11+H13 -> 0 | I15: =I5+I7+I9+I11+I13 -> 0 | J15: =J5+J7+J9+J11+J13 -> 0 | K15: =K5+K7+K9+K11+K13 -> 0 | ... AC15: =AC5+AC7+AC9+AC11+AC13 -> 0
C16: افاغنه | D16: =D6+D8+D10+D12+D14 -> 0 | E16: =E6+E8+E10+E12+E14 -> 0 | F16: =F6+F8+F10+F12+F14 -> 0 | G16: =G6+G8+G10+G12+G14 -> 0 | H16: =H6+H8+H10+H12+H14 -> 0 | I16: =I6+I8+I10+I12+I14 -> 0 | J16: =J6+J8+J10+J12+J14 -> 0 | K16: =K6+K8+K10+K12+K14 -> 0 | ... AC16: =AC6+AC8+AC10+AC12+AC14 -> 0

Sheet آذر
B1: فعاليت هاي اجرايي مراكزبهداشتي ودرماني ............. در زمينه غربالگري و شناسايي موارد آلوده به شپش سال
A2: ردیف | B2: فـــــــــــعـــــــالـــــیـــــت مـــــــرکــــــز
D3: تعداد افراد | E3: تعداد افراد | F3: زن | J3: مرد | N3: جمع کل | O3: محل سكونت | R3: نوع شپش | U3: سابقه آلودگي | Y3: نوع درمان
D4: معاينه شده | E4: آلوده | F4: زير 6 سال | G4: 6تا 12 سال | H4: 13تا18سال | I4: بالايي 18 سال | J4: زير 6 سال | K4: 6تا 12 سال | L4: 13تا18سال | M4: بالايي 18 سال | O4: روستا | P4: شهر | Q4: جمع کل | R4: سر | S4: تن | T4: عانه | U4: جمع کل | V4: دارد | W4: ندارد | X4: جمع کل | Y4: شامپو پرمترین | Z4: لوسیون دایمتیکون | AA4: کرم پرمترین | AB4: لوسیون لیندان | AC4: اسپری درمین
A5: 1 | B5: خانه بهداشت | C5: ایرانی | N5: =F5+G5+H5+I5+J5+K5+L5+M5 -> 0 | Q5: =O5+P5 -> 0 | U5: =R5+S5+T5 -> 0 | X5: =V5+W5 -> 0
C6: افاغنه | N6: =F6+G6+H6+I6+J6+K6+L6+M6 -> 0 | Q6: =O6+P6 -> 0 | U6: =R6+S6+T6 -> 0 | X6: =V6+W6 -> 0
A7: 2 | B7: خانه بهداشت | C7: ایرانی | N7: =F7+G7+H7+I7+J7+K7+L7+M7 -> 0 | Q7: =O7+P7 -> 0 | U7: =R7+S7+T7 -> 0 | X7: =V7+W7 -> 0
C8: افاغنه | N8: =F8+G8+H8+I8+J8+K8+L8+M8 -> 0 | Q8: =O8+P8 -> 0 | U8: =R8+S8+T8 -> 0 | X8: =V8+W8 -> 0
A9: 3 | B9: خانه بهداشت | C9: ایرانی | N9: =F9+G9+H9+I9+J9+K9+L9+M9 -> 0 | Q9: =O9+P9 -> 0 | U9: =R9+S9+T9 -> 0 | X9: =V9+W9 -> 0
C10: افاغنه | N10: =F10+G10+H10+I10+J10+K10+L10+M10 -> 0 | Q10: =O10+P10 -> 0 | U10: =R10+S10+T10 -> 0 | X10: =V10+W10 -> 0
A11: 4 | B11: خانه بهداشت | C11: ایرانی | N11: =F11+G11+H11+I11+J11+K11+L11+M11 -> 0 | Q11: =O11+P11 -> 0 | U11: =R11+S11+T11 -> 0 | X11: =V11+W11 -> 0
C12: افاغنه | N12: =F12+G12+H12+I12+J12+K12+L12+M12 -> 0 | Q12: =O12+P12 -> 0 | U12: =R12+S12+T12 -> 0 | X12: =V12+W12 -> 0
A13: 5 | B13: خانه بهداشت | C13: ایرانی | N13: =F13+G13+H13+I13+J13+K13+L13+M13 -> 0 | Q13: =O13+P13 -> 0 | U13: =R13+S13+T13 -> 0 | X13: =V13+W13 -> 0
C14: افاغنه | N14: =F14+G14+H14+I14+J14+K14+L14+M14 -> 0 | Q14: =O14+P14 -> 0 | U14: =R14+S14+T14 -> 0 | X14: =V14+W14 -> 0
A15: 6 | B15: جمع کل | C15: ایرانی | D15: =D5+D7+D9+D11+D13 -> 0 | E15: =E5+E7+E9+E11+E13 -> 0 | F15: =F5+F7+F9+F11+F13 -> 0 | G15: =G5+G7+G9+G11+G13 -> 0 | H15: =H5+H7+H9+H11+H13 -> 0 | I15: =I5+I7+I9+I11+I13 -> 0 | J15: =J5+J7+J9+J11+J13 -> 0 | K15: =K5+K7+K9+K11+K13 -> 0 | ... AC15: =AC5+AC7+AC9+AC11+AC13 -> 0
C16: افاغنه | D16: =D6+D8+D10+D12+D14 -> 0 | E16: =E6+E8+E10+E12+E14 -> 0 | F16: =F6+F8+F10+F12+F14 -> 0 | G16: =G6+G8+G10+G12+G14 -> 0 | H16: =H6+H8+H10+H12+H14 -> 0 | I16: =I6+I8+I10+I12+I14 -> 0 | J16: =J6+J8+J10+J12+J14 -> 0 | K16: =K6+K8+K10+K12+K14 -> 0 | ... AC16: =AC6+AC8+AC10+AC12+AC14 -> 0

Sheet سه ماهه سوم
B1: فعاليت هاي اجرايي مراكزبهداشتي ودرماني ............. در زمينه غربالگري و شناسايي موارد آلوده به شپش سال
A2: ردیف | B2: فـــــــــــعـــــــالـــــیـــــت مـــــــرکــــــز
D3: تعداد افراد | E3: تعداد افراد | F3: زن | J3: مرد | N3: جمع کل | O3: محل سكونت | R3: نوع شپش | U3: سابقه آلودگي | Y3: نوع درمان
D4: معاينه شده | E4: آلوده | F4: زير 6 سال | G4: 6تا 12 سال | H4: 13تا18سال | I4: بالايي 18 سال | J4: زير 6 سال | K4: 6تا 12 سال | L4: 13تا18سال | M4: بالايي 18 سال | O4: روستا | P4: شهر | Q4: جمع کل | R4: سر | S4: تن | T4: عانه | U4: جمع کل | V4: دارد | W4: ندارد | X4: جمع کل | Y4: شامپو پرمترین | Z4: لوسیون دایمتیکون | AA4: کرم پرمترین | AB4: لوسیون لیندان | AC4: اسپری درمین
A5: 1 | B5: خانه بهداشت | C5: ایرانی | D5: =مهر!D5+آبان!D5+آذر!D5 -> 0 | E5: =مهر!E5+آبان!E5+آذر!E5 -> 0 | F5: =مهر!F5+آبان!F5+آذر!F5 -> 0 | G5: =مهر!G5+آبان!G5+آذر!G5 -> 0 | H5: =مهر!H5+آبان!H5+آذر!H5 -> 0 | I5: =مهر!I5+آبان!I5+آذر!I5 -> 0 | J5: =مهر!J5+آبان!J5+آذر!J5 -> 0 | K5: =مهر!K5+آبان!K5+آذر!K5 -> 0 | ... M5: =مهر!M5+آبان!M5+آذر!M5 -> 0 | N5: =F5+G5+H5+I5+J5+K5+L5+M5 -> 0 | O5: =مهر!O5+آبان!O5+آذر!O5 -> 0 | P5: =مهر!P5+آبان!P5+آذر!P5 -> 0 | Q5: =O5+P5 -> 0 | R5: =مهر!R5+آبان!R5+آذر!R5 -> 0 | S5: =مهر!S5+آبان!S5+آذر!S5 -> 0 | T5: =مهر!T5+آبان!T5+آذر!T5 -> 0 | U5: =R5+S5+T5 -> 0 | V5: =مهر!V5+آبان!V5+آذر!V5 -> 0 | W5: =مهر!W5+آبان!W5+آذر!W5 -> 0 | X5: =V5+W5 -> 0 | Y5: =مهر!Y5+آبان!Y5+آذر!Y5 -> 0 | Z5: =مهر!Z5+آبان!Z5+آذر!Z5 -> 0 | AA5: =مهر!AA5+آبان!AA5+آذر!AA5 -> 0 | AB5: =مهر!AB5+آبان!AB5+آذر!AB5 -> 0 | AC5: =مهر!AC5+آبان!AC5+آذر!AC5 -> 0
C6: افاغنه | D6: =مهر!D6+آبان!D6+آذر!D6 -> 0 | E6: =مهر!E6+آبان!E6+آذر!E6 -> 0 | F6: =مهر!F6+آبان!F6+آذر!F6 -> 0 | G6: =مهر!G6+آبان!G6+آذر!G6 -> 0 | H6: =مهر!H6+آبان!H6+آذر!H6 -> 0 | I6: =مهر!I6+آبان!I6+آذر!I6 -> 0 | J6: =مهر!J6+آبان!J6+آذر!J6 -> 0 | K6: =مهر!K6+آبان!K6+آذر!K6 -> 0 | ... M6: =مهر!M6+آبان!M6+آذر!M6 -> 0 | N6: =F6+G6+H6+I6+J6+K6+L6+M6 -> 0 | O6: =مهر!O6+آبان!O6+آذر!O6 -> 0 | P6: =مهر!P6+آبان!P6+آذر!P6 -> 0 | Q6: =O6+P6 -> 0 | R6: =مهر!R6+آبان!R6+آذر!R6 -> 0 | S6: =مهر!S6+آبان!S6+آذر!S6 -> 0 | T6: =مهر!T6+آبان!T6+آذر!T6 -> 0 | U6: =R6+S6+T6 -> 0 | V6: =مهر!V6+آبان!V6+آذر!V6 -> 0 | W6: =مهر!W6+آبان!W6+آذر!W6 -> 0 | X6: =V6+W6 -> 0 | Y6: =مهر!Y6+آبان!Y6+آذر!Y6 -> 0 | Z6: =مهر!Z6+آبان!Z6+آذر!Z6 -> 0 | AA6: =مهر!AA6+آبان!AA6+آذر!AA6 -> 0 | AB6: =مهر!AB6+آبان!AB6+آذر!AB6 -> 0 | AC6: =مهر!AC6+آبان!AC6+آذر!AC6 -> 0
A7: 2 | B7: خانه بهداشت | C7: ایرانی | D7: =مهر!D7+آبان!D7+آذر!D7 -> 0 | E7: =مهر!E7+آبان!E7+آذر!E7 -> 0 | F7: =مهر!F7+آبان!F7+آذر!F7 -> 0 | G7: =مهر!G7+آبان!G7+آذر!G7 -> 0 | H7: =مهر!H7+آبان!H7+آذر!H7 -> 0 | I7: =مهر!I7+آبان!I7+آذر!I7 -> 0 | J7: =مهر!J7+آبان!J7+آذر!J7 -> 0 | K7: =مهر!K7+آبان!K7+آذر!K7 -> 0 | ... M7: =مهر!M7+آبان!M7+آذر!M7 -> 0 | N7: =F7+G7+H7+I7+J7+K7+L7+M7 -> 0 | O7: =مهر!O7+آبان!O7+آذر!O7 -> 0 | P7: =مهر!P7+آبان!P7+آذر!P7 -> 0 | Q7: =O7+P7 -> 0 | R7: =مهر!R7+آبان!R7+آذر!R7 -> 0 | S7: =مهر!S7+آبان!S7+آذر!S7 -> 0 | T7: =مهر!T7+آبان!T7+آذر!T7 -> 0 | U7: =R7+S7+T7 -> 0 | V7: =مهر!V7+آبان!V7+آذر!V7 -> 0 | W7: =مهر!W7+آبان!W7+آذر!W7 -> 0 | X7: =V7+W7 -> 0 | Y7: =مهر!Y7+آبان!Y7+آذر!Y7 -> 0 | Z7: =مهر!Z7+آبان!Z7+آذر!Z7 -> 0 | AA7: =مهر!AA7+آبان!AA7+آذر!AA7 -> 0 | AB7: =مهر!AB7+آبان!AB7+آذر!AB7 -> 0 | AC7: =مهر!AC7+آبان!AC7+آذر!AC7 -> 0
C8: افاغنه | D8: =مهر!D8+آبان!D8+آذر!D8 -> 0 | E8: =مهر!E8+آبان!E8+آذر!E8 -> 0 | F8: =مهر!F8+آبان!F8+آذر!F8 -> 0 | G8: =مهر!G8+آبان!G8+آذر!G8 -> 0 | H8: =مهر!H8+آبان!H8+آذر!H8 -> 0 | I8: =مهر!I8+آبان!I8+آذر!I8 -> 0 | J8: =مهر!J8+آبان!J8+آذر!J8 -> 0 | K8: =مهر!K8+آبان!K8+آذر!K8 -> 0 | ... M8: =مهر!M8+آبان!M8+آذر!M8 -> 0 | N8: =F8+G8+H8+I8+J8+K8+L8+M8 -> 0 | O8: =مهر!O8+آبان!O8+آذر!O8 -> 0 | P8: =مهر!P8+آبان!P8+آذر!P8 -> 0 | Q8: =O8+P8 -> 0 | R8: =مهر!R8+آبان!R8+آذر!R8 -> 0 | S8: =مهر!S8+آبان!S8+آذر!S8 -> 0 | T8: =مهر!T8+آبان!T8+آذر!T8 -> 0 | U8: =R8+S8+T8 -> 0 | V8: =مهر!V8+آبان!V8+آذر!V8 -> 0 | W8: =مهر!W8+آبان!W8+آذر!W8 -> 0 | X8: =V8+W8 -> 0 | Y8: =مهر!Y8+آبان!Y8+آذر!Y8 -> 0 | Z8: =مهر!Z8+آبان!Z8+آذر!Z8 -> 0 | AA8: =مهر!AA8+آبان!AA8+آذر!AA8 -> 0 | AB8: =مهر!AB8+آبان!AB8+آذر!AB8 -> 0 | AC8: =مهر!AC8+آبان!AC8+آذر!AC8 -> 0
A9: 3 | B9: خانه بهداشت | C9: ایرانی | D9: =مهر!D9+آبان!D9+آذر!D9 -> 0 | E9: =مهر!E9+آبان!E9+آذر!E9 -> 0 | F9: =مهر!F9+آبان!F9+آذر!F9 -> 0 | G9: =مهر!G9+آبان!G9+آذر!G9 -> 0 | H9: =مهر!H9+آبان!H9+آذر!H9 -> 0 | I9: =مهر!I9+آبان!I9+آذر!I9 -> 0 | J9: =مهر!J9+آبان!J9+آذر!J9 -> 0 | K9: =مهر!K9+آبان!K9+آذر!K9 -> 0 | ... M9: =مهر!M9+آبان!M9+آذر!M9 -> 0 | N9: =F9+G9+H9+I9+J9+K9+L9+M9 -> 0 | O9: =مهر!O9+آبان!O9+آذر!O9 -> 0 | P9: =مهر!P9+آبان!P9+آذر!P9 -> 0 | Q9: =O9+P9 -> 0 | R9: =مهر!R9+آبان!R9+آذر!R9 -> 0 | S9: =مهر!S9+آبان!S9+آذر!S9 -> 0 | T9: =مهر!T9+آبان!T9+آذر!T9 -> 0 | U9: =R9+S9+T9 -> 0 | V9: =مهر!V9+آبان!V9+آذر!V9 -> 0 | W9: =مهر!W9+آبان!W9+آذر!W9 -> 0 | X9: =V9+W9 -> 0 | Y9: =مهر!Y9+آبان!Y9+آذر!Y9 -> 0 | Z9: =مهر!Z9+آبان!Z9+آذر!Z9 -> 0 | AA9: =مهر!AA9+آبان!AA9+آذر!AA9 -> 0 | AB9: =مهر!AB9+آبان!AB9+آذر!AB9 -> 0 | AC9: =مهر!AC9+آبان!AC9+آذر!AC9 -> 0
C10: افاغنه | D10: =مهر!D10+آبان!D10+آذر!D10 -> 0 | E10: =مهر!E10+آبان!E10+آذر!E10 -> 0 | F10: =مهر!F10+آبان!F10+آذر!F10 -> 0 | G10: =مهر!G10+آبان!G10+آذر!G10 -> 0 | H10: =مهر!H10+آبان!H10+آذر!H10 -> 0 | I10: =مهر!I10+آبان!I10+آذر!I10 -> 0 | J10: =مهر!J10+آبان!J10+آذر!J10 -> 0 | K10: =مهر!K10+آبان!K10+آذر!K10 -> 0 | ... M10: =مهر!M10+آبان!M10+آذر!M10 -> 0 | N10: =F10+G10+H10+I10+J10+K10+L10+M10 -> 0 | O10: =مهر!O10+آبان!O10+آذر!O10 -> 0 | P10: =مهر!P10+آبان!P10+آذر!P10 -> 0 | Q10: =O10+P10 -> 0 | R10: =مهر!R10+آبان!R10+آذر!R10 -> 0 | S10: =مهر!S10+آبان!S10+آذر!S10 -> 0 | T10: =مهر!T10+آبان!T10+آذر!T10 -> 0 | U10: =R10+S10+T10 -> 0 | V10: =مهر!V10+آبان!V10+آذر!V10 -> 0 | W10: =مهر!W10+آبان!W10+آذر!W10 -> 0 | X10: =V10+W10 -> 0 | Y10: =مهر!Y10+آبان!Y10+آذر!Y10 -> 0 | Z10: =مهر!Z10+آبان!Z10+آذر!Z10 -> 0 | AA10: =مهر!AA10+آبان!AA10+آذر!AA10 -> 0 | AB10: =مهر!AB10+آبان!AB10+آذر!AB10 -> 0 | AC10: =مهر!AC10+آبان!AC10+آذر!AC10 -> 0
A11: 4 | B11: خانه بهداشت | C11: ایرانی | D11: =مهر!D11+آبان!D11+آذر!D11 -> 0 | E11: =مهر!E11+آبان!E11+آذر!E11 -> 0 | F11: =مهر!F11+آبان!F11+آذر!F11 -> 0 | G11: =مهر!G11+آبان!G11+آذر!G11 -> 0 | H11: =مهر!H11+آبان!H11+آذر!H11 -> 0 | I11: =مهر!I11+آبان!I11+آذر!I11 -> 0 | J11: =مهر!J11+آبان!J11+آذر!J11 -> 0 | K11: =مهر!K11+آبان!K11+آذر!K11 -> 0 | ... M11: =مهر!M11+آبان!M11+آذر!M11 -> 0 | N11: =F11+G11+H11+I11+J11+K11+L11+M11 -> 0 | O11: =مهر!O11+آبان!O11+آذر!O11 -> 0 | P11: =مهر!P11+آبان!P11+آذر!P11 -> 0 | Q11: =O11+P11 -> 0 | R11: =مهر!R11+آبان!R11+آذر!R11 -> 0 | S11: =مهر!S11+آبان!S11+آذر!S11 -> 0 | T11: =مهر!T11+آبان!T11+آذر!T11 -> 0 | U11: =R11+S11+T11 -> 0 | V11: =مهر!V11+آبان!V11+آذر!V11 -> 0 | W11: =مهر!W11+آبان!W11+آذر!W11 -> 0 | X11: =V11+W11 -> 0 | Y11: =مهر!Y11+آبان!Y11+آذر!Y11 -> 0 | Z11: =مهر!Z11+آبان!Z11+آذر!Z11 -> 0 | AA11: =مهر!AA11+آبان!AA11+آذر!AA11 -> 0 | AB11: =مهر!AB11+آبان!AB11+آذر!AB11 -> 0 | AC11: =مهر!AC11+آبان!AC11+آذر!AC11 -> 0
C12: افاغنه | D12: =مهر!D12+آبان!D12+آذر!D12 -> 0 | E12: =مهر!E12+آبان!E12+آذر!E12 -> 0 | F12: =مهر!F12+آبان!F12+آذر!F12 -> 0 | G12: =مهر!G12+آبان!G12+آذر!G12 -> 0 | H12: =مهر!H12+آبان!H12+آذر!H12 -> 0 | I12: =مهر!I12+آبان!I12+آذر!I12 -> 0 | J12: =مهر!J12+آبان!J12+آذر!J12 -> 0 | K12: =مهر!K12+آبان!K12+آذر!K12 -> 0 | ... M12: =مهر!M12+آبان!M12+آذر!M12 -> 0 | N12: =F12+G12+H12+I12+J12+K12+L12+M12 -> 0 | O12: =مهر!O12+آبان!O12+آذر!O12 -> 0 | P12: =مهر!P12+آبان!P12+آذر!P12 -> 0 | Q12: =O12+P12 -> 0 | R12: =مهر!R12+آبان!R12+آذر!R12 -> 0 | S12: =مهر!S12+آبان!S12+آذر!S12 -> 0 | T12: =مهر!T12+آبان!T12+آذر!T12 -> 0 | U12: =R12+S12+T12 -> 0 | V12: =مهر!V12+آبان!V12+آذر!V12 -> 0 | W12: =مهر!W12+آبان!W12+آذر!W12 -> 0 | X12: =V12+W12 -> 0 | Y12: =مهر!Y12+آبان!Y12+آذر!Y12 -> 0 | Z12: =مهر!Z12+آبان!Z12+آذر!Z12 -> 0 | AA12: =مهر!AA12+آبان!AA12+آذر!AA12 -> 0 | AB12: =مهر!AB12+آبان!AB12+آذر!AB12 -> 0 | AC12: =مهر!AC12+آبان!AC12+آذر!AC12 -> 0
A13: 5 | B13: خانه بهداشت | C13: ایرانی | D13: =مهر!D13+آبان!D13+آذر!D13 -> 0 | E13: =مهر!E13+آبان!E13+آذر!E13 -> 0 | F13: =مهر!F13+آبان!F13+آذر!F13 -> 0 | G13: =مهر!G13+آبان!G13+آذر!G13 -> 0 | H13: =مهر!H13+آبان!H13+آذر!H13 -> 0 | I13: =مهر!I13+آبان!I13+آذر!I13 -> 0 | J13: =مهر!J13+آبان!J13+آذر!J13 -> 0 | K13: =مهر!K13+آبان!K13+آذر!K13 -> 0 | ... M13: =مهر!M13+آبان!M13+آذر!M13 -> 0 | N13: =F13+G13+H13+I13+J13+K13+L13+M13 -> 0 | O13: =مهر!O13+آبان!O13+آذر!O13 -> 0 | P13: =مهر!P13+آبان!P13+آذر!P13 -> 0 | Q13: =O13+P13 -> 0 | R13: =مهر!R13+آبان!R13+آذر!R13 -> 0 | S13: =مهر!S13+آبان!S13+آذر!S13 -> 0 | T13: =مهر!T13+آبان!T13+آذر!T13 -> 0 | U13: =R13+S13+T13 -> 0 | V13: =مهر!V13+آبان!V13+آذر!V13 -> 0 | W13: =مهر!W13+آبان!W13+آذر!W13 -> 0 | X13: =V13+W13 -> 0 | Y13: =مهر!Y13+آبان!Y13+آذر!Y13 -> 0 | Z13: =مهر!Z13+آبان!Z13+آذر!Z13 -> 0 | AA13: =مهر!AA13+آبان!AA13+آذر!AA13 -> 0 | AB13: =مهر!AB13+آبان!AB13+آذر!AB13 -> 0 | AC13: =مهر!AC13+آبان!AC13+آذر!AC13 -> 0
C14: افاغنه | D14: =مهر!D14+آبان!D14+آذر!D14 -> 0 | E14: =مهر!E14+آبان!E14+آذر!E14 -> 0 | F14: =مهر!F14+آبان!F14+آذر!F14 -> 0 | G14: =مهر!G14+آبان!G14+آذر!G14 -> 0 | H14: =مهر!H14+آبان!H14+آذر!H14 -> 0 | I14: =مهر!I14+آبان!I14+آذر!I14 -> 0 | J14: =مهر!J14+آبان!J14+آذر!J14 -> 0 | K14: =مهر!K14+آبان!K14+آذر!K14 -> 0 | ... M14: =مهر!M14+آبان!M14+آذر!M14 -> 0 | N14: =F14+G14+H14+I14+J14+K14+L14+M14 -> 0 | O14: =مهر!O14+آبان!O14+آذر!O14 -> 0 | P14: =مهر!P14+آبان!P14+آذر!P14 -> 0 | Q14: =O14+P14 -> 0 | R14: =مهر!R14+آبان!R14+آذر!R14 -> 0 | S14: =مهر!S14+آبان!S14+آذر!S14 -> 0 | T14: =مهر!T14+آبان!T14+آذر!T14 -> 0 | U14: =R14+S14+T14 -> 0 | V14: =مهر!V14+آبان!V14+آذر!V14 -> 0 | W14: =مهر!W14+آبان!W14+آذر!W14 -> 0 | X14: =V14+W14 -> 0 | Y14: =مهر!Y14+آبان!Y14+آذر!Y14 -> 0 | Z14: =مهر!Z14+آبان!Z14+آذر!Z14 -> 0 | AA14: =مهر!AA14+آبان!AA14+آذر!AA14 -> 0 | AB14: =مهر!AB14+آبان!AB14+آذر!AB14 -> 0 | AC14: =مهر!AC14+آبان!AC14+آذر!AC14 -> 0
A15: 6 | B15: جمع کل | C15: ایرانی | D15: =D5+D7+D9+D11+D13 -> 0 | E15: =E5+E7+E9+E11+E13 -> 0 | F15: =F5+F7+F9+F11+F13 -> 0 | G15: =G5+G7+G9+G11+G13 -> 0 | H15: =H5+H7+H9+H11+H13 -> 0 | I15: =I5+I7+I9+I11+I13 -> 0 | J15: =J5+J7+J9+J11+J13 -> 0 | K15: =K5+K7+K9+K11+K13 -> 0 | ... AC15: =AC5+AC7+AC9+AC11+AC13 -> 0
C16: افاغنه | D16: =D6+D8+D10+D12+D14 -> 0 | E16: =E6+E8+E10+E12+E14 -> 0 | F16: =F6+F8+F10+F12+F14 -> 0 | G16: =G6+G8+G10+G12+G14 -> 0 | H16: =H6+H8+H10+H12+H14 -> 0 | I16: =I6+I8+I10+I12+I14 -> 0 | J16: =J6+J8+J10+J12+J14 -> 0 | K16: =K6+K8+K10+K12+K14 -> 0 | ... AC16: =AC6+AC8+AC10+AC12+AC14 -> 0

Sheet دی
B1: فعاليت هاي اجرايي مراكزبهداشتي ودرماني ............. در زمينه غربالگري و شناسايي موارد آلوده به شپش سال
A2: ردیف | B2: فـــــــــــعـــــــالـــــیـــــت مـــــــرکــــــز
D3: تعداد افراد | E3: تعداد افراد | F3: زن | J3: مرد | N3: جمع کل | O3: محل سكونت | R3: نوع شپش | U3: سابقه آلودگي | Y3: نوع درمان
D4: معاينه شده | E4: آلوده | F4: زير 6 سال | G4: 6تا 12 سال | H4: 13تا18سال | I4: بالايي 18 سال | J4: زير 6 سال | K4: 6تا 12 سال | L4: 13تا18سال | M4: بالايي 18 سال | O4: روستا | P4: شهر | Q4: جمع کل | R4: سر | S4: تن | T4: عانه | U4: جمع کل | V4: دارد | W4: ندارد | X4: جمع کل | Y4: شامپو پرمترین | Z4: لوسیون دایمتیکون | AA4: کرم پرمترین | AB4: لوسیون لیندان | AC4: اسپری درمین
A5: 1 | B5: خانه بهداشت | C5: ایرانی | N5: =F5+G5+H5+I5+J5+K5+L5+M5 -> 0 | Q5: =O5+P5 -> 0 | U5: =R5+S5+T5 -> 0 | X5: =V5+W5 -> 0
C6: افاغنه | N6: =F6+G6+H6+I6+J6+K6+L6+M6 -> 0 | Q6: =O6+P6 -> 0 | U6: =R6+S6+T6 -> 0 | X6: =V6+W6 -> 0
A7: 2 | B7: خانه بهداشت | C7: ایرانی | N7: =F7+G7+H7+I7+J7+K7+L7+M7 -> 0 | Q7: =O7+P7 -> 0 | U7: =R7+S7+T7 -> 0 | X7: =V7+W7 -> 0
C8: افاغنه | N8: =F8+G8+H8+I8+J8+K8+L8+M8 -> 0 | Q8: =O8+P8 -> 0 | U8: =R8+S8+T8 -> 0 | X8: =V8+W8 -> 0
A9: 3 | B9: خانه بهداشت | C9: ایرانی | N9: =F9+G9+H9+I9+J9+K9+L9+M9 -> 0 | Q9: =O9+P9 -> 0 | U9: =R9+S9+T9 -> 0 | X9: =V9+W9 -> 0
C10: افاغنه | N10: =F10+G10+H10+I10+J10+K10+L10+M10 -> 0 | Q10: =O10+P10 -> 0 | U10: =R10+S10+T10 -> 0 | X10: =V10+W10 -> 0
A11: 4 | B11: خانه بهداشت | C11: ایرانی | N11: =F11+G11+H11+I11+J11+K11+L11+M11 -> 0 | Q11: =O11+P11 -> 0 | U11: =R11+S11+T11 -> 0 | X11: =V11+W11 -> 0
C12: افاغنه | N12: =F12+G12+H12+I12+J12+K12+L12+M12 -> 0 | Q12: =O12+P12 -> 0 | U12: =R12+S12+T12 -> 0 | X12: =V12+W12 -> 0
A13: 5 | B13: خانه بهداشت | C13: ایرانی | N13: =F13+G13+H13+I13+J13+K13+L13+M13 -> 0 | Q13: =O13+P13 -> 0 | U13: =R13+S13+T13 -> 0 | X13: =V13+W13 -> 0
C14: افاغنه | N14: =F14+G14+H14+I14+J14+K14+L14+M14 -> 0 | Q14: =O14+P14 -> 0 | U14: =R14+S14+T14 -> 0 | X14: =V14+W14 -> 0
A15: 6 | B15: جمع کل | C15: ایرانی | D15: =D5+D7+D9+D11+D13 -> 0 | E15: =E5+E7+E9+E11+E13 -> 0 | F15: =F5+F7+F9+F11+F13 -> 0 | G15: =G5+G7+G9+G11+G13 -> 0 | H15: =H5+H7+H9+H11+H13 -> 0 | I15: =I5+I7+I9+I11+I13 -> 0 | J15: =J5+J7+J9+J11+J13 -> 0 | K15: =K5+K7+K9+K11+K13 -> 0 | ... AC15: =AC5+AC7+AC9+AC11+AC13 -> 0
C16: افاغنه | D16: =D6+D8+D10+D12+D14 -> 0 | E16: =E6+E8+E10+E12+E14 -> 0 | F16: =F6+F8+F10+F12+F14 -> 0 | G16: =G6+G8+G10+G12+G14 -> 0 | H16: =H6+H8+H10+H12+H14 -> 0 | I16: =I6+I8+I10+I12+I14 -> 0 | J16: =J6+J8+J10+J12+J14 -> 0 | K16: =K6+K8+K10+K12+K14 -> 0 | ... AC16: =AC6+AC8+AC10+AC12+AC14 -> 0

Sheet بهمن
B1: فعاليت هاي اجرايي مراكزبهداشتي ودرماني ............. در زمينه غربالگري و شناسايي موارد آلوده به شپش سال
A2: ردیف | B2: فـــــــــــعـــــــالـــــیـــــت مـــــــرکــــــز
D3: تعداد افراد | E3: تعداد افراد | F3: زن | J3: مرد | N3: جمع کل | O3: محل سكونت | R3: نوع شپش | U3: سابقه آلودگي | Y3: نوع درمان
D4: معاينه شده | E4: آلوده | F4: زير 6 سال | G4: 6تا 12 سال | H4: 13تا18سال | I4: بالايي 18 سال | J4: زير 6 سال | K4: 6تا 12 سال | L4: 13تا18سال | M4: بالايي 18 سال | O4: روستا | P4: شهر | Q4: جمع کل | R4: سر | S4: تن | T4: عانه | U4: جمع کل | V4: دارد | W4: ندارد | X4: جمع کل | Y4: شامپو پرمترین | Z4: لوسیون دایمتیکون | AA4: کرم پرمترین | AB4: لوسیون لیندان | AC4: اسپری درمین
A5: 1 | B5: خانه بهداشت | C5: ایرانی | N5: =F5+G5+H5+I5+J5+K5+L5+M5 -> 0 | Q5: =O5+P5 -> 0 | U5: =R5+S5+T5 -> 0 | X5: =V5+W5 -> 0
C6: افاغنه | N6: =F6+G6+H6+I6+J6+K6+L6+M6 -> 0 | Q6: =O6+P6 -> 0 | U6: =R6+S6+T6 -> 0 | X6: =V6+W6 -> 0
A7: 2 | B7: خانه بهداشت | C7: ایرانی | N7: =F7+G7+H7+I7+J7+K7+L7+M7 -> 0 | Q7: =O7+P7 -> 0 | U7: =R7+S7+T7 -> 0 | X7: =V7+W7 -> 0
C8: افاغنه | N8: =F8+G8+H8+I8+J8+K8+L8+M8 -> 0 | Q8: =O8+P8 -> 0 | U8: =R8+S8+T8 -> 0 | X8: =V8+W8 -> 0
A9: 3 | B9: خانه بهداشت | C9: ایرانی | N9: =F9+G9+H9+I9+J9+K9+L9+M9 -> 0 | Q9: =O9+P9 -> 0 | U9: =R9+S9+T9 -> 0 | X9: =V9+W9 -> 0
C10: افاغنه | N10: =F10+G10+H10+I10+J10+K10+L10+M10 -> 0 | Q10: =O10+P10 -> 0 | U10: =R10+S10+T10 -> 0 | X10: =V10+W10 -> 0
A11: 4 | B11: خانه بهداشت | C11: ایرانی | N11: =F11+G11+H11+I11+J11+K11+L11+M11 -> 0 | Q11: =O11+P11 -> 0 | U11: =R11+S11+T11 -> 0 | X11: =V11+W11 -> 0
C12: افاغنه | N12: =F12+G12+H12+I12+J12+K12+L12+M12 -> 0 | Q12: =O12+P12 -> 0 | U12: =R12+S12+T12 -> 0 | X12: =V12+W12 -> 0
A13: 5 | B13: خانه بهداشت | C13: ایرانی | N13: =F13+G13+H13+I13+J13+K13+L13+M13 -> 0 | Q13: =O13+P13 -> 0 | U13: =R13+S13+T13 -> 0 | X13: =V13+W13 -> 0
C14: افاغنه | N14: =F14+G14+H14+I14+J14+K14+L14+M14 -> 0 | Q14: =O14+P14 -> 0 | U14: =R14+S14+T14 -> 0 | X14: =V14+W14 -> 0
A15: 6 | B15: جمع کل | C15: ایرانی | D15: =D5+D7+D9+D11+D13 -> 0 | E15: =E5+E7+E9+E11+E13 -> 0 | F15: =F5+F7+F9+F11+F13 -> 0 | G15: =G5+G7+G9+G11+G13 -> 0 | H15: =H5+H7+H9+H11+H13 -> 0 | I15: =I5+I7+I9+I11+I13 -> 0 | J15: =J5+J7+J9+J11+J13 -> 0 | K15: =K5+K7+K9+K11+K13 -> 0 | ... AC15: =AC5+AC7+AC9+AC11+AC13 -> 0
C16: افاغنه | D16: =D6+D8+D10+D12+D14 -> 0 | E16: =E6+E8+E10+E12+E14 -> 0 | F16: =F6+F8+F10+F12+F14 -> 0 | G16: =G6+G8+G10+G12+G14 -> 0 | H16: =H6+H8+H10+H12+H14 -> 0 | I16: =I6+I8+I10+I12+I14 -> 0 | J16: =J6+J8+J10+J12+J14 -> 0 | K16: =K6+K8+K10+K12+K14 -> 0 | ... AC16: =AC6+AC8+AC10+AC12+AC14 -> 0

Sheet اسفند
B1: فعاليت هاي اجرايي مراكزبهداشتي ودرماني ............. در زمينه غربالگري و شناسايي موارد آلوده به شپش سال
A2: ردیف | B2: فـــــــــــعـــــــالـــــیـــــت مـــــــرکــــــز
D3: تعداد افراد | E3: تعداد افراد | F3: زن | J3: مرد | N3: جمع کل | O3: محل سكونت | R3: نوع شپش | U3: سابقه آلودگي | Y3: نوع درمان
D4: معاينه شده | E4: آلوده | F4: زير 6 سال | G4: 6تا 12 سال | H4: 13تا18سال | I4: بالايي 18 سال | J4: زير 6 سال | K4: 6تا 12 سال | L4: 13تا18سال | M4: بالايي 18 سال | O4: روستا | P4: شهر | Q4: جمع کل | R4: سر | S4: تن | T4: عانه | U4: جمع کل | V4: دارد | W4: ندارد | X4: جمع کل | Y4: شامپو پرمترین | Z4: لوسیون دایمتیکون | AA4: کرم پرمترین | AB4: لوسیون لیندان | AC4: اسپری درمین
A5: 1 | B5: خانه بهداشت | C5: ایرانی | N5: =F5+G5+H5+I5+J5+K5+L5+M5 -> 0 | Q5: =O5+P5 -> 0 | U5: =R5+S5+T5 -> 0 | X5: =V5+W5 -> 0
C6: افاغنه | N6: =F6+G6+H6+I6+J6+K6+L6+M6 -> 0 | Q6: =O6+P6 -> 0 | U6: =R6+S6+T6 -> 0 | X6: =V6+W6 -> 0
A7: 2 | B7: خانه بهداشت | C7: ایرانی | N7: =F7+G7+H7+I7+J7+K7+L7+M7 -> 0 | Q7: =O7+P7 -> 0 | U7: =R7+S7+T7 -> 0 | X7: =V7+W7 -> 0
C8: افاغنه | N8: =F8+G8+H8+I8+J8+K8+L8+M8 -> 0 | Q8: =O8+P8 -> 0 | U8: =R8+S8+T8 -> 0 | X8: =V8+W8 -> 0
A9: 3 | B9: خانه بهداشت | C9: ایرانی | N9: =F9+G9+H9+I9+J9+K9+L9+M9 -> 0 | Q9: =O9+P9 -> 0 | U9: =R9+S9+T9 -> 0 | X9: =V9+W9 -> 0
C10: افاغنه | N10: =F10+G10+H10+I10+J10+K10+L10+M10 -> 0 | Q10: =O10+P10 -> 0 | U10: =R10+S10+T10 -> 0 | X10: =V10+W10 -> 0
A11: 4 | B11: خانه بهداشت | C11: ایرانی | N11: =F11+G11+H11+I11+J11+K11+L11+M11 -> 0 | Q11: =O11+P11 -> 0 | U11: =R11+S11+T11 -> 0 | X11: =V11+W11 -> 0
C12: افاغنه | N12: =F12+G12+H12+I12+J12+K12+L12+M12 -> 0 | Q12: =O12+P12 -> 0 | U12: =R12+S12+T12 -> 0 | X12: =V12+W12 -> 0
A13: 5 | B13: خانه بهداشت | C13: ایرانی | N13: =F13+G13+H13+I13+J13+K13+L13+M13 -> 0 | Q13: =O13+P13 -> 0 | U13: =R13+S13+T13 -> 0 | X13: =V13+W13 -> 0
C14: افاغنه | N14: =F14+G14+H14+I14+J14+K14+L14+M14 -> 0 | Q14: =O14+P14 -> 0 | U14: =R14+S14+T14 -> 0 | X14: =V14+W14 -> 0
A15: 6 | B15: جمع کل | C15: ایرانی | D15: =D5+D7+D9+D11+D13 -> 0 | E15: =E5+E7+E9+E11+E13 -> 0 | F15: =F5+F7+F9+F11+F13 -> 0 | G15: =G5+G7+G9+G11+G13 -> 0 | H15: =H5+H7+H9+H11+H13 -> 0 | I15: =I5+I7+I9+I11+I13 -> 0 | J15: =J5+J7+J9+J11+J13 -> 0 | K15: =K5+K7+K9+K11+K13 -> 0 | ... AC15: =AC5+AC7+AC9+AC11+AC13 -> 0
C16: افاغنه | D16: =D6+D8+D10+D12+D14 -> 0 | F16: =F6+F8+F10+F12+F14 -> 0 | G16: =G6+G8+G10+G12+G14 -> 0 | H16: =H6+H8+H10+H12+H14 -> 0 | I16: =I6+I8+I10+I12+I14 -> 0 | J16: =J6+J8+J10+J12+J14 -> 0 | K16: =K6+K8+K10+K12+K14 -> 0 | L16: =L6+L8+L10+L12+L14 -> 0 | M16: =M6+M8+M10+M12+M14 -> 0 | ... AC16: =AC6+AC8+AC10+AC12+AC14 -> 0

Sheet سه ماه چهارم
B1: فعاليت هاي اجرايي مراكزبهداشتي ودرماني ............. در زمينه غربالگري و شناسايي موارد آلوده به شپش سال
A2: ردیف | B2: فـــــــــــعـــــــالـــــیـــــت مـــــــرکــــــز
D3: تعداد افراد | E3: تعداد افراد | F3: زن | J3: مرد | N3: جمع کل | O3: محل سكونت | R3: نوع شپش | U3: سابقه آلودگي | Y3: نوع درمان
D4: معاينه شده | E4: آلوده | F4: زير 6 سال | G4: 6تا 12 سال | H4: 13تا18سال | I4: بالايي 18 سال | J4: زير 6 سال | K4: 6تا 12 سال | L4: 13تا18سال | M4: بالايي 18 سال | O4: روستا | P4: شهر | Q4: جمع کل | R4: سر | S4: تن | T4: عانه | U4: جمع کل | V4: دارد | W4: ندارد | X4: جمع کل | Y4: شامپو پرمترین | Z4: لوسیون دایمتیکون | AA4: کرم پرمترین | AB4: لوسیون لیندان | AC4: اسپری درمین
A5: 1 | B5: خانه بهداشت | C5: ایرانی | D5: =دی!D5+بهمن!D5+اسفند!D5 -> 0 | E5: =دی!E5+بهمن!E5+اسفند!E5 -> 0 | F5: =دی!F5+بهمن!F5+اسفند!F5 -> 0 | G5: =دی!G5+بهمن!G5+اسفند!G5 -> 0 | H5: =دی!H5+بهمن!H5+اسفند!H5 -> 0 | I5: =دی!I5+بهمن!I5+اسفند!I5 -> 0 | J5: =دی!J5+بهمن!J5+اسفند!J5 -> 0 | K5: =دی!K5+بهمن!K5+اسفند!K5 -> 0 | ... M5: =دی!M5+بهمن!M5+اسفند!M5 -> 0 | N5: =F5+G5+H5+I5+J5+K5+L5+M5 -> 0 | O5: =دی!O5+بهمن!O5+اسفند!O5 -> 0 | P5: =دی!P5+بهمن!P5+اسفند!P5 -> 0 | Q5: =O5+P5 -> 0 | R5: =دی!R5+بهمن!R5+اسفند!R5 -> 0 | S5: =دی!S5+بهمن!S5+اسفند!S5 -> 0 | T5: =دی!T5+بهمن!T5+اسفند!T5 -> 0 | U5: =R5+S5+T5 -> 0 | V5: =دی!V5+بهمن!V5+اسفند!V5 -> 0 | W5: =دی!W5+بهمن!W5+اسفند!W5 -> 0 | X5: =V5+W5 -> 0 | Y5: =دی!Y5+بهمن!Y5+اسفند!Y5 -> 0 | Z5: =دی!Z5+بهمن!Z5+اسفند!Z5 -> 0 | AA5: =دی!AA5+بهمن!AA5+اسفند!AA5 -> 0 | AB5: =دی!AB5+بهمن!AB5+اسفند!AB5 -> 0 | AC5: =دی!AC5+بهمن!AC5+اسفند!AC5 -> 0
C6: افاغنه | D6: =دی!D6+بهمن!D6+اسفند!D6 -> 0 | E6: =دی!E6+بهمن!E6+اسفند!E6 -> 0 | F6: =دی!F6+بهمن!F6+اسفند!F6 -> 0 | G6: =دی!G6+بهمن!G6+اسفند!G6 -> 0 | H6: =دی!H6+بهمن!H6+اسفند!H6 -> 0 | I6: =دی!I6+بهمن!I6+اسفند!I6 -> 0 | J6: =دی!J6+بهمن!J6+اسفند!J6 -> 0 | K6: =دی!K6+بهمن!K6+اسفند!K6 -> 0 | ... M6: =دی!M6+بهمن!M6+اسفند!M6 -> 0 | N6: =F6+G6+H6+I6+J6+K6+L6+M6 -> 0 | O6: =دی!O6+بهمن!O6+اسفند!O6 -> 0 | P6: =دی!P6+بهمن!P6+اسفند!P6 -> 0 | Q6: =O6+P6 -> 0 | R6: =دی!R6+بهمن!R6+اسفند!R6 -> 0 | S6: =دی!S6+بهمن!S6+اسفند!S6 -> 0 | T6: =دی!T6+بهمن!T6+اسفند!T6 -> 0 | U6: =R6+S6+T6 -> 0 | V6: =دی!V6+بهمن!V6+اسفند!V6 -> 0 | W6: =دی!W6+بهمن!W6+اسفند!W6 -> 0 | X6: =V6+W6 -> 0 | Y6: =دی!Y6+بهمن!Y6+اسفند!Y6 -> 0 | Z6: =دی!Z6+بهمن!Z6+اسفند!Z6 -> 0 | AA6: =دی!AA6+بهمن!AA6+اسفند!AA6 -> 0 | AB6: =دی!AB6+بهمن!AB6+اسفند!AB6 -> 0 | AC6: =دی!AC6+بهمن!AC6+اسفند!AC6 -> 0
A7: 2 | B7: خانه بهداشت | C7: ایرانی | D7: =دی!D7+بهمن!D7+اسفند!D7 -> 0 | E7: =دی!E7+بهمن!E7+اسفند!E7 -> 0 | F7: =دی!F7+بهمن!F7+اسفند!F7 -> 0 | G7: =دی!G7+بهمن!G7+اسفند!G7 -> 0 | H7: =دی!H7+بهمن!H7+اسفند!H7 -> 0 | I7: =دی!I7+بهمن!I7+اسفند!I7 -> 0 | J7: =دی!J7+بهمن!J7+اسفند!J7 -> 0 | K7: =دی!K7+بهمن!K7+اسفند!K7 -> 0 | ... M7: =دی!M7+بهمن!M7+اسفند!M7 -> 0 | N7: =F7+G7+H7+I7+J7+K7+L7+M7 -> 0 | O7: =دی!O7+بهمن!O7+اسفند!O7 -> 0 | P7: =دی!P7+بهمن!P7+اسفند!P7 -> 0 | Q7: =O7+P7 -> 0 | R7: =دی!R7+بهمن!R7+اسفند!R7 -> 0 | S7: =دی!S7+بهمن!S7+اسفند!S7 -> 0 | T7: =دی!T7+بهمن!T7+اسفند!T7 -> 0 | U7: =R7+S7+T7 -> 0 | V7: =دی!V7+بهمن!V7+اسفند!V7 -> 0 | W7: =دی!W7+بهمن!W7+اسفند!W7 -> 0 | X7: =V7+W7 -> 0 | Y7: =دی!Y7+بهمن!Y7+اسفند!Y7 -> 0 | Z7: =دی!Z7+بهمن!Z7+اسفند!Z7 -> 0 | AA7: =دی!AA7+بهمن!AA7+اسفند!AA7 -> 0 | AB7: =دی!AB7+بهمن!AB7+اسفند!AB7 -> 0 | AC7: =دی!AC7+بهمن!AC7+اسفند!AC7 -> 0
C8: افاغنه | D8: =دی!D8+بهمن!D8+اسفند!D8 -> 0 | E8: =دی!E8+بهمن!E8+اسفند!E8 -> 0 | F8: =دی!F8+بهمن!F8+اسفند!F8 -> 0 | G8: =دی!G8+بهمن!G8+اسفند!G8 -> 0 | H8: =دی!H8+بهمن!H8+اسفند!H8 -> 0 | I8: =دی!I8+بهمن!I8+اسفند!I8 -> 0 | J8: =دی!J8+بهمن!J8+اسفند!J8 -> 0 | K8: =دی!K8+بهمن!K8+اسفند!K8 -> 0 | ... M8: =دی!M8+بهمن!M8+اسفند!M8 -> 0 | N8: =F8+G8+H8+I8+J8+K8+L8+M8 -> 0 | O8: =دی!O8+بهمن!O8+اسفند!O8 -> 0 | P8: =دی!P8+بهمن!P8+اسفند!P8 -> 0 | Q8: =O8+P8 -> 0 | R8: =دی!R8+بهمن!R8+اسفند!R8 -> 0 | S8: =دی!S8+بهمن!S8+اسفند!S8 -> 0 | T8: =دی!T8+بهمن!T8+اسفند!T8 -> 0 | U8: =R8+S8+T8 -> 0 | V8: =دی!V8+بهمن!V8+اسفند!V8 -> 0 | W8: =دی!W8+بهمن!W8+اسفند!W8 -> 0 | X8: =V8+W8 -> 0 | Y8: =دی!Y8+بهمن!Y8+اسفند!Y8 -> 0 | Z8: =دی!Z8+بهمن!Z8+اسفند!Z8 -> 0 | AA8: =دی!AA8+بهمن!AA8+اسفند!AA8 -> 0 | AB8: =دی!AB8+بهمن!AB8+اسفند!AB8 -> 0 | AC8: =دی!AC8+بهمن!AC8+اسفند!AC8 -> 0
A9: 3 | B9: خانه بهداشت | C9: ایرانی | D9: =دی!D9+بهمن!D9+اسفند!D9 -> 0 | E9: =دی!E9+بهمن!E9+اسفند!E9 -> 0 | F9: =دی!F9+بهمن!F9+اسفند!F9 -> 0 | G9: =دی!G9+بهمن!G9+اسفند!G9 -> 0 | H9: =دی!H9+بهمن!H9+اسفند!H9 -> 0 | I9: =دی!I9+بهمن!I9+اسفند!I9 -> 0 | J9: =دی!J9+بهمن!J9+اسفند!J9 -> 0 | K9: =دی!K9+بهمن!K9+اسفند!K9 -> 0 | ... M9: =دی!M9+بهمن!M9+اسفند!M9 -> 0 | N9: =F9+G9+H9+I9+J9+K9+L9+M9 -> 0 | O9: =دی!O9+بهمن!O9+اسفند!O9 -> 0 | P9: =دی!P9+بهمن!P9+اسفند!P9 -> 0 | Q9: =O9+P9 -> 0 | R9: =دی!R9+بهمن!R9+اسفند!R9 -> 0 | S9: =دی!S9+بهمن!S9+اسفند!S9 -> 0 | T9: =دی!T9+بهمن!T9+اسفند!T9 -> 0 | U9: =R9+S9+T9 -> 0 | V9: =دی!V9+بهمن!V9+اسفند!V9 -> 0 | W9: =دی!W9+بهمن!W9+اسفند!W9 -> 0 | X9: =V9+W9 -> 0 | Y9: =دی!Y9+بهمن!Y9+اسفند!Y9 -> 0 | Z9: =دی!Z9+بهمن!Z9+اسفند!Z9 -> 0 | AA9: =دی!AA9+بهمن!AA9+اسفند!AA9 -> 0 | AB9: =دی!AB9+بهمن!AB9+اسفند!AB9 -> 0 | AC9: =دی!AC9+بهمن!AC9+اسفند!AC9 -> 0
C10: افاغنه | D10: =دی!D10+بهمن!D10+اسفند!D10 -> 0 | E10: =دی!E10+بهمن!E10+اسفند!E10 -> 0 | F10: =دی!F10+بهمن!F10+اسفند!F10 -> 0 | G10: =دی!G10+بهمن!G10+اسفند!G10 -> 0 | H10: =دی!H10+بهمن!H10+اسفند!H10 -> 0 | I10: =دی!I10+بهمن!I10+اسفند!I10 -> 0 | J10: =دی!J10+بهمن!J10+اسفند!J10 -> 0 | K10: =دی!K10+بهمن!K10+اسفند!K10 -> 0 | ... M10: =دی!M10+بهمن!M10+اسفند!M10 -> 0 | N10: =F10+G10+H10+I10+J10+K10+L10+M10 -> 0 | O10: =دی!O10+بهمن!O10+اسفند!O10 -> 0 | P10: =دی!P10+بهمن!P10+اسفند!P10 -> 0 | Q10: =O10+P10 -> 0 | R10: =دی!R10+بهمن!R10+اسفند!R10 -> 0 | S10: =دی!S10+بهمن!S10+اسفند!S10 -> 0 | T10: =دی!T10+بهمن!T10+اسفند!T10 -> 0 | U10: =R10+S10+T10 -> 0 | V10: =دی!V10+بهمن!V10+اسفند!V10 -> 0 | W10: =دی!W10+بهمن!W10+اسفند!W10 -> 0 | X10: =V10+W10 -> 0 | Y10: =دی!Y10+بهمن!Y10+اسفند!Y10 -> 0 | Z10: =دی!Z10+بهمن!Z10+اسفند!Z10 -> 0 | AA10: =دی!AA10+بهمن!AA10+اسفند!AA10 -> 0 | AB10: =دی!AB10+بهمن!AB10+اسفند!AB10 -> 0 | AC10: =دی!AC10+بهمن!AC10+اسفند!AC10 -> 0
A11: 4 | B11: خانه بهداشت | C11: ایرانی | D11: =دی!D11+بهمن!D11+اسفند!D11 -> 0 | E11: =دی!E11+بهمن!E11+اسفند!E11 -> 0 | F11: =دی!F11+بهمن!F11+اسفند!F11 -> 0 | G11: =دی!G11+بهمن!G11+اسفند!G11 -> 0 | H11: =دی!H11+بهمن!H11+اسفند!H11 -> 0 | I11: =دی!I11+بهمن!I11+اسفند!I11 -> 0 | J11: =دی!J11+بهمن!J11+اسفند!J11 -> 0 | K11: =دی!K11+بهمن!K11+اسفند!K11 -> 0 | ... M11: =دی!M11+بهمن!M11+اسفند!M11 -> 0 | N11: =F11+G11+H11+I11+J11+K11+L11+M11 -> 0 | O11: =دی!O11+بهمن!O11+اسفند!O11 -> 0 | P11: =دی!P11+بهمن!P11+اسفند!P11 -> 0 | Q11: =O11+P11 -> 0 | R11: =دی!R11+بهمن!R11+اسفند!R11 -> 0 | S11: =دی!S11+بهمن!S11+اسفند!S11 -> 0 | T11: =دی!T11+بهمن!T11+اسفند!T11 -> 0 | U11: =R11+S11+T11 -> 0 | V11: =دی!V11+بهمن!V11+اسفند!V11 -> 0 | W11: =دی!W11+بهمن!W11+اسفند!W11 -> 0 | X11: =V11+W11 -> 0 | Y11: =دی!Y11+بهمن!Y11+اسفند!Y11 -> 0 | Z11: =دی!Z11+بهمن!Z11+اسفند!Z11 -> 0 | AA11: =دی!AA11+بهمن!AA11+اسفند!AA11 -> 0 | AB11: =دی!AB11+بهمن!AB11+اسفند!AB11 -> 0 | AC11: =دی!AC11+بهمن!AC11+اسفند!AC11 -> 0
C12: افاغنه | D12: =دی!D12+بهمن!D12+اسفند!D12 -> 0 | E12: =دی!E12+بهمن!E12+اسفند!E12 -> 0 | F12: =دی!F12+بهمن!F12+اسفند!F12 -> 0 | G12: =دی!G12+بهمن!G12+اسفند!G12 -> 0 | H12: =دی!H12+بهمن!H12+اسفند!H12 -> 0 | I12: =دی!I12+بهمن!I12+اسفند!I12 -> 0 | J12: =دی!J12+بهمن!J12+اسفند!J12 -> 0 | K12: =دی!K12+بهمن!K12+اسفند!K12 -> 0 | ... M12: =دی!M12+بهمن!M12+اسفند!M12 -> 0 | N12: =F12+G12+H12+I12+J12+K12+L12+M12 -> 0 | O12: =دی!O12+بهمن!O12+اسفند!O12 -> 0 | P12: =دی!P12+بهمن!P12+اسفند!P12 -> 0 | Q12: =O12+P12 -> 0 | R12: =دی!R12+بهمن!R12+اسفند!R12 -> 0 | S12: =دی!S12+بهمن!S12+اسفند!S12 -> 0 | T12: =دی!T12+بهمن!T12+اسفند!T12 -> 0 | U12: =R12+S12+T12 -> 0 | V12: =دی!V12+بهمن!V12+اسفند!V12 -> 0 | W12: =دی!W12+بهمن!W12+اسفند!W12 -> 0 | X12: =V12+W12 -> 0 | Y12: =دی!Y12+بهمن!Y12+اسفند!Y12 -> 0 | Z12: =دی!Z12+بهمن!Z12+اسفند!Z12 -> 0 | AA12: =دی!AA12+بهمن!AA12+اسفند!AA12 -> 0 | AB12: =دی!AB12+بهمن!AB12+اسفند!AB12 -> 0 | AC12: =دی!AC12+بهمن!AC12+اسفند!AC12 -> 0
A13: 5 | B13: خانه بهداشت | C13: ایرانی | D13: =دی!D13+بهمن!D13+اسفند!D13 -> 0 | E13: =دی!E13+بهمن!E13+اسفند!E13 -> 0 | F13: =دی!F13+بهمن!F13+اسفند!F13 -> 0 | G13: =دی!G13+بهمن!G13+اسفند!G13 -> 0 | H13: =دی!H13+بهمن!H13+اسفند!H13 -> 0 | I13: =دی!I13+بهمن!I13+اسفند!I13 -> 0 | J13: =دی!J13+بهمن!J13+اسفند!J13 -> 0 | K13: =دی!K13+بهمن!K13+اسفند!K13 -> 0 | ... M13: =دی!M13+بهمن!M13+اسفند!M13 -> 0 | N13: =F13+G13+H13+I13+J13+K13+L13+M13 -> 0 | O13: =دی!O13+بهمن!O13+اسفند!O13 -> 0 | P13: =دی!P13+بهمن!P13+اسفند!P13 -> 0 | Q13: =O13+P13 -> 0 | R13: =دی!R13+بهمن!R13+اسفند!R13 -> 0 | S13: =دی!S13+بهمن!S13+اسفند!S13 -> 0 | T13: =دی!T13+بهمن!T13+اسفند!T13 -> 0 | U13: =R13+S13+T13 -> 0 | V13: =دی!V13+بهمن!V13+اسفند!V13 -> 0 | W13: =دی!W13+بهمن!W13+اسفند!W13 -> 0 | X13: =V13+W13 -> 0 | Y13: =دی!Y13+بهمن!Y13+اسفند!Y13 -> 0 | Z13: =دی!Z13+بهمن!Z13+اسفند!Z13 -> 0 | AA13: =دی!AA13+بهمن!AA13+اسفند!AA13 -> 0 | AB13: =دی!AB13+بهمن!AB13+اسفند!AB13 -> 0 | AC13: =دی!AC13+بهمن!AC13+اسفند!AC13 -> 0
C14: افاغنه | D14: =دی!D14+بهمن!D14+اسفند!D14 -> 0 | E14: =دی!E14+بهمن!E14+اسفند!E14 -> 0 | F14: =دی!F14+بهمن!F14+اسفند!F14 -> 0 | G14: =دی!G14+بهمن!G14+اسفند!G14 -> 0 | H14: =دی!H14+بهمن!H14+اسفند!H14 -> 0 | I14: =دی!I14+بهمن!I14+اسفند!I14 -> 0 | J14: =دی!J14+بهمن!J14+اسفند!J14 -> 0 | K14: =دی!K14+بهمن!K14+اسفند!K14 -> 0 | ... M14: =دی!M14+بهمن!M14+اسفند!M14 -> 0 | N14: =F14+G14+H14+I14+J14+K14+L14+M14 -> 0 | O14: =دی!O14+بهمن!O14+اسفند!O14 -> 0 | P14: =دی!P14+بهمن!P14+اسفند!P14 -> 0 | Q14: =O14+P14 -> 0 | R14: =دی!R14+بهمن!R14+اسفند!R14 -> 0 | S14: =دی!S14+بهمن!S14+اسفند!S14 -> 0 | T14: =دی!T14+بهمن!T14+اسفند!T14 -> 0 | U14: =R14+S14+T14 -> 0 | V14: =دی!V14+بهمن!V14+اسفند!V14 -> 0 | W14: =دی!W14+بهمن!W14+اسفند!W14 -> 0 | X14: =V14+W14 -> 0 | Y14: =دی!Y14+بهمن!Y14+اسفند!Y14 -> 0 | Z14: =دی!Z14+بهمن!Z14+اسفند!Z14 -> 0 | AA14: =دی!AA14+بهمن!AA14+اسفند!AA14 -> 0 | AB14: =دی!AB14+بهمن!AB14+اسفند!AB14 -> 0 | AC14: =دی!AC14+بهمن!AC14+اسفند!AC14 -> 0
A15: 6 | B15: جمع کل | C15: ایرانی | D15: =D5+D7+D9+D11+D13 -> 0 | E15: =E5+E7+E9+E11+E13 -> 0 | F15: =F5+F7+F9+F11+F13 -> 0 | G15: =G5+G7+G9+G11+G13 -> 0 | H15: =H5+H7+H9+H11+H13 -> 0 | I15: =I5+I7+I9+I11+I13 -> 0 | J15: =J5+J7+J9+J11+J13 -> 0 | K15: =K5+K7+K9+K11+K13 -> 0 | ... AC15: =AC5+AC7+AC9+AC11+AC13 -> 0
C16: افاغنه | D16: =D6+D8+D10+D12+D14 -> 0 | F16: =F6+F8+F10+F12+F14 -> 0 | G16: =G6+G8+G10+G12+G14 -> 0 | H16: =H6+H8+H10+H12+H14 -> 0 | I16: =I6+I8+I10+I12+I14 -> 0 | J16: =J6+J8+J10+J12+J14 -> 0 | K16: =K6+K8+K10+K12+K14 -> 0 | L16: =L6+L8+L10+L12+L14 -> 0 | M16: =M6+M8+M10+M12+M14 -> 0 | ... AC16: =AC6+AC8+AC10+AC12+AC14 -> 0

Sheet شش ماهه دوم
B1: فعاليت هاي اجرايي مراكزبهداشتي ودرماني ............. در زمينه غربالگري و شناسايي موارد آلوده به شپش سال
A2: ردیف | B2: فـــــــــــعـــــــالـــــیـــــت مـــــــرکــــــز
D3: تعداد افراد | E3: تعداد افراد | F3: زن | J3: مرد | N3: جمع کل | O3: محل سكونت | R3: نوع شپش | U3: سابقه آلودگي | Y3: نوع درمان
D4: معاينه شده | E4: آلوده | F4: زير 6 سال | G4: 6تا 12 سال | H4: 13تا18سال | I4: بالايي 18 سال | J4: زير 6 سال | K4: 6تا 12 سال | L4: 13تا18سال | M4: بالايي 18 سال | O4: روستا | P4: شهر | Q4: جمع کل | R4: سر | S4: تن | T4: عانه | U4: جمع کل | V4: دارد | W4: ندارد | X4: جمع کل | Y4: شامپو پرمترین | Z4: لوسیون دایمتیکون | AA4: کرم پرمترین | AB4: لوسیون لیندان | AC4: اسپری درمین
A5: 1 | B5: خانه بهداشت | C5: ایرانی | D5: ='سه ماهه سوم'!D5+'سه ماه چهارم'!D5 -> 0 | E5: ='سه ماهه سوم'!E5+'سه ماه چهارم'!E5 -> 0 | F5: ='سه ماهه سوم'!F5+'سه ماه چهارم'!F5 -> 0 | G5: ='سه ماهه سوم'!G5+'سه ماه چهارم'!G5 -> 0 | H5: ='سه ماهه سوم'!H5+'سه ماه چهارم'!H5 -> 0 | I5: ='سه ماهه سوم'!I5+'سه ماه چهارم'!I5 -> 0 | J5: ='سه ماهه سوم'!J5+'سه ماه چهارم'!J5 -> 0 | K5: ='سه ماهه سوم'!K5+'سه ماه چهارم'!K5 -> 0 | ... M5: ='سه ماهه سوم'!M5+'سه ماه چهارم'!M5 -> 0 | N5: =F5+G5+H5+I5+J5+K5+L5+M5 -> 0 | O5: ='سه ماهه سوم'!O5+'سه ماه چهارم'!O5 -> 0 | P5: ='سه ماهه سوم'!P5+'سه ماه چهارم'!P5 -> 0 | Q5: =O5+P5 -> 0 | R5: ='سه ماهه سوم'!R5+'سه ماه چهارم'!R5 -> 0 | S5: ='سه ماهه سوم'!S5+'سه ماه چهارم'!S5 -> 0 | T5: ='سه ماهه سوم'!T5+'سه ماه چهارم'!T5 -> 0 | U5: =R5+S5+T5 -> 0 | V5: ='سه ماهه سوم'!V5+'سه ماه چهارم'!V5 -> 0 | W5: ='سه ماهه سوم'!W5+'سه ماه چهارم'!W5 -> 0 | X5: =V5+W5 -> 0 | Y5: ='سه ماهه سوم'!Y5+'سه ماه چهارم'!Y5 -> 0 | Z5: ='سه ماهه سوم'!Z5+'سه ماه چهارم'!Z5 -> 0 | AA5: ='سه ماهه سوم'!AA5+'سه ماه چهارم'!AA5 -> 0 | AB5: ='سه ماهه سوم'!AB5+'سه ماه چهارم'!AB5 -> 0 | AC5: ='سه ماهه سوم'!AC5+'سه ماه چهارم'!AC5 -> 0
C6: افاغنه | D6: ='سه ماهه سوم'!D6+'سه ماه چهارم'!D6 -> 0 | E6: ='سه ماهه سوم'!E6+'سه ماه چهارم'!E6 -> 0 | F6: ='سه ماهه سوم'!F6+'سه ماه چهارم'!F6 -> 0 | G6: ='سه ماهه سوم'!G6+'سه ماه چهارم'!G6 -> 0 | H6: ='سه ماهه سوم'!H6+'سه ماه چهارم'!H6 -> 0 | I6: ='سه ماهه سوم'!I6+'سه ماه چهارم'!I6 -> 0 | J6: ='سه ماهه سوم'!J6+'سه ماه چهارم'!J6 -> 0 | K6: ='سه ماهه سوم'!K6+'سه ماه چهارم'!K6 -> 0 | ... M6: ='سه ماهه سوم'!M6+'سه ماه چهارم'!M6 -> 0 | N6: =F6+G6+H6+I6+J6+K6+L6+M6 -> 0 | O6: ='سه ماهه سوم'!O6+'سه ماه چهارم'!O6 -> 0 | P6: ='سه ماهه سوم'!P6+'سه ماه چهارم'!P6 -> 0 | Q6: =O6+P6 -> 0 | R6: ='سه ماهه سوم'!R6+'سه ماه چهارم'!R6 -> 0 | S6: ='سه ماهه سوم'!S6+'سه ماه چهارم'!S6 -> 0 | T6: ='سه ماهه سوم'!T6+'سه ماه چهارم'!T6 -> 0 | U6: =R6+S6+T6 -> 0 | V6: ='سه ماهه سوم'!V6+'سه ماه چهارم'!V6 -> 0 | W6: ='سه ماهه سوم'!W6+'سه ماه چهارم'!W6 -> 0 | X6: =V6+W6 -> 0 | Y6: ='سه ماهه سوم'!Y6+'سه ماه چهارم'!Y6 -> 0 | Z6: ='سه ماهه سوم'!Z6+'سه ماه چهارم'!Z6 -> 0 | AA6: ='سه ماهه سوم'!AA6+'سه ماه چهارم'!AA6 -> 0 | AB6: ='سه ماهه سوم'!AB6+'سه ماه چهارم'!AB6 -> 0 | AC6: ='سه ماهه سوم'!AC6+'سه ماه چهارم'!AC6 -> 0
A7: 2 | B7: خانه بهداشت | C7: ایرانی | D7: ='سه ماهه سوم'!D7+'سه ماه چهارم'!D7 -> 0 | E7: ='سه ماهه سوم'!E7+'سه ماه چهارم'!E7 -> 0 | F7: ='سه ماهه سوم'!F7+'سه ماه چهارم'!F7 -> 0 | G7: ='سه ماهه سوم'!G7+'سه ماه چهارم'!G7 -> 0 | H7: ='سه ماهه سوم'!H7+'سه ماه چهارم'!H7 -> 0 | I7: ='سه ماهه سوم'!I7+'سه ماه چهارم'!I7 -> 0 | J7: ='سه ماهه سوم'!J7+'سه ماه چهارم'!J7 -> 0 | K7: ='سه ماهه سوم'!K7+'سه ماه چهارم'!K7 -> 0 | ... M7: ='سه ماهه سوم'!M7+'سه ماه چهارم'!M7 -> 0 | N7: =F7+G7+H7+I7+J7+K7+L7+M7 -> 0 | O7: ='سه ماهه سوم'!O7+'سه ماه چهارم'!O7 -> 0 | P7: ='سه ماهه سوم'!P7+'سه ماه چهارم'!P7 -> 0 | Q7: =O7+P7 -> 0 | R7: ='سه ماهه سوم'!R7+'سه ماه چهارم'!R7 -> 0 | S7: ='سه ماهه سوم'!S7+'سه ماه چهارم'!S7 -> 0 | T7: ='سه ماهه سوم'!T7+'سه ماه چهارم'!T7 -> 0 | U7: =R7+S7+T7 -> 0 | V7: ='سه ماهه سوم'!V7+'سه ماه چهارم'!V7 -> 0 | W7: ='سه ماهه سوم'!W7+'سه ماه چهارم'!W7 -> 0 | X7: =V7+W7 -> 0 | Y7: ='سه ماهه سوم'!Y7+'سه ماه چهارم'!Y7 -> 0 | Z7: ='سه ماهه سوم'!Z7+'سه ماه چهارم'!Z7 -> 0 | AA7: ='سه ماهه سوم'!AA7+'سه ماه چهارم'!AA7 -> 0 | AB7: ='سه ماهه سوم'!AB7+'سه ماه چهارم'!AB7 -> 0 | AC7: ='سه ماهه سوم'!AC7+'سه ماه چهارم'!AC7 -> 0
C8: افاغنه | D8: ='سه ماهه سوم'!D8+'سه ماه چهارم'!D8 -> 0 | E8: ='سه ماهه سوم'!E8+'سه ماه چهارم'!E8 -> 0 | F8: ='سه ماهه سوم'!F8+'سه ماه چهارم'!F8 -> 0 | G8: ='سه ماهه سوم'!G8+'سه ماه چهارم'!G8 -> 0 | H8: ='سه ماهه سوم'!H8+'سه ماه چهارم'!H8 -> 0 | I8: ='سه ماهه سوم'!I8+'سه ماه چهارم'!I8 -> 0 | J8: ='سه ماهه سوم'!J8+'سه ماه چهارم'!J8 -> 0 | K8: ='سه ماهه سوم'!K8+'سه ماه چهارم'!K8 -> 0 | ... M8: ='سه ماهه سوم'!M8+'سه ماه چهارم'!M8 -> 0 | N8: =F8+G8+H8+I8+J8+K8+L8+M8 -> 0 | O8: ='سه ماهه سوم'!O8+'سه ماه چهارم'!O8 -> 0 | P8: ='سه ماهه سوم'!P8+'سه ماه چهارم'!P8 -> 0 | Q8: =O8+P8 -> 0 | R8: ='سه ماهه سوم'!R8+'سه ماه چهارم'!R8 -> 0 | S8: ='سه ماهه سوم'!S8+'سه ماه چهارم'!S8 -> 0 | T8: ='سه ماهه سوم'!T8+'سه ماه چهارم'!T8 -> 0 | U8: =R8+S8+T8 -> 0 | V8: ='سه ماهه سوم'!V8+'سه ماه چهارم'!V8 -> 0 | W8: ='سه ماهه سوم'!W8+'سه ماه چهارم'!W8 -> 0 | X8: =V8+W8 -> 0 | Y8: ='سه ماهه سوم'!Y8+'سه ماه چهارم'!Y8 -> 0 | Z8: ='سه ماهه سوم'!Z8+'سه ماه چهارم'!Z8 -> 0 | AA8: ='سه ماهه سوم'!AA8+'سه ماه چهارم'!AA8 -> 0 | AB8: ='سه ماهه سوم'!AB8+'سه ماه چهارم'!AB8 -> 0 | AC8: ='سه ماهه سوم'!AC8+'سه ماه چهارم'!AC8 -> 0
A9: 3 | B9: خانه بهداشت | C9: ایرانی | D9: ='سه ماهه سوم'!D9+'سه ماه چهارم'!D9 -> 0 | E9: ='سه ماهه سوم'!E9+'سه ماه چهارم'!E9 -> 0 | F9: ='سه ماهه سوم'!F9+'سه ماه چهارم'!F9 -> 0 | G9: ='سه ماهه سوم'!G9+'سه ماه چهارم'!G9 -> 0 | H9: ='سه ماهه سوم'!H9+'سه ماه چهارم'!H9 -> 0 | I9: ='سه ماهه سوم'!I9+'سه ماه چهارم'!I9 -> 0 | J9: ='سه ماهه سوم'!J9+'سه ماه چهارم'!J9 -> 0 | K9: ='سه ماهه سوم'!K9+'سه ماه چهارم'!K9 -> 0 | ... M9: ='سه ماهه سوم'!M9+'سه ماه چهارم'!M9 -> 0 | N9: =F9+G9+H9+I9+J9+K9+L9+M9 -> 0 | O9: ='سه ماهه سوم'!O9+'سه ماه چهارم'!O9 -> 0 | P9: ='سه ماهه سوم'!P9+'سه ماه چهارم'!P9 -> 0 | Q9: =O9+P9 -> 0 | R9: ='سه ماهه سوم'!R9+'سه ماه چهارم'!R9 -> 0 | S9: ='سه ماهه سوم'!S9+'سه ماه چهارم'!S9 -> 0 | T9: ='سه ماهه سوم'!T9+'سه ماه چهارم'!T9 -> 0 | U9: =R9+S9+T9 -> 0 | V9: ='سه ماهه سوم'!V9+'سه ماه چهارم'!V9 -> 0 | W9: ='سه ماهه سوم'!W9+'سه ماه چهارم'!W9 -> 0 | X9: =V9+W9 -> 0 | Y9: ='سه ماهه سوم'!Y9+'سه ماه چهارم'!Y9 -> 0 | Z9: ='سه ماهه سوم'!Z9+'سه ماه چهارم'!Z9 -> 0 | AA9: ='سه ماهه سوم'!AA9+'سه ماه چهارم'!AA9 -> 0 | AB9: ='سه ماهه سوم'!AB9+'سه ماه چهارم'!AB9 -> 0 | AC9: ='سه ماهه سوم'!AC9+'سه ماه چهارم'!AC9 -> 0
C10: افاغنه | D10: ='سه ماهه سوم'!D10+'سه ماه چهارم'!D10 -> 0 | E10: ='سه ماهه سوم'!E10+'سه ماه چهارم'!E10 -> 0 | F10: ='سه ماهه سوم'!F10+'سه ماه چهارم'!F10 -> 0 | G10: ='سه ماهه سوم'!G10+'سه ماه چهارم'!G10 -> 0 | H10: ='سه ماهه سوم'!H10+'سه ماه چهارم'!H10 -> 0 | I10: ='سه ماهه سوم'!I10+'سه ماه چهارم'!I10 -> 0 | J10: ='سه ماهه سوم'!J10+'سه ماه چهارم'!J10 -> 0 | K10: ='سه ماهه سوم'!K10+'سه ماه چهارم'!K10 -> 0 | ... M10: ='سه ماهه سوم'!M10+'سه ماه چهارم'!M10 -> 0 | N10: =F10+G10+H10+I10+J10+K10+L10+M10 -> 0 | O10: ='سه ماهه سوم'!O10+'سه ماه چهارم'!O10 -> 0 | P10: ='سه ماهه سوم'!P10+'سه ماه چهارم'!P10 -> 0 | Q10: =O10+P10 -> 0 | R10: ='سه ماهه سوم'!R10+'سه ماه چهارم'!R10 -> 0 | S10: ='سه ماهه سوم'!S10+'سه ماه چهارم'!S10 -> 0 | T10: ='سه ماهه سوم'!T10+'سه ماه چهارم'!T10 -> 0 | U10: =R10+S10+T10 -> 0 | V10: ='سه ماهه سوم'!V10+'سه ماه چهارم'!V10 -> 0 | W10: ='سه ماهه سوم'!W10+'سه ماه چهارم'!W10 -> 0 | X10: =V10+W10 -> 0 | Y10: ='سه ماهه سوم'!Y10+'سه ماه چهارم'!Y10 -> 0 | Z10: ='سه ماهه سوم'!Z10+'سه ماه چهارم'!Z10 -> 0 | AA10: ='سه ماهه سوم'!AA10+'سه ماه چهارم'!AA10 -> 0 | AB10: ='سه ماهه سوم'!AB10+'سه ماه چهارم'!AB10 -> 0 | AC10: ='سه ماهه سوم'!AC10+'سه ماه چهارم'!AC10 -> 0
A11: 4 | B11: خانه بهداشت | C11: ایرانی | D11: ='سه ماهه سوم'!D11+'سه ماه چهارم'!D11 -> 0 | E11: ='سه ماهه سوم'!E11+'سه ماه چهارم'!E11 -> 0 | F11: ='سه ماهه سوم'!F11+'سه ماه چهارم'!F11 -> 0 | G11: ='سه ماهه سوم'!G11+'سه ماه چهارم'!G11 -> 0 | H11: ='سه ماهه سوم'!H11+'سه ماه چهارم'!H11 -> 0 | I11: ='سه ماهه سوم'!I11+'سه ماه چهارم'!I11 -> 0 | J11: ='سه ماهه سوم'!J11+'سه ماه چهارم'!J11 -> 0 | K11: ='سه ماهه سوم'!K11+'سه ماه چهارم'!K11 -> 0 | ... M11: ='سه ماهه سوم'!M11+'سه ماه چهارم'!M11 -> 0 | N11: =F11+G11+H11+I11+J11+K11+L11+M11 -> 0 | O11: ='سه ماهه سوم'!O11+'سه ماه چهارم'!O11 -> 0 | P11: ='سه ماهه سوم'!P11+'سه ماه چهارم'!P11 -> 0 | Q11: =O11+P11 -> 0 | R11: ='سه ماهه سوم'!R11+'سه ماه چهارم'!R11 -> 0 | S11: ='سه ماهه سوم'!S11+'سه ماه چهارم'!S11 -> 0 | T11: ='سه ماهه سوم'!T11+'سه ماه چهارم'!T11 -> 0 | U11: =R11+S11+T11 -> 0 | V11: ='سه ماهه سوم'!V11+'سه ماه چهارم'!V11 -> 0 | W11: ='سه ماهه سوم'!W11+'سه ماه چهارم'!W11 -> 0 | X11: =V11+W11 -> 0 | Y11: ='سه ماهه سوم'!Y11+'سه ماه چهارم'!Y11 -> 0 | Z11: ='سه ماهه سوم'!Z11+'سه ماه چهارم'!Z11 -> 0 | AA11: ='سه ماهه سوم'!AA11+'سه ماه چهارم'!AA11 -> 0 | AB11: ='سه ماهه سوم'!AB11+'سه ماه چهارم'!AB11 -> 0 | AC11: ='سه ماهه سوم'!AC11+'سه ماه چهارم'!AC11 -> 0
C12: افاغنه | D12: ='سه ماهه سوم'!D12+'سه ماه چهارم'!D12 -> 0 | E12: ='سه ماهه سوم'!E12+'سه ماه چهارم'!E12 -> 0 | F12: ='سه ماهه سوم'!F12+'سه ماه چهارم'!F12 -> 0 | G12: ='سه ماهه سوم'!G12+'سه ماه چهارم'!G12 -> 0 | H12: ='سه ماهه سوم'!H12+'سه ماه چهارم'!H12 -> 0 | I12: ='سه ماهه سوم'!I12+'سه ماه چهارم'!I12 -> 0 | J12: ='سه ماهه سوم'!J12+'سه ماه چهارم'!J12 -> 0 | K12: ='سه ماهه سوم'!K12+'سه ماه چهارم'!K12 -> 0 | ... M12: ='سه ماهه سوم'!M12+'سه ماه چهارم'!M12 -> 0 | N12: =F12+G12+H12+I12+J12+K12+L12+M12 -> 0 | O12: ='سه ماهه سوم'!O12+'سه ماه چهارم'!O12 -> 0 | P12: ='سه ماهه سوم'!P12+'سه ماه چهارم'!P12 -> 0 | Q12: =O12+P12 -> 0 | R12: ='سه ماهه سوم'!R12+'سه ماه چهارم'!R12 -> 0 | S12: ='سه ماهه سوم'!S12+'سه ماه چهارم'!S12 -> 0 | T12: ='سه ماهه سوم'!T12+'سه ماه چهارم'!T12 -> 0 | U12: =R12+S12+T12 -> 0 | V12: ='سه ماهه سوم'!V12+'سه ماه چهارم'!V12 -> 0 | W12: ='سه ماهه سوم'!W12+'سه ماه چهارم'!W12 -> 0 | X12: =V12+W12 -> 0 | Y12: ='سه ماهه سوم'!Y12+'سه ماه چهارم'!Y12 -> 0 | Z12: ='سه ماهه سوم'!Z12+'سه ماه چهارم'!Z12 -> 0 | AA12: ='سه ماهه سوم'!AA12+'سه ماه چهارم'!AA12 -> 0 | AB12: ='سه ماهه سوم'!AB12+'سه ماه چهارم'!AB12 -> 0 | AC12: ='سه ماهه سوم'!AC12+'سه ماه چهارم'!AC12 -> 0
A13: 5 | B13: خانه بهداشت | C13: ایرانی | D13: ='سه ماهه سوم'!D13+'سه ماه چهارم'!D13 -> 0 | E13: ='سه ماهه سوم'!E13+'سه ماه چهارم'!E13 -> 0 | F13: ='سه ماهه سوم'!F13+'سه ماه چهارم'!F13 -> 0 | G13: ='سه ماهه سوم'!G13+'سه ماه چهارم'!G13 -> 0 | H13: ='سه ماهه سوم'!H13+'سه ماه چهارم'!H13 -> 0 | I13: ='سه ماهه سوم'!I13+'سه ماه چهارم'!I13 -> 0 | J13: ='سه ماهه سوم'!J13+'سه ماه چهارم'!J13 -> 0 | K13: ='سه ماهه سوم'!K13+'سه ماه چهارم'!K13 -> 0 | ... M13: ='سه ماهه سوم'!M13+'سه ماه چهارم'!M13 -> 0 | N13: =F13+G13+H13+I13+J13+K13+L13+M13 -> 0 | O13: ='سه ماهه سوم'!O13+'سه ماه چهارم'!O13 -> 0 | P13: ='سه ماهه سوم'!P13+'سه ماه چهارم'!P13 -> 0 | Q13: =O13+P13 -> 0 | R13: ='سه ماهه سوم'!R13+'سه ماه چهارم'!R13 -> 0 | S13: ='سه ماهه سوم'!S13+'سه ماه چهارم'!S13 -> 0 | T13: ='سه ماهه سوم'!T13+'سه ماه چهارم'!T13 -> 0 | U13: =R13+S13+T13 -> 0 | V13: ='سه ماهه سوم'!V13+'سه ماه چهارم'!V13 -> 0 | W13: ='سه ماهه سوم'!W13+'سه ماه چهارم'!W13 -> 0 | X13: =V13+W13 -> 0 | Y13: ='سه ماهه سوم'!Y13+'سه ماه چهارم'!Y13 -> 0 | Z13: ='سه ماهه سوم'!Z13+'سه ماه چهارم'!Z13 -> 0 | AA13: ='سه ماهه سوم'!AA13+'سه ماه چهارم'!AA13 -> 0 | AB13: ='سه ماهه سوم'!AB13+'سه ماه چهارم'!AB13 -> 0 | AC13: ='سه ماهه سوم'!AC13+'سه ماه چهارم'!AC13 -> 0
C14: افاغنه | D14: ='سه ماهه سوم'!D14+'سه ماه چهارم'!D14 -> 0 | E14: ='سه ماهه سوم'!E14+'سه ماه چهارم'!E14 -> 0 | F14: ='سه ماهه سوم'!F14+'سه ماه چهارم'!F14 -> 0 | G14: ='سه ماهه سوم'!G14+'سه ماه چهارم'!G14 -> 0 | H14: ='سه ماهه سوم'!H14+'سه ماه چهارم'!H14 -> 0 | I14: ='سه ماهه سوم'!I14+'سه ماه چهارم'!I14 -> 0 | J14: ='سه ماهه سوم'!J14+'سه ماه چهارم'!J14 -> 0 | K14: ='سه ماهه سوم'!K14+'سه ماه چهارم'!K14 -> 0 | ... M14: ='سه ماهه سوم'!M14+'سه ماه چهارم'!M14 -> 0 | N14: =F14+G14+H14+I14+J14+K14+L14+M14 -> 0 | O14: ='سه ماهه سوم'!O14+'سه ماه چهارم'!O14 -> 0 | P14: ='سه ماهه سوم'!P14+'سه ماه چهارم'!P14 -> 0 | Q14: =O14+P14 -> 0 | R14: ='سه ماهه سوم'!R14+'سه ماه چهارم'!R14 -> 0 | S14: ='سه ماهه سوم'!S14+'سه ماه چهارم'!S14 -> 0 | T14: ='سه ماهه سوم'!T14+'سه ماه چهارم'!T14 -> 0 | U14: =R14+S14+T14 -> 0 | V14: ='سه ماهه سوم'!V14+'سه ماه چهارم'!V14 -> 0 | W14: ='سه ماهه سوم'!W14+'سه ماه چهارم'!W14 -> 0 | X14: =V14+W14 -> 0 | Y14: ='سه ماهه سوم'!Y14+'سه ماه چهارم'!Y14 -> 0 | Z14: ='سه ماهه سوم'!Z14+'سه ماه چهارم'!Z14 -> 0 | AA14: ='سه ماهه سوم'!AA14+'سه ماه چهارم'!AA14 -> 0 | AB14: ='سه ماهه سوم'!AB14+'سه ماه چهارم'!AB14 -> 0 | AC14: ='سه ماهه سوم'!AC14+'سه ماه چهارم'!AC14 -> 0
A15: 6 | B15: جمع کل | C15: ایرانی | D15: =D5+D7+D9+D11+D13 -> 0 | E15: =E5+E7+E9+E11+E13 -> 0 | F15: =F5+F7+F9+F11+F13 -> 0 | G15: =G5+G7+G9+G11+G13 -> 0 | H15: =H5+H7+H9+H11+H13 -> 0 | I15: =I5+I7+I9+I11+I13 -> 0 | J15: =J5+J7+J9+J11+J13 -> 0 | K15: =K5+K7+K9+K11+K13 -> 0 | ... AC15: =AC5+AC7+AC9+AC11+AC13 -> 0
C16: افاغنه | D16: =D6+D8+D10+D12+D14 -> 0 | F16: =F6+F8+F10+F12+F14 -> 0 | G16: =G6+G8+G10+G12+G14 -> 0 | H16: =H6+H8+H10+H12+H14 -> 0 | I16: =I6+I8+I10+I12+I14 -> 0 | J16: =J6+J8+J10+J12+J14 -> 0 | K16: =K6+K8+K10+K12+K14 -> 0 | L16: =L6+L8+L10+L12+L14 -> 0 | M16: =M6+M8+M10+M12+M14 -> 0 | ... AC16: =AC6+AC8+AC10+AC12+AC14 -> 0

Sheet 12ماهه
B1: فعاليت هاي اجرايي مراكزبهداشتي ودرماني ............. در زمينه غربالگري و شناسايي موارد آلوده به شپش سال
A2: ردیف | B2: فـــــــــــعـــــــالـــــیـــــت مـــــــرکــــــز
D3: تعداد افراد | E3: تعداد افراد | F3: زن | J3: مرد | N3: جمع کل | O3: محل سكونت | R3: نوع شپش | U3: سابقه آلودگي | Y3: نوع درمان
D4: معاينه شده | E4: آلوده | F4: زير 6 سال | G4: 6تا 12 سال | H4: 13تا18سال | I4: بالايي 18 سال | J4: زير 6 سال | K4: 6تا 12 سال | L4: 13تا18سال | M4: بالايي 18 سال | O4: روستا | P4: شهر | Q4: جمع کل | R4: سر | S4: تن | T4: عانه | U4: جمع کل | V4: دارد | W4: ندارد | X4: جمع کل | Y4: شامپو پرمترین | Z4: لوسیون دایمتیکون | AA4: کرم پرمترین | AB4: لوسیون لیندان | AC4: اسپری درمین
A5: 1 | B5: خانه بهداشت | C5: ایرانی | D5: ='ششماه اول'!D5+'شش ماهه دوم'!D5 -> 0 | E5: ='ششماه اول'!E5+'شش ماهه دوم'!E5 -> 0 | F5: ='ششماه اول'!F5+'شش ماهه دوم'!F5 -> 0 | G5: ='ششماه اول'!G5+'شش ماهه دوم'!G5 -> 0 | H5: ='ششماه اول'!H5+'شش ماهه دوم'!H5 -> 0 | I5: ='ششماه اول'!I5+'شش ماهه دوم'!I5 -> 0 | J5: ='ششماه اول'!J5+'شش ماهه دوم'!J5 -> 0 | K5: ='ششماه اول'!K5+'شش ماهه دوم'!K5 -> 0 | ... M5: ='ششماه اول'!M5+'شش ماهه دوم'!M5 -> 0 | N5: =F5+G5+H5+I5+J5+K5+L5+M5 -> 0 | O5: ='ششماه اول'!O5+'شش ماهه دوم'!O5 -> 0 | P5: ='ششماه اول'!P5+'شش ماهه دوم'!P5 -> 0 | Q5: =O5+P5 -> 0 | R5: ='ششماه اول'!R5+'شش ماهه دوم'!R5 -> 0 | S5: ='ششماه اول'!S5+'شش ماهه دوم'!S5 -> 0 | T5: ='ششماه اول'!T5+'شش ماهه دوم'!T5 -> 0 | U5: =R5+S5+T5 -> 0 | V5: ='ششماه اول'!V5+'شش ماهه دوم'!V5 -> 0 | W5: ='ششماه اول'!W5+'شش ماهه دوم'!W5 -> 0 | X5: =V5+W5 -> 0 | Y5: ='ششماه اول'!Y5+'شش ماهه دوم'!Y5 -> 0 | Z5: ='ششماه اول'!Z5+'شش ماهه دوم'!Z5 -> 0 | AA5: ='ششماه اول'!AA5+'شش ماهه دوم'!AA5 -> 0 | AB5: ='ششماه اول'!AB5+'شش ماهه دوم'!AB5 -> 0 | AC5: ='ششماه اول'!AC5+'شش ماهه دوم'!AC5 -> 0
C6: افاغنه | D6: ='ششماه اول'!D6+'شش ماهه دوم'!D6 -> 0 | E6: ='ششماه اول'!E6+'شش ماهه دوم'!E6 -> 0 | F6: ='ششماه اول'!F6+'شش ماهه دوم'!F6 -> 0 | G6: ='ششماه اول'!G6+'شش ماهه دوم'!G6 -> 0 | H6: ='ششماه اول'!H6+'شش ماهه دوم'!H6 -> 0 | I6: ='ششماه اول'!I6+'شش ماهه دوم'!I6 -> 0 | J6: ='ششماه اول'!J6+'شش ماهه دوم'!J6 -> 0 | K6: ='ششماه اول'!K6+'شش ماهه دوم'!K6 -> 0 | ... M6: ='ششماه اول'!M6+'شش ماهه دوم'!M6 -> 0 | N6: =F6+G6+H6+I6+J6+K6+L6+M6 -> 0 | O6: ='ششماه اول'!O6+'شش ماهه دوم'!O6 -> 0 | P6: ='ششماه اول'!P6+'شش ماهه دوم'!P6 -> 0 | Q6: =O6+P6 -> 0 | R6: ='ششماه اول'!R6+'شش ماهه دوم'!R6 -> 0 | S6: ='ششماه اول'!S6+'شش ماهه دوم'!S6 -> 0 | T6: ='ششماه اول'!T6+'شش ماهه دوم'!T6 -> 0 | U6: =R6+S6+T6 -> 0 | V6: ='ششماه اول'!V6+'شش ماهه دوم'!V6 -> 0 | W6: ='ششماه اول'!W6+'شش ماهه دوم'!W6 -> 0 | X6: =V6+W6 -> 0 | Y6: ='ششماه اول'!Y6+'شش ماهه دوم'!Y6 -> 0 | Z6: ='ششماه اول'!Z6+'شش ماهه دوم'!Z6 -> 0 | AA6: ='ششماه اول'!AA6+'شش ماهه دوم'!AA6 -> 0 | AB6: ='ششماه اول'!AB6+'شش ماهه دوم'!AB6 -> 0 | AC6: ='ششماه اول'!AC6+'شش ماهه دوم'!AC6 -> 0
A7: 2 | B7: خانه بهداشت | C7: ایرانی | D7: ='ششماه اول'!D7+'شش ماهه دوم'!D7 -> 0 | E7: ='ششماه اول'!E7+'شش ماهه دوم'!E7 -> 0 | F7: ='ششماه اول'!F7+'شش ماهه دوم'!F7 -> 0 | G7: ='ششماه اول'!G7+'شش ماهه دوم'!G7 -> 0 | H7: ='ششماه اول'!H7+'شش ماهه دوم'!H7 -> 0 | I7: ='ششماه اول'!I7+'شش ماهه دوم'!I7 -> 0 | J7: ='ششماه اول'!J7+'شش ماهه دوم'!J7 -> 0 | K7: ='ششماه اول'!K7+'شش ماهه دوم'!K7 -> 0 | ... M7: ='ششماه اول'!M7+'شش ماهه دوم'!M7 -> 0 | N7: =F7+G7+H7+I7+J7+K7+L7+M7 -> 0 | O7: ='ششماه اول'!O7+'شش ماهه دوم'!O7 -> 0 | P7: ='ششماه اول'!P7+'شش ماهه دوم'!P7 -> 0 | Q7: =O7+P7 -> 0 | R7: ='ششماه اول'!R7+'شش ماهه دوم'!R7 -> 0 | S7: ='ششماه اول'!S7+'شش ماهه دوم'!S7 -> 0 | T7: ='ششماه اول'!T7+'شش ماهه دوم'!T7 -> 0 | U7: =R7+S7+T7 -> 0 | V7: ='ششماه اول'!V7+'شش ماهه دوم'!V7 -> 0 | W7: ='ششماه اول'!W7+'شش ماهه دوم'!W7 -> 0 | X7: =V7+W7 -> 0 | Y7: ='ششماه اول'!Y7+'شش ماهه دوم'!Y7 -> 0 | Z7: ='ششماه اول'!Z7+'شش ماهه دوم'!Z7 -> 0 | AA7: ='ششماه اول'!AA7+'شش ماهه دوم'!AA7 -> 0 | AB7: ='ششماه اول'!AB7+'شش ماهه دوم'!AB7 -> 0 | AC7: ='ششماه اول'!AC7+'شش ماهه دوم'!AC7 -> 0
C8: افاغنه | D8: ='ششماه اول'!D8+'شش ماهه دوم'!D8 -> 0 | E8: ='ششماه اول'!E8+'شش ماهه دوم'!E8 -> 0 | F8: ='ششماه اول'!F8+'شش ماهه دوم'!F8 -> 0 | G8: ='ششماه اول'!G8+'شش ماهه دوم'!G8 -> 0 | H8: ='ششماه اول'!H8+'شش ماهه دوم'!H8 -> 0 | I8: ='ششماه اول'!I8+'شش ماهه دوم'!I8 -> 0 | J8: ='ششماه اول'!J8+'شش ماهه دوم'!J8 -> 0 | K8: ='ششماه اول'!K8+'شش ماهه دوم'!K8 -> 0 | ... M8: ='ششماه اول'!M8+'شش ماهه دوم'!M8 -> 0 | N8: =F8+G8+H8+I8+J8+K8+L8+M8 -> 0 | O8: ='ششماه اول'!O8+'شش ماهه دوم'!O8 -> 0 | P8: ='ششماه اول'!P8+'شش ماهه دوم'!P8 -> 0 | Q8: =O8+P8 -> 0 | R8: ='ششماه اول'!R8+'شش ماهه دوم'!R8 -> 0 | S8: ='ششماه اول'!S8+'شش ماهه دوم'!S8 -> 0 | T8: ='ششماه اول'!T8+'شش ماهه دوم'!T8 -> 0 | U8: =R8+S8+T8 -> 0 | V8: ='ششماه اول'!V8+'شش ماهه دوم'!V8 -> 0 | W8: ='ششماه اول'!W8+'شش ماهه دوم'!W8 -> 0 | X8: =V8+W8 -> 0 | Y8: ='ششماه اول'!Y8+'شش ماهه دوم'!Y8 -> 0 | Z8: ='ششماه اول'!Z8+'شش ماهه دوم'!Z8 -> 0 | AA8: ='ششماه اول'!AA8+'شش ماهه دوم'!AA8 -> 0 | AB8: ='ششماه اول'!AB8+'شش ماهه دوم'!AB8 -> 0 | AC8: ='ششماه اول'!AC8+'شش ماهه دوم'!AC8 -> 0
A9: 3 | B9: خانه بهداشت | C9: ایرانی | D9: ='ششماه اول'!D9+'شش ماهه دوم'!D9 -> 0 | E9: ='ششماه اول'!E9+'شش ماهه دوم'!E9 -> 0 | F9: ='ششماه اول'!F9+'شش ماهه دوم'!F9 -> 0 | G9: ='ششماه اول'!G9+'شش ماهه دوم'!G9 -> 0 | H9: ='ششماه اول'!H9+'شش ماهه دوم'!H9 -> 0 | I9: ='ششماه اول'!I9+'شش ماهه دوم'!I9 -> 0 | J9: ='ششماه اول'!J9+'شش ماهه دوم'!J9 -> 0 | K9: ='ششماه اول'!K9+'شش ماهه دوم'!K9 -> 0 | ... M9: ='ششماه اول'!M9+'شش ماهه دوم'!M9 -> 0 | N9: =F9+G9+H9+I9+J9+K9+L9+M9 -> 0 | O9: ='ششماه اول'!O9+'شش ماهه دوم'!O9 -> 0 | P9: ='ششماه اول'!P9+'شش ماهه دوم'!P9 -> 0 | Q9: =O9+P9 -> 0 | R9: ='ششماه اول'!R9+'شش ماهه دوم'!R9 -> 0 | S9: ='ششماه اول'!S9+'شش ماهه دوم'!S9 -> 0 | T9: ='ششماه اول'!T9+'شش ماهه دوم'!T9 -> 0 | U9: =R9+S9+T9 -> 0 | V9: ='ششماه اول'!V9+'شش ماهه دوم'!V9 -> 0 | W9: ='ششماه اول'!W9+'شش ماهه دوم'!W9 -> 0 | X9: =V9+W9 -> 0 | Y9: ='ششماه اول'!Y9+'شش ماهه دوم'!Y9 -> 0 | Z9: ='ششماه اول'!Z9+'شش ماهه دوم'!Z9 -> 0 | AA9: ='ششماه اول'!AA9+'شش ماهه دوم'!AA9 -> 0 | AB9: ='ششماه اول'!AB9+'شش ماهه دوم'!AB9 -> 0 | AC9: ='ششماه اول'!AC9+'شش ماهه دوم'!AC9 -> 0
C10: افاغنه | D10: ='ششماه اول'!D10+'شش ماهه دوم'!D10 -> 0 | E10: ='ششماه اول'!E10+'شش ماهه دوم'!E10 -> 0 | F10: ='ششماه اول'!F10+'شش ماهه دوم'!F10 -> 0 | G10: ='ششماه اول'!G10+'شش ماهه دوم'!G10 -> 0 | H10: ='ششماه اول'!H10+'شش ماهه دوم'!H10 -> 0 | I10: ='ششماه اول'!I10+'شش ماهه دوم'!I10 -> 0 | J10: ='ششماه اول'!J10+'شش ماهه دوم'!J10 -> 0 | K10: ='ششماه اول'!K10+'شش ماهه دوم'!K10 -> 0 | ... M10: ='ششماه اول'!M10+'شش ماهه دوم'!M10 -> 0 | N10: =F10+G10+H10+I10+J10+K10+L10+M10 -> 0 | O10: ='ششماه اول'!O10+'شش ماهه دوم'!O10 -> 0 | P10: ='ششماه اول'!P10+'شش ماهه دوم'!P10 -> 0 | Q10: =O10+P10 -> 0 | R10: ='ششماه اول'!R10+'شش ماهه دوم'!R10 -> 0 | S10: ='ششماه اول'!S10+'شش ماهه دوم'!S10 -> 0 | T10: ='ششماه اول'!T10+'شش ماهه دوم'!T10 -> 0 | U10: =R10+S10+T10 -> 0 | V10: ='ششماه اول'!V10+'شش ماهه دوم'!V10 -> 0 | W10: ='ششماه اول'!W10+'شش ماهه دوم'!W10 -> 0 | X10: =V10+W10 -> 0 | Y10: ='ششماه اول'!Y10+'شش ماهه دوم'!Y10 -> 0 | Z10: ='ششماه اول'!Z10+'شش ماهه دوم'!Z10 -> 0 | AA10: ='ششماه اول'!AA10+'شش ماهه دوم'!AA10 -> 0 | AB10: ='ششماه اول'!AB10+'شش ماهه دوم'!AB10 -> 0 | AC10: ='ششماه اول'!AC10+'شش ماهه دوم'!AC10 -> 0
A11: 4 | B11: خانه بهداشت | C11: ایرانی | D11: ='ششماه اول'!D11+'شش ماهه دوم'!D11 -> 0 | E11: ='ششماه اول'!E11+'شش ماهه دوم'!E11 -> 0 | F11: ='ششماه اول'!F11+'شش ماهه دوم'!F11 -> 0 | G11: ='ششماه اول'!G11+'شش ماهه دوم'!G11 -> 0 | H11: ='ششماه اول'!H11+'شش ماهه دوم'!H11 -> 0 | I11: ='ششماه اول'!I11+'شش ماهه دوم'!I11 -> 0 | J11: ='ششماه اول'!J11+'شش ماهه دوم'!J11 -> 0 | K11: ='ششماه اول'!K11+'شش ماهه دوم'!K11 -> 0 | ... M11: ='ششماه اول'!M11+'شش ماهه دوم'!M11 -> 0 | N11: =F11+G11+H11+I11+J11+K11+L11+M11 -> 0 | O11: ='ششماه اول'!O11+'شش ماهه دوم'!O11 -> 0 | P11: ='ششماه اول'!P11+'شش ماهه دوم'!P11 -> 0 | Q11: =O11+P11 -> 0 | R11: ='ششماه اول'!R11+'شش ماهه دوم'!R11 -> 0 | S11: ='ششماه اول'!S11+'شش ماهه دوم'!S11 -> 0 | T11: ='ششماه اول'!T11+'شش ماهه دوم'!T11 -> 0 | U11: =R11+S11+T11 -> 0 | V11: ='ششماه اول'!V11+'شش ماهه دوم'!V11 -> 0 | W11: ='ششماه اول'!W11+'شش ماهه دوم'!W11 -> 0 | X11: =V11+W11 -> 0 | Y11: ='ششماه اول'!Y11+'شش ماهه دوم'!Y11 -> 0 | Z11: ='ششماه اول'!Z11+'شش ماهه دوم'!Z11 -> 0 | AA11: ='ششماه اول'!AA11+'شش ماهه دوم'!AA11 -> 0 | AB11: ='ششماه اول'!AB11+'شش ماهه دوم'!AB11 -> 0 | AC11: ='ششماه اول'!AC11+'شش ماهه دوم'!AC11 -> 0
C12: افاغنه | D12: ='ششماه اول'!D12+'شش ماهه دوم'!D12 -> 0 | E12: ='ششماه اول'!E12+'شش ماهه دوم'!E12 -> 0 | F12: ='ششماه اول'!F12+'شش ماهه دوم'!F12 -> 0 | G12: ='ششماه اول'!G12+'شش ماهه دوم'!G12 -> 0 | H12: ='ششماه اول'!H12+'شش ماهه دوم'!H12 -> 0 | I12: ='ششماه اول'!I12+'شش ماهه دوم'!I12 -> 0 | J12: ='ششماه اول'!J12+'شش ماهه دوم'!J12 -> 0 | K12: ='ششماه اول'!K12+'شش ماهه دوم'!K12 -> 0 | ... M12: ='ششماه اول'!M12+'شش ماهه دوم'!M12 -> 0 | N12: =F12+G12+H12+I12+J12+K12+L12+M12 -> 0 | O12: ='ششماه اول'!O12+'شش ماهه دوم'!O12 -> 0 | P12: ='ششماه اول'!P12+'شش ماهه دوم'!P12 -> 0 | Q12: =O12+P12 -> 0 | R12: ='ششماه اول'!R12+'شش ماهه دوم'!R12 -> 0 | S12: ='ششماه اول'!S12+'شش ماهه دوم'!S12 -> 0 | T12: ='ششماه اول'!T12+'شش ماهه دوم'!T12 -> 0 | U12: =R12+S12+T12 -> 0 | V12: ='ششماه اول'!V12+'شش ماهه دوم'!V12 -> 0 | W12: ='ششماه اول'!W12+'شش ماهه دوم'!W12 -> 0 | X12: =V12+W12 -> 0 | Y12: ='ششماه اول'!Y12+'شش ماهه دوم'!Y12 -> 0 | Z12: ='ششماه اول'!Z12+'شش ماهه دوم'!Z12 -> 0 | AA12: ='ششماه اول'!AA12+'شش ماهه دوم'!AA12 -> 0 | AB12: ='ششماه اول'!AB12+'شش ماهه دوم'!AB12 -> 0 | AC12: ='ششماه اول'!AC12+'شش ماهه دوم'!AC12 -> 0
A13: 5 | B13: خانه بهداشت | C13: ایرانی | D13: ='ششماه اول'!D13+'شش ماهه دوم'!D13 -> 0 | E13: ='ششماه اول'!E13+'شش ماهه دوم'!E13 -> 0 | F13: ='ششماه اول'!F13+'شش ماهه دوم'!F13 -> 0 | G13: ='ششماه اول'!G13+'شش ماهه دوم'!G13 -> 0 | H13: ='ششماه اول'!H13+'شش ماهه دوم'!H13 -> 0 | I13: ='ششماه اول'!I13+'شش ماهه دوم'!I13 -> 0 | J13: ='ششماه اول'!J13+'شش ماهه دوم'!J13 -> 0 | K13: ='ششماه اول'!K13+'شش ماهه دوم'!K13 -> 0 | ... M13: ='ششماه اول'!M13+'شش ماهه دوم'!M13 -> 0 | N13: =F13+G13+H13+I13+J13+K13+L13+M13 -> 0 | O13: ='ششماه اول'!O13+'شش ماهه دوم'!O13 -> 0 | P13: ='ششماه اول'!P13+'شش ماهه دوم'!P13 -> 0 | Q13: =O13+P13 -> 0 | R13: ='ششماه اول'!R13+'شش ماهه دوم'!R13 -> 0 | S13: ='ششماه اول'!S13+'شش ماهه دوم'!S13 -> 0 | T13: ='ششماه اول'!T13+'شش ماهه دوم'!T13 -> 0 | U13: =R13+S13+T13 -> 0 | V13: ='ششماه اول'!V13+'شش ماهه دوم'!V13 -> 0 | W13: ='ششماه اول'!W13+'شش ماهه دوم'!W13 -> 0 | X13: =V13+W13 -> 0 | Y13: ='ششماه اول'!Y13+'شش ماهه دوم'!Y13 -> 0 | Z13: ='ششماه اول'!Z13+'شش ماهه دوم'!Z13 -> 0 | AA13: ='ششماه اول'!AA13+'شش ماهه دوم'!AA13 -> 0 | AB13: ='ششماه اول'!AB13+'شش ماهه دوم'!AB13 -> 0 | AC13: ='ششماه اول'!AC13+'شش ماهه دوم'!AC13 -> 0
C14: افاغنه | D14: ='ششماه اول'!D14+'شش ماهه دوم'!D14 -> 0 | E14: ='ششماه اول'!E14+'شش ماهه دوم'!E14 -> 0 | F14: ='ششماه اول'!F14+'شش ماهه دوم'!F14 -> 0 | G14: ='ششماه اول'!G14+'شش ماهه دوم'!G14 -> 0 | H14: ='ششماه اول'!H14+'شش ماهه دوم'!H14 -> 0 | I14: ='ششماه اول'!I14+'شش ماهه دوم'!I14 -> 0 | J14: ='ششماه اول'!J14+'شش ماهه دوم'!J14 -> 0 | K14: ='ششماه اول'!K14+'شش ماهه دوم'!K14 -> 0 | ... M14: ='ششماه اول'!M14+'شش ماهه دوم'!M14 -> 0 | N14: =F14+G14+H14+I14+J14+K14+L14+M14 -> 0 | O14: ='ششماه اول'!O14+'شش ماهه دوم'!O14 -> 0 | P14: ='ششماه اول'!P14+'شش ماهه دوم'!P14 -> 0 | Q14: =O14+P14 -> 0 | R14: ='ششماه اول'!R14+'شش ماهه دوم'!R14 -> 0 | S14: ='ششماه اول'!S14+'شش ماهه دوم'!S14 -> 0 | T14: ='ششماه اول'!T14+'شش ماهه دوم'!T14 -> 0 | U14: =R14+S14+T14 -> 0 | V14: ='ششماه اول'!V14+'شش ماهه دوم'!V14 -> 0 | W14: ='ششماه اول'!W14+'شش ماهه دوم'!W14 -> 0 | X14: =V14+W14 -> 0 | Y14: ='ششماه اول'!Y14+'شش ماهه دوم'!Y14 -> 0 | Z14: ='ششماه اول'!Z14+'شش ماهه دوم'!Z14 -> 0 | AA14: ='ششماه اول'!AA14+'شش ماهه دوم'!AA14 -> 0 | AB14: ='ششماه اول'!AB14+'شش ماهه دوم'!AB14 -> 0 | AC14: ='ششماه اول'!AC14+'شش ماهه دوم'!AC14 -> 0
A15: 6 | B15: جمع کل | C15: ایرانی | D15: =D5+D7+D9+D11+D13 -> 0 | E15: =E5+E7+E9+E11+E13 -> 0 | F15: =F5+F7+F9+F11+F13 -> 0 | G15: =G5+G7+G9+G11+G13 -> 0 | H15: =H5+H7+H9+H11+H13 -> 0 | I15: =I5+I7+I9+I11+I13 -> 0 | J15: =J5+J7+J9+J11+J13 -> 0 | K15: =K5+K7+K9+K11+K13 -> 0 | ... AC15: =AC5+AC7+AC9+AC11+AC13 -> 0
C16: افاغنه | D16: =D6+D8+D10+D12+D14 -> 0 | E16: =E6+E8+E10+E12+E14 -> 0 | F16: =F6+F8+F10+F12+F14 -> 0 | G16: =G6+G8+G10+G12+G14 -> 0 | H16: =H6+H8+H10+H12+H14 -> 0 | I16: =I6+I8+I10+I12+I14 -> 0 | J16: =J6+J8+J10+J12+J14 -> 0 | K16: =K6+K8+K10+K12+K14 -> 0 | ... AC16: =AC6+AC8+AC10+AC12+AC14 -> 0
